{"text_format":"1","workbook":"xlsx","n_sheets":9,"sheets":["U10組合せ","U10対戦スケジュール","●","対戦表（Ａブロック）","対戦表（Bブロック）","対戦表（Cブロック）","■","Ａ～Ｃブロック星取表","U１０順位 "],"not_rendered":{"charts":0,"images":0,"macros":1,"external_links":0,"defined_names":7,"comments":1,"pivot_tables":0},"unopened":[],"bounds":{"document_bytes":16777216,"sheet_cells":100000,"rows_first":2000,"rows_last":500,"rows_between":2000,"halvings":0,"cell_chars":16384,"cell_head_chars":4096},"cells_cut":0,"cells_raw":0,"read":"whole","date_system":"1900"}

{"sheet":"U10組合せ","index":0,"n_rows":64,"n_cols":10,"rows_kept":64,"cut":false,"hidden":false,"merged":[[37,5,37,6],[27,0,29,2],[27,3,29,4],[27,5,27,7],[28,5,28,7],[30,5,30,7],[31,5,31,7],[32,5,32,7],[35,5,35,6],[36,5,36,6],[22,8,23,8],[23,5,23,7],[28,8,29,8],[29,5,29,7],[24,0,26,2],[24,3,26,4],[24,5,24,7],[25,5,25,7],[25,8,26,8],[26,5,26,7],[19,4,19,5],[19,6,19,7],[21,0,23,2],[21,3,23,4],[21,5,21,7],[22,5,22,7],[13,0,13,1],[13,2,13,3],[13,4,13,5],[13,6,13,7],[14,0,14,1],[14,2,14,3],[14,4,14,5],[14,6,14,7],[11,0,11,1],[11,2,11,3],[11,4,11,5],[11,6,11,7],[12,0,12,1],[12,2,12,3],[12,4,12,5],[12,6,12,7],[9,0,9,1],[9,2,9,3],[9,4,9,5],[9,6,9,7],[10,0,10,1],[10,2,10,3],[10,4,10,5],[10,6,10,7],[7,0,7,1],[7,2,7,3],[7,4,7,5],[7,6,7,7],[8,0,8,1],[8,2,8,3],[8,4,8,5],[8,6,8,7],[5,0,5,1],[5,2,5,3],[5,4,5,5],[5,6,5,7],[6,0,6,1],[6,2,6,3],[6,4,6,5],[6,6,6,7],[0,0,0,8],[1,0,1,8],[2,0,4,1],[2,2,2,3],[2,4,2,5],[2,6,2,7],[2,8,3,8],[3,2,3,3],[3,4,3,5],[3,6,3,7],[4,2,4,3],[4,4,4,5],[4,6,4,7]]}
["ＪＦＡ　Ｕ-１０サッカーリーグ2018（in栃木） 宇河地域リーグ戦（後期）"]
["ブロック別　組合せ・日程 ・ 会場一覧"]
[null,null,"Ａ ブロック",null,"Ｂ ブロック",null,"Ｃ ブロック",null,"備　考"]
[null,null,"（10チーム）",null,"（９チーム）",null,"（９チーム）"]
[null,null,null,null,null,null,null,null,"会場チーム"]
["１",null,"ＳＵＧＡＯ ＳＣ",null,"陽東ＳＳＳ",null,"Ｓ４スペランツァ"]
["２",null,"ＦＣアネーロ宇都宮 U10",null,"姿川第一ＦＣ",null,"みはらＳＣ Ｊｒ"]
["３",null,"ＦＣアリーバ",null,"豊郷ＪＦＣ宇都宮",null,"ＦＣグラシアス"]
["４",null,"雀宮ＦＣ",null,"石井ＦＣ",null,"サウス宇都宮ＳＣ"]
["５",null,"ブラッドレスＳＳ",null,"シャルムグランツＳＣ",null,"ＦＣグランディール宇都宮"]
["６",null,"上河内ＪＳＣ",null,"ｕｎｉｏｎ ｓｃ",null,"昭和・戸祭ＳＣ"]
["７",null,"清原ＳＳＳ",null,"ＦＣブロケード",null,"カテット白沢ＳＳ"]
["８",null,"緑が丘ＹＦＣ",null,"栃木ＳＣジュニア",null,"宇都宮北部ＦＣトレ"]
["９",null,"ＦＣペンサーレ",null,"国本ＪＳＣ",null,"ともぞうＳＣ U10"]
["１０",null,"富士見ＳＳＳ"]
["2018-09-02","日","１節","陽南小","１節","陽東小","１節","雀宮南小"]
["2018-09-08","土","2節","陽南小","2節","陽東小","2節","雀宮南小"]
["2018-09-09","日","3節","清原東小","3節","豊郷北小","3節","雀宮南小"]
["2018-09-17","月","4節","陽南小","4節","豊郷北小","4節","雀宮南小"]
["2018-09-23","日","5節","陽南小"]
[]
["Ａ　ブロック\n運営責任者",null,null,"池田　澄也\n（南部地区副代表）\n緑が丘ＹＦＣ",null," 〒３２０－０８３４",null,null," 連絡先"]
[null,null,null,null,null," 宇都宮市陽南２－１１－７",null,null,"０８０-７９４０-５５４８"]
[null,null,null,null,null," sumyno5@ybb.ne.jp"]
["Ｂ　ブロック\n運営責任者",null,null,"今野　学\n（東部地区副代表）\n陽東ＳＳＳ",null," 〒３２1－０９４２",null,null," 連絡先"]
[null,null,null,null,null," 宇都宮市峰２－１２－１７",null,null,"０９０-４８１４-８０２５"]
[null,null,null,null,null," sp6b6au9@polka.ocn.ne.jp"]
["Ｃ　ブロック\n運営責任者",null,null,"池田　澄也\n（南部地区副代表）\n緑が丘ＹＦＣ",null," 〒３２０－０８３４",null,null," 連絡先"]
[null,null,null,null,null," 宇都宮市陽南２－１１－７",null,null,"０８０-７９４０-５５４８"]
[null,null,null,null,null," sumyno5@ybb.ne.jp"]
[null,null,5,"2017-05-20","土","白沢A・B"]
[null,null,6,"2017-05-21","日","白沢A・B"]
[null,null,"予備日","2017-05-27","土","白沢A・B",null,null,null,"４節"]
[]
[null,null,"９チームブロック：３６試合消化"]
[null,null,null,null,null,"１節",null,"２節",null,1]
[null,null,null,null,"日程",null,null,null,null,2]
[null,null,null,null,"会場",null,null,null,null,3]
[null,null,1,"09:00:00","09:45:00",1,2,1,4,4]
[null,null,2,"09:50:00","10:35:00",3,4,2,5,5]
[null,null,3,"10:40:00","11:25:00",5,6,3,6,1]
[null,null,4,"11:30:00","12:15:00",7,8,4,7,2]
[null,null,5,"12:20:00","13:05:00",1,9,5,8,3]
[null,null,6,"13:10:00","13:55:00",2,3,6,9,4]
[null,null,7,"14:00:00","14:45:00",4,5,7,7]
[null,null,8,"14:50:00","15:35:00",6,7,1,8]
[null,null,9,"15:40:00","16:25:00",8,9,2,9,"４節"]
[]
[null,null,"１０チームブロック：４５試合消化"]
[null,null,null,null,null,"１節",null,"２節",null,1]
[null,null,null,null,"日程",null,null,null,null,2]
[null,null,null,null,"会場",null,null,null,null,3]
[null,null,1,"09:00:00","09:45:00",1,2,2,4,4]
[null,null,2,"09:50:00","10:35:00",3,4,4,5,5]
[null,null,3,"10:40:00","11:25:00",5,6,6,6,6]
[null,null,4,"11:30:00","12:15:00",7,8,8,7,1]
[null,null,5,"12:20:00","13:05:00",9,10,1,8,2]
[null,null,6,"13:10:00","13:55:00",1,3,3,9,3]
[null,null,7,"14:00:00","14:45:00",2,4,4,10]
[null,null,8,"14:50:00","15:35:00",5,7,7,9]
[null,null,9,"15:40:00","16:25:00",6,8,8,10]
[]
[null,null,null,null,null,null,"は１日１試合"]
[null,null,null,null,null,"試合順は効率よく変更する"]

{"sheet":"U10対戦スケジュール","index":1,"n_rows":56,"n_cols":12,"rows_kept":56,"cut":false,"hidden":false,"merged":[[45,2,45,3],[45,4,45,5],[45,6,45,7],[45,8,45,9],[46,2,46,3],[46,4,46,5],[46,6,46,7],[46,8,46,9],[43,2,43,3],[43,4,43,5],[43,6,43,7],[43,8,43,9],[44,2,44,3],[44,4,44,5],[44,6,44,7],[44,8,44,9],[30,2,30,3],[30,4,30,5],[30,6,30,7],[30,8,30,9],[31,2,31,3],[31,4,31,5],[31,6,31,7],[31,8,31,9],[28,2,28,3],[28,4,28,5],[28,6,28,7],[28,8,28,9],[29,2,29,3],[29,4,29,5],[29,6,29,7],[29,8,29,9],[19,2,19,3],[19,4,19,5],[19,6,19,7],[19,8,19,9],[20,2,20,5],[20,6,20,9],[18,2,18,5],[18,6,18,9],[6,2,6,5],[6,6,6,9],[6,10,6,11],[7,2,7,3],[7,4,7,5],[7,6,7,7],[7,8,7,9],[7,10,7,11],[8,2,8,5],[8,6,8,9],[8,10,8,11],[17,2,17,5],[17,6,17,9],[1,1,2,11],[3,3,3,9],[4,1,4,2],[5,2,5,5],[5,6,5,9],[5,10,5,11]]}
[]
[null,"ＪＦＡ　Ｕ-１０サッカーリーグ2018（in栃木） 宇河地域リーグ戦（後期）"]
[]
[null,null,null,"対戦スケジュール"]
[null,"■Ａブロック"]
[null,null,"【　第１節　】",null,null,null,"【　第２節　】",null,null,null,"【　第３節　】"]
[null,"日にち","９／２（日）",null,null,null,"９／８（土）",null,null,null,"９／９（日）"]
[null,"会　場","陽南小 Ａ",null,"陽南小 Ｂ",null,"陽南小 Ａ",null,"陽南小 Ｂ",null,"清原東小"]
[null,"会場担当","緑が丘ＹＦＣ",null,null,null,"緑が丘ＹＦＣ",null,null,null,"清原ＳＳＳ"]
[null,"①  9:00","３－７","8/2/2","１０－４","1/5/5/","２－５","8/1/1","６－９","4/7/7","１０－３","1/6/6"]
[null,"②  9:40","８－２","9/3/3","１－５","6/10/10","８－１","2/5/5","４－７","6/9/9","１－６","2/7/7"]
[null,"③10:20","９－３","4/8/8","６－１０","7/1/1","３－６","1/4/4","９－２","5/8/8","２－７","10/3/3"]
[null,"④11:00","４－８","5/9/9","７－１","2/6/6","１－４","3/6/6","５－８","9/2/2","３－８","7/10/10"]
[null,"⑤11:40","５－９","3/7/7","２－６","10/4/4","３－７","当該",null,null,"７－１０","3/8/8"]
[null,"⑥12:20",null,null,null,null,null,null,null,null,"４－９","5/10/10"]
[null,"⑦13:00",null,null,null,null,null,null,null,null,"５－１０","4/9/9"]
[]
[null,null,"【　第４節　】",null,null,null,"【　第５節　】"]
[null,"日にち","９／１７（月）",null,null,null,"９／２３（日）"]
[null,"会　場","陽南小 Ａ",null,"陽南小 Ｂ",null,"陽南小 Ａ",null,"陽南小 Ｂ"]
[null,"会場担当","緑が丘ＹＦＣ",null,null,null,"緑が丘ＹＦＣ"]
[null,"①  9:00","２－４","8/10/10","５－７","1/3/3","１－２","5/6/6","３－４","7/8/8"]
[null,"②  9:40","８－１０","4/6/6","１－３","7/9/9","５－６","9/10/10","７－８","2/3/3"]
[null,"③10:20","４－６","10/2/2","７－９","3/5/5","９－１０","4/5/5","２－３","1/7/7"]
[null,"④11:00","１０－２","6/8/8","３－５","9/1/1","４－５","8/9/9","６－７","10/1/1"]
[null,"⑤11:40","６－８","2/4/4","９－１","5/7/7","８－９","6/2/2","１０－１","3/4/4"]
[]
[null,"■Ｂブロック"]
[null,null,"【　第１節　】",null,"【　第２節　】",null,"【　第３節　】",null,"【　第４節　】"]
[null,"日にち","９／２（日）",null,"９／８（土）",null,"９／９（日）",null,"９／１７（月）"]
[null,"会　場","陽東小",null,"陽東小",null,"豊郷北小",null,"豊郷北小"]
[null,"会場担当","陽東ＳＳＳ",null,"陽東ＳＳＳ",null,"豊郷ＪＦＣ宇都宮",null,"豊郷ＪＦＣ宇都宮"]
[null,"①  9:00","１－２","3/4/4","１－３","6/8/8","４－７","5/8/8","３－７","4/8/8"]
[null,"②  9:40","３－４","1/2/2","６－８","1/3/3","５－８","4/7/7","４－８","3/7/7"]
[null,"③10:20","５－６","7/8/8","２－４","7/9/9","６－９","1/4/4","５－９","6/1/1"]
[null,"④11:00","７－８","5/6/6","7－9","2/4/4","１－４","6/9/9","６－１","5/9/9"]
[null,"⑤11:40","９－１","2/3/3","３－５","8/1/1","２－５","3/6/6","７－２","8/3/3"]
[null,"⑥12:20","２－３","9/1/1","８－１","3/5/5","３－６","2/5/5","８－３","7/2/2"]
[null,"⑦13:00","４－５","6/7/7","４－６","9/2/2","７－１","8/2/2","９－４","1/5/5"]
[null,"⑧13:40","６－７","8/9/9","９－２","5/7/7","８－２","9/3/3","１－５","2/6/6"]
[null,"⑨14:20","８－９","4/5/5","５－７","4/6/6","９－３","7/1/1","２－６","9/4/4"]
[]
[null,"■Ｃブロック"]
[null,null,"【　第１節　】",null,"【　第２節　】",null,"【　第３節　】",null,"【　第４節　】"]
[null,"日にち","９／２（日）",null,"９／８（土）",null,"９／９（日）",null,"９／１７（月）"]
[null,"会　場","雀宮南小",null,"雀宮南小",null,"雀宮南小",null,"雀宮南小"]
[null,"会場担当","サウス宇都宮ＳＣ",null,"サウス宇都宮ＳＣ",null,"サウス宇都宮ＳＣ",null,"サウス宇都宮ＳＣ"]
[null,"①  9:00","１－２","3/4/4","１－３","6/8/8","４－７","5/8/8","３－７","4/8/8"]
[null,"②  9:40","３－４","1/2/2","６－８","1/3/3","５－８","4/7/7","４－８","3/7/7"]
[null,"③10:20","５－６","7/8/8","２－４","7/9/9","６－９","1/4/4","５－９","6/1/1"]
[null,"④11:00","７－８","5/6/6","7－9","2/4/4","１－４","6/9/9","６－１","5/9/9"]
[null,"⑤11:40","９－１","2/3/3","３－５","8/1/1","２－５","3/6/6","７－２","8/3/3"]
[null,"⑥12:20","２－３","9/1/1","８－１","3/5/5","３－６","2/5/5","８－３","7/2/2"]
[null,"⑦13:00","４－５","6/7/7","４－６","9/2/2","７－１","8/2/2","９－４","1/5/5"]
[null,"⑧13:40","６－７","8/9/9","９－２","5/7/7","８－２","9/3/3","１－５","2/6/6"]
[null,"⑨14:20","８－９","4/5/5","５－７","4/6/6","９－３","7/1/1","２－６","9/4/4"]

{"sheet":"●","index":2,"n_rows":0,"n_cols":0,"rows_kept":0,"cut":false,"hidden":false,"merged":[]}

{"sheet":"対戦表（Ａブロック）","index":3,"n_rows":153,"n_cols":56,"rows_kept":153,"cut":false,"hidden":false,"merged":[[150,51,150,56],[151,1,151,6],[151,7,151,12],[151,13,151,19],[151,20,151,21],[151,22,151,27],[151,30,151,35],[152,36,152,41],[152,42,152,48],[152,49,152,50],[152,51,152,56],[151,36,151,41],[151,42,151,48],[151,49,151,50],[151,51,151,56],[152,1,152,6],[152,7,152,12],[152,13,152,19],[152,20,152,21],[152,22,152,27],[152,30,152,35],[150,1,150,6],[150,7,150,12],[150,13,150,19],[150,20,150,21],[150,22,150,27],[150,30,150,35],[150,36,150,41],[150,42,150,48],[150,49,150,50],[148,36,148,41],[148,42,148,48],[148,49,148,50],[148,51,148,56],[149,1,149,6],[149,7,149,12],[149,13,149,19],[149,20,149,21],[149,22,149,27],[149,30,149,35],[148,1,148,6],[148,7,148,12],[148,13,148,19],[148,20,148,21],[148,22,148,27],[148,30,148,35],[149,36,149,41],[149,42,149,48],[149,49,149,50],[149,51,149,56],[145,51,146,52],[145,53,146,54],[145,55,146,56],[145,22,146,23],[145,24,146,25],[145,26,146,27],[145,30,146,30],[145,31,146,33],[145,34,146,38],[145,1,146,1],[145,2,146,4],[145,5,146,9],[145,10,146,11],[145,15,146,16],[145,17,146,21],[143,39,144,40],[143,44,144,45],[143,46,144,50],[143,1,144,1],[143,2,144,4],[143,5,144,9],[143,10,144,11],[143,15,144,16],[143,17,144,21],[145,39,146,40],[145,44,146,45],[145,46,146,50],[143,51,144,52],[143,53,144,54],[143,55,144,56],[143,22,144,23],[143,24,144,25],[143,26,144,27],[143,30,144,30],[143,31,144,33],[143,34,144,38],[141,51,142,52],[141,53,142,54],[141,55,142,56],[141,22,142,23],[141,24,142,25],[141,26,142,27],[141,30,142,30],[141,31,142,33],[141,34,142,38],[141,1,142,1],[141,2,142,4],[141,5,142,9],[141,10,142,11],[141,15,142,16],[141,17,142,21],[139,39,140,40],[139,44,140,45],[139,46,140,50],[141,39,142,40],[141,44,142,45],[141,46,142,50],[137,53,138,54],[137,55,138,56],[139,1,140,1],[139,2,140,4],[139,5,140,9],[139,10,140,11],[139,15,140,16],[139,17,140,21],[137,26,138,27],[137,30,138,30],[137,31,138,33],[137,34,138,38],[137,39,138,40],[137,44,138,45],[139,51,140,52],[139,53,140,54],[139,55,140,56],[139,22,140,23],[139,24,140,25],[139,26,140,27],[139,30,140,30],[139,31,140,33],[139,34,140,38],[136,53,136,54],[136,55,136,56],[137,1,138,1],[137,2,138,4],[137,5,138,9],[137,10,138,11],[137,15,138,16],[137,17,138,21],[137,22,138,23],[137,24,138,25],[136,26,136,27],[136,31,136,33],[136,34,136,38],[136,39,136,45],[136,46,136,50],[136,51,136,52],[136,2,136,4],[136,5,136,9],[136,10,136,16],[136,17,136,21],[136,22,136,23],[136,24,136,25],[137,46,138,50],[137,51,138,52],[132,16,132,17],[132,18,132,27],[132,30,132,31],[132,32,132,41],[133,16,133,17],[133,18,133,27],[133,30,133,31],[133,32,133,41],[130,16,130,17],[130,18,130,27],[130,30,130,31],[130,32,130,41],[131,16,131,17],[131,18,131,27],[131,30,131,31],[131,32,131,41],[129,16,129,17],[129,18,129,27],[129,30,129,31],[129,32,129,41],[122,36,122,41],[123,0,123,57],[126,16,126,28],[126,29,126,32],[126,33,126,41],[122,7,122,12],[122,13,122,19],[122,20,122,21],[122,22,122,27],[122,30,122,35],[127,16,127,19],[127,20,127,28],[127,29,127,32],[127,33,127,41],[120,51,120,56],[121,1,121,6],[121,7,121,12],[121,13,121,19],[121,20,121,21],[121,22,121,27],[121,30,121,35],[122,42,122,48],[122,49,122,50],[122,51,122,56],[120,1,120,6],[120,7,120,12],[120,13,120,19],[120,20,120,21],[120,22,120,27],[120,30,120,35],[120,36,120,41],[120,42,120,48],[120,49,120,50],[121,36,121,41],[121,42,121,48],[121,49,121,50],[121,51,121,56],[122,1,122,6],[118,36,118,41],[118,42,118,48],[118,49,118,50],[118,51,118,56],[119,1,119,6],[119,7,119,12],[119,13,119,19],[119,20,119,21],[119,22,119,27],[119,30,119,35],[118,1,118,6],[118,7,118,12],[118,13,118,19],[118,20,118,21],[118,22,118,27],[118,30,118,35],[119,36,119,41],[119,42,119,48],[119,49,119,50],[119,51,119,56],[115,51,116,52],[115,53,116,54],[115,55,116,56],[115,22,116,23],[115,24,116,25],[115,26,116,27],[115,30,116,30],[115,31,116,33],[115,34,116,38],[115,1,116,1],[115,2,116,4],[115,5,116,9],[115,10,116,11],[115,15,116,16],[115,17,116,21],[113,39,114,40],[113,44,114,45],[113,46,114,50],[113,1,114,1],[113,2,114,4],[113,5,114,9],[113,10,114,11],[113,15,114,16],[113,17,114,21],[115,39,116,40],[115,44,116,45],[115,46,116,50],[113,51,114,52],[113,53,114,54],[113,55,114,56],[113,22,114,23],[113,24,114,25],[113,26,114,27],[113,30,114,30],[113,31,114,33],[113,34,114,38],[109,22,110,23],[109,24,110,25],[109,26,110,27],[111,51,112,52],[111,53,112,54],[111,55,112,56],[111,22,112,23],[111,24,112,25],[111,26,112,27],[111,30,112,30],[111,31,112,33],[111,34,112,38],[111,39,112,40],[111,44,112,45],[111,46,112,50],[111,1,112,1],[111,2,112,4],[111,5,112,9],[111,10,112,11],[111,15,112,16],[111,17,112,21],[109,1,110,1],[109,2,110,4],[109,5,110,9],[109,10,110,11],[109,15,110,16],[109,17,110,21],[107,53,108,54],[107,55,108,56],[107,34,108,38],[107,39,108,40],[107,44,108,45],[107,26,108,27],[109,51,110,52],[109,53,110,54],[109,55,110,56],[109,39,110,40],[109,44,110,45],[109,46,110,50],[107,30,108,30],[107,31,108,33],[109,30,110,30],[109,31,110,33],[109,34,110,38],[106,2,106,4],[106,5,106,9],[106,10,106,16],[106,17,106,21],[106,22,106,23],[106,24,106,25],[106,53,106,54],[106,55,106,56],[107,1,108,1],[107,2,108,4],[107,5,108,9],[107,10,108,11],[107,15,108,16],[107,17,108,21],[107,22,108,23],[107,24,108,25],[106,26,106,27],[106,31,106,33],[106,34,106,38],[106,39,106,45],[106,46,106,50],[106,51,106,52],[107,46,108,50],[107,51,108,52],[101,16,101,17],[101,18,101,27],[101,30,101,31],[101,32,101,41],[102,16,102,17],[102,18,102,27],[102,30,102,31],[102,32,102,41],[103,16,103,17],[103,18,103,27],[103,30,103,31],[103,32,103,41],[99,16,99,17],[99,18,99,27],[99,30,99,31],[99,32,99,41],[100,16,100,17],[100,18,100,27],[100,30,100,31],[100,32,100,41],[93,0,93,57],[96,16,96,28],[96,29,96,32],[96,33,96,41],[97,16,97,19],[97,20,97,28],[97,29,97,32],[97,33,97,41],[91,1,91,6],[91,7,91,12],[91,13,91,19],[91,20,91,21],[91,22,91,27],[92,1,92,6],[92,7,92,12],[92,13,92,19],[92,20,92,21],[92,22,92,27],[89,1,89,6],[89,7,89,12],[89,13,89,19],[89,20,89,21],[89,22,89,27],[90,1,90,6],[90,7,90,12],[90,13,90,19],[90,20,90,21],[90,22,90,27],[85,24,86,25],[85,26,86,27],[88,1,88,6],[88,7,88,12],[88,13,88,19],[88,20,88,21],[88,22,88,27],[83,22,84,23],[83,24,84,25],[83,26,84,27],[85,1,86,1],[85,2,86,4],[85,5,86,9],[85,10,86,11],[85,15,86,16],[85,17,86,21],[85,22,86,23],[83,1,84,1],[83,2,84,4],[83,5,84,9],[83,10,84,11],[83,15,84,16],[83,17,84,21],[81,1,82,1],[81,2,82,4],[81,5,82,9],[81,10,82,11],[81,15,82,16],[81,17,82,21],[81,22,82,23],[81,24,82,25],[81,26,82,27],[79,1,80,1],[79,2,80,4],[79,5,80,9],[79,10,80,11],[79,15,80,16],[79,17,80,21],[79,22,80,23],[79,24,80,25],[79,26,80,27],[75,22,76,23],[75,24,76,25],[75,26,76,27],[77,1,78,1],[77,2,78,4],[77,5,78,9],[77,10,78,11],[77,15,78,16],[77,17,78,21],[77,22,78,23],[75,1,76,1],[75,2,76,4],[75,5,76,9],[75,10,76,11],[75,15,76,16],[75,17,76,21],[77,24,78,25],[77,26,78,27],[72,26,72,27],[73,1,74,1],[73,2,74,4],[73,5,74,9],[73,10,74,11],[73,15,74,16],[73,17,74,21],[73,22,74,23],[73,24,74,25],[73,26,74,27],[72,2,72,4],[72,5,72,9],[72,10,72,16],[72,17,72,21],[72,22,72,23],[72,24,72,25],[68,2,68,3],[68,4,68,13],[68,16,68,17],[68,18,68,27],[69,2,69,3],[69,4,69,13],[69,16,69,17],[69,18,69,27],[66,2,66,3],[66,4,66,13],[66,16,66,17],[66,18,66,27],[67,2,67,3],[67,4,67,13],[67,16,67,17],[67,18,67,27],[65,2,65,3],[65,4,65,13],[65,16,65,17],[65,18,65,27],[59,36,59,41],[60,0,60,28],[62,2,62,14],[62,15,62,18],[62,19,62,27],[59,7,59,12],[59,13,59,19],[59,20,59,21],[59,22,59,27],[59,30,59,35],[63,2,63,5],[63,6,63,14],[63,15,63,18],[63,19,63,27],[57,51,57,56],[58,1,58,6],[58,7,58,12],[58,13,58,19],[58,20,58,21],[58,22,58,27],[58,30,58,35],[59,42,59,48],[59,49,59,50],[59,51,59,56],[57,1,57,6],[57,7,57,12],[57,13,57,19],[57,20,57,21],[57,22,57,27],[57,30,57,35],[57,36,57,41],[57,42,57,48],[57,49,57,50],[58,36,58,41],[58,42,58,48],[58,49,58,50],[58,51,58,56],[59,1,59,6],[55,49,55,50],[55,51,55,56],[56,1,56,6],[56,7,56,12],[56,13,56,19],[56,20,56,21],[56,22,56,27],[56,30,56,35],[56,36,56,41],[56,42,56,48],[56,49,56,50],[56,51,56,56],[52,46,53,50],[52,51,53,52],[52,53,53,54],[52,55,53,56],[55,1,55,6],[55,7,55,12],[55,13,55,19],[55,20,55,21],[55,22,55,27],[55,30,55,35],[52,22,53,27],[52,30,53,30],[52,31,53,33],[52,34,53,38],[52,39,53,40],[52,44,53,45],[52,1,53,1],[52,2,53,4],[52,5,53,9],[52,10,53,11],[52,15,53,16],[52,17,53,21],[55,36,55,41],[55,42,55,48],[50,51,51,52],[50,53,51,54],[50,55,51,56],[50,22,51,23],[50,24,51,25],[50,26,51,27],[50,30,51,30],[50,31,51,33],[50,34,51,38],[50,1,51,1],[50,2,51,4],[50,5,51,9],[50,10,51,11],[50,15,51,16],[50,17,51,21],[48,39,49,40],[48,44,49,45],[48,46,49,50],[48,1,49,1],[48,2,49,4],[48,5,49,9],[48,10,49,11],[48,15,49,16],[48,17,49,21],[50,39,51,40],[50,44,51,45],[50,46,51,50],[46,31,47,33],[46,34,47,38],[48,51,49,52],[48,53,49,54],[48,55,49,56],[48,22,49,23],[48,24,49,25],[48,26,49,27],[48,30,49,30],[48,31,49,33],[48,34,49,38],[44,53,45,54],[44,55,45,56],[46,1,47,1],[46,2,47,4],[46,5,47,9],[46,10,47,11],[46,15,47,16],[46,17,47,21],[44,26,45,27],[44,30,45,30],[44,31,45,33],[44,34,45,38],[44,39,45,40],[44,44,45,45],[46,39,47,40],[46,44,47,45],[46,46,47,50],[46,51,47,52],[46,53,47,54],[46,55,47,56],[46,22,47,23],[46,24,47,25],[46,26,47,27],[46,30,47,30],[43,53,43,54],[43,55,43,56],[44,1,45,1],[44,2,45,4],[44,5,45,9],[44,10,45,11],[44,15,45,16],[44,17,45,21],[44,22,45,23],[44,24,45,25],[43,26,43,27],[43,31,43,33],[43,34,43,38],[43,39,43,45],[43,46,43,50],[43,51,43,52],[43,2,43,4],[43,5,43,9],[43,10,43,16],[43,17,43,21],[43,22,43,23],[43,24,43,25],[44,46,45,50],[44,51,45,52],[39,16,39,17],[39,18,39,27],[39,30,39,31],[39,32,39,41],[40,16,40,17],[40,18,40,27],[40,30,40,31],[40,32,40,41],[37,16,37,17],[37,18,37,27],[37,30,37,31],[37,32,37,41],[38,16,38,17],[38,18,38,27],[38,30,38,31],[38,32,38,41],[36,16,36,17],[36,18,36,27],[36,30,36,31],[36,32,36,41],[29,36,29,41],[30,0,30,57],[33,16,33,28],[33,29,33,32],[33,33,33,41],[29,7,29,12],[29,13,29,19],[29,20,29,21],[29,22,29,27],[29,30,29,35],[34,16,34,19],[34,20,34,28],[34,29,34,32],[34,33,34,41],[27,51,27,56],[28,1,28,6],[28,7,28,12],[28,13,28,19],[28,20,28,21],[28,22,28,27],[28,30,28,35],[29,42,29,48],[29,49,29,50],[29,51,29,56],[27,1,27,6],[27,7,27,12],[27,13,27,19],[27,20,27,21],[27,22,27,27],[27,30,27,35],[27,36,27,41],[27,42,27,48],[27,49,27,50],[28,36,28,41],[28,42,28,48],[28,49,28,50],[28,51,28,56],[29,1,29,6],[25,36,25,41],[25,42,25,48],[25,49,25,50],[25,51,25,56],[26,1,26,6],[26,7,26,12],[26,13,26,19],[26,20,26,21],[26,22,26,27],[26,30,26,35],[25,1,25,6],[25,7,25,12],[25,13,25,19],[25,20,25,21],[25,22,25,27],[25,30,25,35],[26,36,26,41],[26,42,26,48],[26,49,26,50],[26,51,26,56],[22,46,23,50],[22,51,23,52],[22,53,23,54],[22,55,23,56],[22,22,23,23],[22,24,23,25],[22,26,23,27],[22,30,23,30],[22,31,23,33],[22,34,23,38],[18,1,19,1],[18,2,19,4],[18,5,19,9],[18,10,19,11],[18,15,19,16],[18,17,19,21],[16,1,17,1],[16,2,17,4],[22,44,23,45],[22,1,23,1],[22,2,23,4],[22,5,23,9],[22,10,23,11],[22,15,23,16],[22,17,23,21],[20,39,21,40],[20,1,21,1],[20,2,21,4],[20,5,21,9],[20,10,21,11],[20,15,21,16],[20,17,21,21],[22,39,23,40],[16,26,17,27],[20,51,21,52],[20,53,21,54],[20,55,21,56],[20,22,21,23],[20,24,21,25],[20,26,21,27],[20,30,21,30],[20,31,21,33],[20,34,21,38],[20,44,21,45],[20,46,21,50],[16,22,17,23],[16,24,17,25],[16,51,17,52],[16,53,17,54],[16,55,17,56],[16,39,17,40],[16,44,17,45],[16,46,17,50],[16,30,17,30],[16,31,17,33],[16,34,17,38],[18,51,19,52],[18,53,19,54],[18,55,19,56],[18,22,19,23],[18,24,19,25],[18,26,19,27],[18,30,19,30],[18,31,19,33],[18,34,19,38],[18,39,19,40],[18,44,19,45],[18,46,19,50],[16,5,17,9],[16,10,17,11],[16,15,17,16],[16,17,17,21],[9,32,9,41],[13,53,13,54],[13,55,13,56],[14,1,15,1],[14,2,15,4],[14,5,15,9],[14,10,15,11],[14,15,15,16],[14,17,15,21],[14,22,15,23],[14,24,15,25],[13,26,13,27],[13,31,13,33],[13,34,13,38],[13,39,13,45],[13,46,13,50],[13,51,13,52],[14,46,15,50],[14,51,15,52],[14,53,15,54],[14,55,15,56],[14,44,15,45],[14,26,15,27],[13,5,13,9],[13,10,13,16],[13,17,13,21],[13,22,13,23],[13,24,13,25],[10,16,10,17],[10,18,10,27],[10,30,10,31],[14,30,15,30],[14,31,15,33],[0,0,0,57],[3,16,3,28],[3,29,3,32],[3,33,3,41],[4,16,4,19],[4,20,4,28],[4,29,4,32],[4,33,4,41],[8,16,8,17],[8,18,8,27],[8,30,8,31],[8,32,8,41],[6,16,6,17],[6,18,6,27],[6,30,6,31],[6,32,6,41],[7,16,7,17],[7,18,7,27],[7,30,7,31],[7,32,7,41],[13,2,13,4],[9,16,9,17],[9,18,9,27],[9,30,9,31],[10,32,10,41],[14,34,15,38],[14,39,15,40]]}
["ＪＦＡ　Ｕ-１０サッカーリーグ2018（in栃木） 宇河地域リーグ戦（後期）"]
[]
[]
[null,null,null,null,null,null,null,null,null,null,null,null,null,null,null,null,"Ａブロック　　第１節",null,null,null,null,null,null,null,null,null,null,null,null,"開 催 日",null,null,null,"2018-09-02"]
[null,null,null,null,null,null,null,null,null,null,null,null,null,null,null,null,"会場",null,null,null,"陽南小（Ａ）（Ｂ）",null,null,null,null,null,null,null,null,"会場担当",null,null,null,"緑が丘ＹＦＣ"]
[]
[null,null,null,null,null,null,null,null,null,null,null,null,null,null,null,null,1,null,"ＳＵＧＡＯ ＳＣ",null,null,null,null,null,null,null,null,null,null,null,6,null,"上河内ＪＳＣ"]
[null,null,null,null,null,null,null,null,null,null,null,null,null,null,null,null,2,null,"ＦＣアネーロ宇都宮 U10",null,null,null,null,null,null,null,null,null,null,null,7,null,"清原ＳＳＳ"]
[null,null,null,null,null,null,null,null,null,null,null,null,null,null,null,null,3,null,"ＦＣアリーバ",null,null,null,null,null,null,null,null,null,null,null,8,null,"緑が丘ＹＦＣ"]
[null,null,null,null,null,null,null,null,null,null,null,null,null,null,null,null,4,null,"雀宮ＦＣ",null,null,null,null,null,null,null,null,null,null,null,9,null,"ＦＣペンサーレ"]
[null,null,null,null,null,null,null,null,null,null,null,null,null,null,null,null,5,null,"ブラッドレスＳＳ",null,null,null,null,null,null,null,null,null,null,null,10,null,"富士見ＳＳＳ"]
[]
[null,"【試合時間：１５分-５分-１５分】",null,null,null,null,null,null,null,null,"陽南小 Ａ会場",null,null,null,null,null,null,null,null,null,null,null,null,null,null,null,null,null,null,null,"【試合時間：１５分-５分-１５分】",null,null,null,null,null,null,null,null,"陽南小 Ｂ会場"]
[null,null,"試合開始",null,null,"チーム名",null,null,null,null,"スコア",null,null,null,null,null,null,"チーム名",null,null,null,null,"主審",null,"副審",null,"副審",null,null,null,null,"試合開始",null,null,"チーム名",null,null,null,null,"スコア",null,null,null,null,null,null,"チーム名",null,null,null,null,"主審",null,"副審",null,"副審"]
[null,1,"09:00:00",null,null,{"$f":"S9","v":"ＦＣアリーバ"},null,null,null,null,{"$f":"IF(OR(M15=\"\",M16=\"\"),\"\",M15+M16)","v":0},null,0,"－",0,{"$f":"IF(OR(O15=\"\",O16=\"\"),\"\",O15+O16)","v":1},null,{"$f":"AG8","v":"清原ＳＳＳ"},null,null,null,null,8,null,2,null,2,null,null,null,1,"09:00:00",null,null,{"$f":"AG11","v":"富士見ＳＳＳ"},null,null,null,null,{"$f":"IF(OR(AP15=\"\",AP16=\"\"),\"\",AP15+AP16)","v":0},null,0,"－",0,{"$f":"IF(OR(AR15=\"\",AR16=\"\"),\"\",AR15+AR16)","v":1},null,{"$f":"S10","v":"雀宮ＦＣ"},null,null,null,null,1,null,5,null,5]
[null,null,null,null,null,null,null,null,null,null,null,null,0,"－",1,null,null,null,null,null,null,null,null,null,null,null,null,null,null,null,null,null,null,null,null,null,null,null,null,null,null,0,"－",1]
[null,2,"09:40:00","10:30:00",null,{"$f":"AG9","v":"緑が丘ＹＦＣ"},null,null,null,null,{"$f":"IF(OR(M17=\"\",M18=\"\"),\"\",M17+M18)","v":0},null,0,"－",0,{"$f":"IF(OR(O17=\"\",O18=\"\"),\"\",O17+O18)","v":1},null,{"$f":"S8","v":"ＦＣアネーロ宇都宮 U10"},null,null,null,null,9,null,3,null,3,null,null,null,2,"09:40:00","10:30:00",null,{"$f":"S7","v":"ＳＵＧＡＯ ＳＣ"},null,null,null,null,{"$f":"IF(OR(AP17=\"\",AP18=\"\"),\"\",AP17+AP18)","v":1},null,0,"－",1,{"$f":"IF(OR(AR17=\"\",AR18=\"\"),\"\",AR17+AR18)","v":2},null,{"$f":"S11","v":"ブラッドレスＳＳ"},null,null,null,null,6,null,10,null,10]
[null,null,null,null,null,null,null,null,null,null,null,null,0,"－",1,null,null,null,null,null,null,null,null,null,null,null,null,null,null,null,null,null,null,null,null,null,null,null,null,null,null,1,"－",1]
[null,3,"10:20:00",null,null,{"$f":"AG10","v":"ＦＣペンサーレ"},null,null,null,null,{"$f":"IF(OR(M19=\"\",M20=\"\"),\"\",M19+M20)","v":2},null,2,"－",0,{"$f":"IF(OR(O19=\"\",O20=\"\"),\"\",O19+O20)","v":0},null,{"$f":"S9","v":"ＦＣアリーバ"},null,null,null,null,4,null,8,null,8,null,null,null,3,"10:20:00",null,null,{"$f":"AG7","v":"上河内ＪＳＣ"},null,null,null,null,{"$f":"IF(OR(AP19=\"\",AP20=\"\"),\"\",AP19+AP20)","v":4},null,2,"－",2,{"$f":"IF(OR(AR19=\"\",AR20=\"\"),\"\",AR19+AR20)","v":3},null,{"$f":"AG11","v":"富士見ＳＳＳ"},null,null,null,null,7,null,1,null,1]
[null,null,null,null,null,null,null,null,null,null,null,null,0,"－",0,null,null,null,null,null,null,null,null,null,null,null,null,null,null,null,null,null,null,null,null,null,null,null,null,null,null,2,"－",1]
[null,4,"11:00:00","10:30:00",null,{"$f":"S10","v":"雀宮ＦＣ"},null,null,null,null,{"$f":"IF(OR(M21=\"\",M22=\"\"),\"\",M21+M22)","v":1},null,1,"－",1,{"$f":"IF(OR(O21=\"\",O22=\"\"),\"\",O21+O22)","v":1},null,{"$f":"AG9","v":"緑が丘ＹＦＣ"},null,null,null,null,5,null,9,null,9,null,null,null,4,"11:00:00","10:30:00",null,{"$f":"AG8","v":"清原ＳＳＳ"},null,null,null,null,{"$f":"IF(OR(AP21=\"\",AP22=\"\"),\"\",AP21+AP22)","v":3},null,1,"－",2,{"$f":"IF(OR(AR21=\"\",AR22=\"\"),\"\",AR21+AR22)","v":4},null,{"$f":"S7","v":"ＳＵＧＡＯ ＳＣ"},null,null,null,null,2,null,6,null,6]
[null,null,null,null,null,null,null,null,null,null,null,null,0,"－",0,null,null,null,null,null,null,null,null,null,null,null,null,null,null,null,null,null,null,null,null,null,null,null,null,null,null,2,"－",2]
[null,5,"11:40:00",null,null,{"$f":"S11","v":"ブラッドレスＳＳ"},null,null,null,null,{"$f":"IF(OR(M23=\"\",M24=\"\"),\"\",M23+M24)","v":0},null,0,"－",0,{"$f":"IF(OR(O23=\"\",O24=\"\"),\"\",O23+O24)","v":1},null,{"$f":"AG10","v":"ＦＣペンサーレ"},null,null,null,null,3,null,7,null,7,null,null,null,5,"11:40:00",null,null,{"$f":"S8","v":"ＦＣアネーロ宇都宮 U10"},null,null,null,null,{"$f":"IF(OR(AP23=\"\",AP24=\"\"),\"\",AP23+AP24)","v":4},null,2,"－",0,{"$f":"IF(OR(AR23=\"\",AR24=\"\"),\"\",AR23+AR24)","v":0},null,{"$f":"AG7","v":"上河内ＪＳＣ"},null,null,null,null,10,null,4,null,4]
[null,null,null,null,null,null,null,null,null,null,null,null,0,"－",1,null,null,null,null,null,null,null,null,null,null,null,null,null,null,null,null,null,null,null,null,null,null,null,null,null,null,2,"－",0]
[]
[null,"警告／退場",null,null,null,null,null,"チーム名",null,null,null,null,null,"氏名",null,null,null,null,null,null,"番号",null,"理由",null,null,null,null,null,null,null,"警告／退場",null,null,null,null,null,"チーム名",null,null,null,null,null,"氏名",null,null,null,null,null,null,"番号",null,"理由"]
[null,"警告　　退場",null,null,null,null,null,null,null,null,null,null,null,null,null,null,null,null,null,null,null,null,null,null,null,null,null,null,null,null,"警告　　退場",null,null,null,null,null,"ＳＵＧＡＯ ＳＣ",null,null,null,null,null,"大関　優斗",null,null,null,null,null,null,16,null,"バックチャージ"]
[null,"警告　　退場",null,null,null,null,null,null,null,null,null,null,null,null,null,null,null,null,null,null,null,null,null,null,null,null,null,null,null,null,"警告　　退場"]
[null,"警告　　退場",null,null,null,null,null,null,null,null,null,null,null,null,null,null,null,null,null,null,null,null,null,null,null,null,null,null,null,null,"警告　　退場"]
[null,"警告　　退場",null,null,null,null,null,null,null,null,null,null,null,null,null,null,null,null,null,null,null,null,null,null,null,null,null,null,null,null,"警告　　退場"]
["ＪＦＡ　Ｕ-１０サッカーリーグ2018（in栃木） 宇河地域リーグ戦（後期）"]
[]
[]
[null,null,null,null,null,null,null,null,null,null,null,null,null,null,null,null,"Ａブロック　　第２節",null,null,null,null,null,null,null,null,null,null,null,null,"開 催 日",null,null,null,"2018-09-08"]
[null,null,null,null,null,null,null,null,null,null,null,null,null,null,null,null,"会場",null,null,null,"陽南小（Ａ）（Ｂ）",null,null,null,null,null,null,null,null,"会場担当",null,null,null,{"$f":"$AH$5","v":"緑が丘ＹＦＣ"}]
[]
[null,null,null,null,null,null,null,null,null,null,null,null,null,null,null,null,1,null,{"$f":"$S$7","v":"ＳＵＧＡＯ ＳＣ"},null,null,null,null,null,null,null,null,null,null,null,6,null,{"$f":"$AG$7","v":"上河内ＪＳＣ"}]
[null,null,null,null,null,null,null,null,null,null,null,null,null,null,null,null,2,null,{"$f":"$S$8","v":"ＦＣアネーロ宇都宮 U10"},null,null,null,null,null,null,null,null,null,null,null,7,null,{"$f":"$AG$8","v":"清原ＳＳＳ"}]
[null,null,null,null,null,null,null,null,null,null,null,null,null,null,null,null,3,null,{"$f":"$S$9","v":"ＦＣアリーバ"},null,null,null,null,null,null,null,null,null,null,null,8,null,{"$f":"$AG$9","v":"緑が丘ＹＦＣ"}]
[null,null,null,null,null,null,null,null,null,null,null,null,null,null,null,null,4,null,{"$f":"$S$10","v":"雀宮ＦＣ"},null,null,null,null,null,null,null,null,null,null,null,9,null,{"$f":"$AG$10","v":"ＦＣペンサーレ"}]
[null,null,null,null,null,null,null,null,null,null,null,null,null,null,null,null,5,null,{"$f":"$S$11","v":"ブラッドレスＳＳ"},null,null,null,null,null,null,null,null,null,null,null,10,null,{"$f":"$AG$11","v":"富士見ＳＳＳ"}]
[]
[null,"【試合時間：１５分-５分-１５分】",null,null,null,null,null,null,null,null,"陽南小 Ａ会場",null,null,null,null,null,null,null,null,null,null,null,null,null,null,null,null,null,null,null,"【試合時間：１５分-５分-１５分】",null,null,null,null,null,null,null,null,"陽南小 Ｂ会場"]
[null,null,"試合開始",null,null,"チーム名",null,null,null,null,"スコア",null,null,null,null,null,null,"チーム名",null,null,null,null,"主審",null,"副審",null,"副審",null,null,null,null,"試合開始",null,null,"チーム名",null,null,null,null,"スコア",null,null,null,null,null,null,"チーム名",null,null,null,null,"主審",null,"副審",null,"副審"]
[null,1,"09:00:00",null,null,{"$f":"S38","v":"ＦＣアネーロ宇都宮 U10"},null,null,null,null,{"$f":"IF(OR(M45=\"\",M46=\"\"),\"\",M45+M46)","v":3},null,2,"－",0,{"$f":"IF(OR(O45=\"\",O46=\"\"),\"\",O45+O46)","v":0},null,{"$f":"S41","v":"ブラッドレスＳＳ"},null,null,null,null,8,null,1,null,1,null,null,null,1,"09:00:00",null,null,{"$f":"AG37","v":"上河内ＪＳＣ"},null,null,null,null,{"$f":"IF(OR(AP45=\"\",AP46=\"\"),\"\",AP45+AP46)","v":3},null,2,"－",0,{"$f":"IF(OR(AR45=\"\",AR46=\"\"),\"\",AR45+AR46)","v":0},null,{"$f":"AG40","v":"ＦＣペンサーレ"},null,null,null,null,4,null,7,null,7]
[null,null,null,null,null,null,null,null,null,null,null,null,1,"－",0,null,null,null,null,null,null,null,null,null,null,null,null,null,null,null,null,null,null,null,null,null,null,null,null,null,null,1,"－",0]
[null,2,"09:40:00","10:30:00",null,{"$f":"AG39","v":"緑が丘ＹＦＣ"},null,null,null,null,{"$f":"IF(OR(M47=\"\",M48=\"\"),\"\",M47+M48)","v":3},null,2,"－",0,{"$f":"IF(OR(O47=\"\",O48=\"\"),\"\",O47+O48)","v":1},null,{"$f":"S37","v":"ＳＵＧＡＯ ＳＣ"},null,null,null,null,2,null,5,null,5,null,null,null,2,"09:40:00","10:30:00",null,{"$f":"S40","v":"雀宮ＦＣ"},null,null,null,null,{"$f":"IF(OR(AP47=\"\",AP48=\"\"),\"\",AP47+AP48)","v":0},null,0,"－",0,{"$f":"IF(OR(AR47=\"\",AR48=\"\"),\"\",AR47+AR48)","v":1},null,{"$f":"AG38","v":"清原ＳＳＳ"},null,null,null,null,6,null,9,null,9]
[null,null,null,null,null,null,null,null,null,null,null,null,1,"－",1,null,null,null,null,null,null,null,null,null,null,null,null,null,null,null,null,null,null,null,null,null,null,null,null,null,null,0,"－",1]
[null,3,"10:20:00",null,null,{"$f":"S39","v":"ＦＣアリーバ"},null,null,null,null,{"$f":"IF(OR(M49=\"\",M50=\"\"),\"\",M49+M50)","v":1},null,0,"－",1,{"$f":"IF(OR(O49=\"\",O50=\"\"),\"\",O49+O50)","v":2},null,{"$f":"AG37","v":"上河内ＪＳＣ"},null,null,null,null,1,null,4,null,4,null,null,null,3,"10:20:00",null,null,{"$f":"AG40","v":"ＦＣペンサーレ"},null,null,null,null,{"$f":"IF(OR(AP49=\"\",AP50=\"\"),\"\",AP49+AP50)","v":0},null,0,"－",2,{"$f":"IF(OR(AR49=\"\",AR50=\"\"),\"\",AR49+AR50)","v":4},null,{"$f":"S38","v":"ＦＣアネーロ宇都宮 U10"},null,null,null,null,5,null,8,null,8]
[null,null,null,null,null,null,null,null,null,null,null,null,1,"－",1,null,null,null,null,null,null,null,null,null,null,null,null,null,null,null,null,null,null,null,null,null,null,null,null,null,null,0,"－",2]
[null,4,"11:00:00","10:30:00",null,{"$f":"S37","v":"ＳＵＧＡＯ ＳＣ"},null,null,null,null,{"$f":"IF(OR(M51=\"\",M52=\"\"),\"\",M51+M52)","v":3},null,2,"－",0,{"$f":"IF(OR(O51=\"\",O52=\"\"),\"\",O51+O52)","v":1},null,{"$f":"S40","v":"雀宮ＦＣ"},null,null,null,null,3,null,6,null,6,null,null,null,4,"11:00:00","10:30:00",null,{"$f":"S41","v":"ブラッドレスＳＳ"},null,null,null,null,{"$f":"IF(OR(AP51=\"\",AP52=\"\"),\"\",AP51+AP52)","v":0},null,0,"－",1,{"$f":"IF(OR(AR51=\"\",AR52=\"\"),\"\",AR51+AR52)","v":2},null,{"$f":"AG39","v":"緑が丘ＹＦＣ"},null,null,null,null,9,null,2,null,2]
[null,null,null,null,null,null,null,null,null,null,null,null,1,"－",1,null,null,null,null,null,null,null,null,null,null,null,null,null,null,null,null,null,null,null,null,null,null,null,null,null,null,0,"－",1]
[null,5,"11:40:00",null,null,{"$f":"AG38","v":"清原ＳＳＳ"},null,null,null,null,{"$f":"IF(OR(M53=\"\",M54=\"\"),\"\",M53+M54)","v":""},null,null,"－",null,{"$f":"IF(OR(O53=\"\",O54=\"\"),\"\",O53+O54)","v":""},null,{"$f":"S39","v":"ＦＣアリーバ"},null,null,null,null,"フレンドリー\n(当該チーム)",null,null,null,null,null,null,null,5,"11:40:00",null,null,null,null,null,null,null,{"$f":"IF(OR(AP53=\"\",AP54=\"\"),\"\",AP53+AP54)","v":""},null,null,"－",null,{"$f":"IF(OR(AR53=\"\",AR54=\"\"),\"\",AR53+AR54)","v":""}]
[null,null,null,null,null,null,null,null,null,null,null,null,null,"－",null,null,null,null,null,null,null,null,null,null,null,null,null,null,null,null,null,null,null,null,null,null,null,null,null,null,null,null,"－"]
[]
[null,"警告／退場",null,null,null,null,null,"チーム名",null,null,null,null,null,"氏名",null,null,null,null,null,null,"番号",null,"理由",null,null,null,null,null,null,null,"警告／退場",null,null,null,null,null,"チーム名",null,null,null,null,null,"氏名",null,null,null,null,null,null,"番号",null,"理由"]
[null,"警告　　退場",null,null,null,null,null,null,null,null,null,null,null,null,null,null,null,null,null,null,null,null,null,null,null,null,null,null,null,null,"警告　　退場"]
[null,"警告　　退場",null,null,null,null,null,null,null,null,null,null,null,null,null,null,null,null,null,null,null,null,null,null,null,null,null,null,null,null,"警告　　退場"]
[null,"警告　　退場",null,null,null,null,null,null,null,null,null,null,null,null,null,null,null,null,null,null,null,null,null,null,null,null,null,null,null,null,"警告　　退場"]
[null,"警告　　退場",null,null,null,null,null,null,null,null,null,null,null,null,null,null,null,null,null,null,null,null,null,null,null,null,null,null,null,null,"警告　　退場"]
["ＪＦＡ　Ｕ-１０サッカーリーグ2018（in栃木） 宇河地域リーグ戦（後期）"]
[]
[null,null,"Ａブロック  第３節",null,null,null,null,null,null,null,null,null,null,null,null,"開 催 日",null,null,null,"2018-09-09"]
[null,null,"会場",null,null,null,"清原東小",null,null,null,null,null,null,null,null,"会場担当",null,null,null,"清原ＳＳＳ"]
[]
[null,null,1,null,{"$f":"$S$7","v":"ＳＵＧＡＯ ＳＣ"},null,null,null,null,null,null,null,null,null,null,null,6,null,{"$f":"$AG$7","v":"上河内ＪＳＣ"}]
[null,null,2,null,{"$f":"$S$8","v":"ＦＣアネーロ宇都宮 U10"},null,null,null,null,null,null,null,null,null,null,null,7,null,{"$f":"$AG$8","v":"清原ＳＳＳ"}]
[null,null,3,null,{"$f":"$S$9","v":"ＦＣアリーバ"},null,null,null,null,null,null,null,null,null,null,null,8,null,{"$f":"$AG$9","v":"緑が丘ＹＦＣ"}]
[null,null,4,null,{"$f":"$S$10","v":"雀宮ＦＣ"},null,null,null,null,null,null,null,null,null,null,null,9,null,{"$f":"$AG$10","v":"ＦＣペンサーレ"}]
[null,null,5,null,{"$f":"$S$11","v":"ブラッドレスＳＳ"},null,null,null,null,null,null,null,null,null,null,null,10,null,{"$f":"$AG$11","v":"富士見ＳＳＳ"}]
[]
[null,"【試合時間：15分-５分-15分】"]
[null,null,"試合開始",null,null,"チーム名",null,null,null,null,"得点",null,null,null,null,null,null,"チーム名",null,null,null,null,"主審",null,"副審",null,"副審"]
[null,1,"09:00:00",null,null,{"$f":"S70","v":"富士見ＳＳＳ"},null,null,null,null,{"$f":"IF(OR(M74=\"\",M75=\"\"),\"\",M74+M75)","v":1},null,1,"－",0,{"$f":"IF(OR(O74=\"\",O75=\"\"),\"\",O74+O75)","v":1},null,{"$f":"E68","v":"ＦＣアリーバ"},null,null,null,null,1,null,6,null,6]
[null,null,null,null,null,null,null,null,null,null,null,null,0,"－",1]
[null,2,"09:40:00","10:30:00",null,{"$f":"E66","v":"ＳＵＧＡＯ ＳＣ"},null,null,null,null,{"$f":"IF(OR(M76=\"\",M77=\"\"),\"\",M76+M77)","v":1},null,0,"－",1,{"$f":"IF(OR(O76=\"\",O77=\"\"),\"\",O76+O77)","v":2},null,{"$f":"S66","v":"上河内ＪＳＣ"},null,null,null,null,2,null,7,null,7]
[null,null,null,null,null,null,null,null,null,null,null,null,1,"－",1]
[null,3,"10:20:00",null,null,{"$f":"E67","v":"ＦＣアネーロ宇都宮 U10"},null,null,null,null,{"$f":"IF(OR(M78=\"\",M79=\"\"),\"\",M78+M79)","v":4},null,2,"－",0,{"$f":"IF(OR(O78=\"\",O79=\"\"),\"\",O78+O79)","v":2},null,{"$f":"S67","v":"清原ＳＳＳ"},null,null,null,null,10,null,3,null,3]
[null,null,null,null,null,null,null,null,null,null,null,null,2,"－",2]
[null,4,"11:00:00","10:30:00",null,{"$f":"E68","v":"ＦＣアリーバ"},null,null,null,null,{"$f":"IF(OR(M80=\"\",M81=\"\"),\"\",M80+M81)","v":0},null,0,"－",0,{"$f":"IF(OR(O80=\"\",O81=\"\"),\"\",O80+O81)","v":1},null,{"$f":"S68","v":"緑が丘ＹＦＣ"},null,null,null,null,7,null,10,null,10]
[null,null,null,null,null,null,null,null,null,null,null,null,0,"－",1]
[null,5,"11:40:00",null,null,{"$f":"S67","v":"清原ＳＳＳ"},null,null,null,null,{"$f":"IF(OR(M82=\"\",M83=\"\"),\"\",M82+M83)","v":0},null,0,"－",0,{"$f":"IF(OR(O82=\"\",O83=\"\"),\"\",O82+O83)","v":1},null,{"$f":"S70","v":"富士見ＳＳＳ"},null,null,null,null,3,null,8,null,8]
[null,null,null,null,null,null,null,null,null,null,null,null,0,"－",1]
[null,6,"12:20:00",null,null,{"$f":"E69","v":"雀宮ＦＣ"},null,null,null,null,{"$f":"IF(OR(M84=\"\",M85=\"\"),\"\",M84+M85)","v":1},null,1,"－",0,{"$f":"IF(OR(O84=\"\",O85=\"\"),\"\",O84+O85)","v":0},null,{"$f":"S69","v":"ＦＣペンサーレ"},null,null,null,null,5,null,10,null,10]
[null,null,null,null,null,null,null,null,null,null,null,null,0,"－",0]
[null,7,"13:00:00",null,null,{"$f":"E70","v":"ブラッドレスＳＳ"},null,null,null,null,{"$f":"IF(OR(M86=\"\",M87=\"\"),\"\",M86+M87)","v":0},null,0,"－",0,{"$f":"IF(OR(O86=\"\",O87=\"\"),\"\",O86+O87)","v":4},null,{"$f":"S70","v":"富士見ＳＳＳ"},null,null,null,null,4,null,9,null,9]
[null,null,null,null,null,null,null,null,null,null,null,null,0,"－",4]
[]
[null,"警告／退場",null,null,null,null,null,"チーム名",null,null,null,null,null,"氏名",null,null,null,null,null,null,"番号",null,"理由"]
[null,"警告　　退場"]
[null,"警告　　退場"]
[null,"警告　　退場"]
[null,"警告　　退場"]
["ＪＦＡ　Ｕ-１０サッカーリーグ2018（in栃木） 宇河地域リーグ戦（後期）"]
[]
[]
[null,null,null,null,null,null,null,null,null,null,null,null,null,null,null,null,"Ａブロック　　第４節",null,null,null,null,null,null,null,null,null,null,null,null,"開 催 日",null,null,null,"2018-09-17"]
[null,null,null,null,null,null,null,null,null,null,null,null,null,null,null,null,"会場",null,null,null,"陽南小（Ａ）（Ｂ）",null,null,null,null,null,null,null,null,"会場担当",null,null,null,{"$f":"$AH$5","v":"緑が丘ＹＦＣ"}]
[]
[null,null,null,null,null,null,null,null,null,null,null,null,null,null,null,null,1,null,{"$f":"$S$7","v":"ＳＵＧＡＯ ＳＣ"},null,null,null,null,null,null,null,null,null,null,null,6,null,{"$f":"$AG$7","v":"上河内ＪＳＣ"}]
[null,null,null,null,null,null,null,null,null,null,null,null,null,null,null,null,2,null,{"$f":"$S$8","v":"ＦＣアネーロ宇都宮 U10"},null,null,null,null,null,null,null,null,null,null,null,7,null,{"$f":"$AG$8","v":"清原ＳＳＳ"}]
[null,null,null,null,null,null,null,null,null,null,null,null,null,null,null,null,3,null,{"$f":"$S$9","v":"ＦＣアリーバ"},null,null,null,null,null,null,null,null,null,null,null,8,null,{"$f":"$AG$9","v":"緑が丘ＹＦＣ"}]
[null,null,null,null,null,null,null,null,null,null,null,null,null,null,null,null,4,null,{"$f":"$S$10","v":"雀宮ＦＣ"},null,null,null,null,null,null,null,null,null,null,null,9,null,{"$f":"$AG$10","v":"ＦＣペンサーレ"}]
[null,null,null,null,null,null,null,null,null,null,null,null,null,null,null,null,5,null,{"$f":"$S$11","v":"ブラッドレスＳＳ"},null,null,null,null,null,null,null,null,null,null,null,10,null,{"$f":"$AG$11","v":"富士見ＳＳＳ"}]
[]
[null,"【試合時間：１５分-５分-１５分】",null,null,null,null,null,null,null,null,"陽南小 Ａ会場",null,null,null,null,null,null,null,null,null,null,null,null,null,null,null,null,null,null,null,"【試合時間：１５分-５分-１５分】",null,null,null,null,null,null,null,null,"陽南小 Ｂ会場"]
[null,null,"試合開始",null,null,"チーム名",null,null,null,null,"スコア",null,null,null,null,null,null,"チーム名",null,null,null,null,"主審",null,"副審",null,"副審",null,null,null,null,"試合開始",null,null,"チーム名",null,null,null,null,"スコア",null,null,null,null,null,null,"チーム名",null,null,null,null,"主審",null,"副審",null,"副審"]
[null,1,"09:00:00",null,null,{"$f":"S101","v":"ＦＣアネーロ宇都宮 U10"},null,null,null,null,{"$f":"IF(OR(M108=\"\",M109=\"\"),\"\",M108+M109)","v":3},null,3,"－",0,{"$f":"IF(OR(O108=\"\",O109=\"\"),\"\",O108+O109)","v":0},null,{"$f":"S103","v":"雀宮ＦＣ"},null,null,null,null,8,null,10,null,10,null,null,null,1,"09:00:00",null,null,{"$f":"S104","v":"ブラッドレスＳＳ"},null,null,null,null,{"$f":"IF(OR(AP108=\"\",AP109=\"\"),\"\",AP108+AP109)","v":0},null,0,"－",0,{"$f":"IF(OR(AR108=\"\",AR109=\"\"),\"\",AR108+AR109)","v":0},null,{"$f":"AG101","v":"清原ＳＳＳ"},null,null,null,null,1,null,3,null,3]
[null,null,null,null,null,null,null,null,null,null,null,null,0,"－",0,null,null,null,null,null,null,null,null,null,null,null,null,null,null,null,null,null,null,null,null,null,null,null,null,null,null,0,"－",0]
[null,2,"09:40:00","10:30:00",null,{"$f":"AG102","v":"緑が丘ＹＦＣ"},null,null,null,null,{"$f":"IF(OR(M110=\"\",M111=\"\"),\"\",M110+M111)","v":1},null,1,"－",0,{"$f":"IF(OR(O110=\"\",O111=\"\"),\"\",O110+O111)","v":0},null,{"$f":"AG104","v":"富士見ＳＳＳ"},null,null,null,null,4,null,6,null,6,null,null,null,2,"09:40:00","10:30:00",null,{"$f":"S100","v":"ＳＵＧＡＯ ＳＣ"},null,null,null,null,{"$f":"IF(OR(AP110=\"\",AP111=\"\"),\"\",AP110+AP111)","v":0},null,0,"－",1,{"$f":"IF(OR(AR110=\"\",AR111=\"\"),\"\",AR110+AR111)","v":1},null,{"$f":"S102","v":"ＦＣアリーバ"},null,null,null,null,7,null,9,null,9]
[null,null,null,null,null,null,null,null,null,null,null,null,0,"－",0,null,null,null,null,null,null,null,null,null,null,null,null,null,null,null,null,null,null,null,null,null,null,null,null,null,null,0,"－",0]
[null,3,"10:20:00",null,null,{"$f":"S103","v":"雀宮ＦＣ"},null,null,null,null,{"$f":"IF(OR(M112=\"\",M113=\"\"),\"\",M112+M113)","v":2},null,1,"－",0,{"$f":"IF(OR(O112=\"\",O113=\"\"),\"\",O112+O113)","v":1},null,{"$f":"AG100","v":"上河内ＪＳＣ"},null,null,null,null,10,null,2,null,2,null,null,null,3,"10:20:00",null,null,{"$f":"AG101","v":"清原ＳＳＳ"},null,null,null,null,{"$f":"IF(OR(AP112=\"\",AP113=\"\"),\"\",AP112+AP113)","v":1},null,0,"－",2,{"$f":"IF(OR(AR112=\"\",AR113=\"\"),\"\",AR112+AR113)","v":2},null,{"$f":"AG103","v":"ＦＣペンサーレ"},null,null,null,null,3,null,5,null,5]
[null,null,null,null,null,null,null,null,null,null,null,null,1,"－",1,null,null,null,null,null,null,null,null,null,null,null,null,null,null,null,null,null,null,null,null,null,null,null,null,null,null,1,"－",0]
[null,4,"11:00:00","10:30:00",null,{"$f":"AG104","v":"富士見ＳＳＳ"},null,null,null,null,{"$f":"IF(OR(M114=\"\",M115=\"\"),\"\",M114+M115)","v":0},null,0,"－",1,{"$f":"IF(OR(O114=\"\",O115=\"\"),\"\",O114+O115)","v":3},null,{"$f":"S101","v":"ＦＣアネーロ宇都宮 U10"},null,null,null,null,6,null,8,null,8,null,null,null,4,"11:00:00","10:30:00",null,{"$f":"S102","v":"ＦＣアリーバ"},null,null,null,null,{"$f":"IF(OR(AP114=\"\",AP115=\"\"),\"\",AP114+AP115)","v":1},null,0,"－",0,{"$f":"IF(OR(AR114=\"\",AR115=\"\"),\"\",AR114+AR115)","v":0},null,{"$f":"S104","v":"ブラッドレスＳＳ"},null,null,null,null,9,null,1,null,1]
[null,null,null,null,null,null,null,null,null,null,null,null,0,"－",2,null,null,null,null,null,null,null,null,null,null,null,null,null,null,null,null,null,null,null,null,null,null,null,null,null,null,1,"－",0]
[null,5,"11:40:00",null,null,{"$f":"AG100","v":"上河内ＪＳＣ"},null,null,null,null,{"$f":"IF(OR(M116=\"\",M117=\"\"),\"\",M116+M117)","v":1},null,0,"－",1,{"$f":"IF(OR(O116=\"\",O117=\"\"),\"\",O116+O117)","v":3},null,{"$f":"AG102","v":"緑が丘ＹＦＣ"},null,null,null,null,2,null,4,null,4,null,null,null,5,"11:40:00",null,null,{"$f":"AG103","v":"ＦＣペンサーレ"},null,null,null,null,{"$f":"IF(OR(AP116=\"\",AP117=\"\"),\"\",AP116+AP117)","v":0},null,0,"－",2,{"$f":"IF(OR(AR116=\"\",AR117=\"\"),\"\",AR116+AR117)","v":3},null,{"$f":"S100","v":"ＳＵＧＡＯ ＳＣ"},null,null,null,null,5,null,7,null,7]
[null,null,null,null,null,null,null,null,null,null,null,null,1,"－",2,null,null,null,null,null,null,null,null,null,null,null,null,null,null,null,null,null,null,null,null,null,null,null,null,null,null,0,"－",1]
[]
[null,"警告／退場",null,null,null,null,null,"チーム名",null,null,null,null,null,"氏名",null,null,null,null,null,null,"番号",null,"理由",null,null,null,null,null,null,null,"警告／退場",null,null,null,null,null,"チーム名",null,null,null,null,null,"氏名",null,null,null,null,null,null,"番号",null,"理由"]
[null,"警告　　退場",null,null,null,null,null,null,null,null,null,null,null,null,null,null,null,null,null,null,null,null,null,null,null,null,null,null,null,null,"警告　　退場"]
[null,"警告　　退場",null,null,null,null,null,null,null,null,null,null,null,null,null,null,null,null,null,null,null,null,null,null,null,null,null,null,null,null,"警告　　退場"]
[null,"警告　　退場",null,null,null,null,null,null,null,null,null,null,null,null,null,null,null,null,null,null,null,null,null,null,null,null,null,null,null,null,"警告　　退場"]
[null,"警告　　退場",null,null,null,null,null,null,null,null,null,null,null,null,null,null,null,null,null,null,null,null,null,null,null,null,null,null,null,null,"警告　　退場"]
["ＪＦＡ　Ｕ-１０サッカーリーグ2018（in栃木） 宇河地域リーグ戦（後期）"]
[]
[]
[null,null,null,null,null,null,null,null,null,null,null,null,null,null,null,null,"Ａブロック　　第５節",null,null,null,null,null,null,null,null,null,null,null,null,"開 催 日",null,null,null,"2018-09-23"]
[null,null,null,null,null,null,null,null,null,null,null,null,null,null,null,null,"会場",null,null,null,"陽南小（Ａ）（Ｂ）",null,null,null,null,null,null,null,null,"会場担当",null,null,null,{"$f":"$AH$5","v":"緑が丘ＹＦＣ"}]
[]
[null,null,null,null,null,null,null,null,null,null,null,null,null,null,null,null,1,null,{"$f":"$S$7","v":"ＳＵＧＡＯ ＳＣ"},null,null,null,null,null,null,null,null,null,null,null,6,null,{"$f":"$AG$7","v":"上河内ＪＳＣ"}]
[null,null,null,null,null,null,null,null,null,null,null,null,null,null,null,null,2,null,{"$f":"$S$8","v":"ＦＣアネーロ宇都宮 U10"},null,null,null,null,null,null,null,null,null,null,null,7,null,{"$f":"$AG$8","v":"清原ＳＳＳ"}]
[null,null,null,null,null,null,null,null,null,null,null,null,null,null,null,null,3,null,{"$f":"$S$9","v":"ＦＣアリーバ"},null,null,null,null,null,null,null,null,null,null,null,8,null,{"$f":"$AG$9","v":"緑が丘ＹＦＣ"}]
[null,null,null,null,null,null,null,null,null,null,null,null,null,null,null,null,4,null,{"$f":"$S$10","v":"雀宮ＦＣ"},null,null,null,null,null,null,null,null,null,null,null,9,null,{"$f":"$AG$10","v":"ＦＣペンサーレ"}]
[null,null,null,null,null,null,null,null,null,null,null,null,null,null,null,null,5,null,{"$f":"$S$11","v":"ブラッドレスＳＳ"},null,null,null,null,null,null,null,null,null,null,null,10,null,{"$f":"$AG$11","v":"富士見ＳＳＳ"}]
[]
[null,"【試合時間：１５分-５分-１５分】",null,null,null,null,null,null,null,null,"陽南小 Ａ会場",null,null,null,null,null,null,null,null,null,null,null,null,null,null,null,null,null,null,null,"【試合時間：１５分-５分-１５分】",null,null,null,null,null,null,null,null,"陽南小 Ｂ会場"]
[null,null,"試合開始",null,null,"チーム名",null,null,null,null,"スコア",null,null,null,null,null,null,"チーム名",null,null,null,null,"主審",null,"副審",null,"副審",null,null,null,null,"試合開始",null,null,"チーム名",null,null,null,null,"スコア",null,null,null,null,null,null,"チーム名",null,null,null,null,"主審",null,"副審",null,"副審"]
[null,1,"09:00:00",null,null,{"$f":"S130","v":"ＳＵＧＡＯ ＳＣ"},null,null,null,null,{"$f":"IF(OR(M138=\"\",M139=\"\"),\"\",M138+M139)","v":0},null,0,"－",2,{"$f":"IF(OR(O138=\"\",O139=\"\"),\"\",O138+O139)","v":2},null,{"$f":"S131","v":"ＦＣアネーロ宇都宮 U10"},null,null,null,null,5,null,6,null,6,null,null,null,1,"09:00:00",null,null,{"$f":"S132","v":"ＦＣアリーバ"},null,null,null,null,{"$f":"IF(OR(AP138=\"\",AP139=\"\"),\"\",AP138+AP139)","v":0},null,0,"－",0,{"$f":"IF(OR(AR138=\"\",AR139=\"\"),\"\",AR138+AR139)","v":1},null,{"$f":"S133","v":"雀宮ＦＣ"},null,null,null,null,7,null,8,null,8]
[null,null,null,null,null,null,null,null,null,null,null,null,0,"－",0,null,null,null,null,null,null,null,null,null,null,null,null,null,null,null,null,null,null,null,null,null,null,null,null,null,null,0,"－",1]
[null,2,"09:40:00","10:30:00",null,{"$f":"S134","v":"ブラッドレスＳＳ"},null,null,null,null,{"$f":"IF(OR(M140=\"\",M141=\"\"),\"\",M140+M141)","v":1},null,0,"－",1,{"$f":"IF(OR(O140=\"\",O141=\"\"),\"\",O140+O141)","v":1},null,{"$f":"AG130","v":"上河内ＪＳＣ"},null,null,null,null,9,null,10,null,10,null,null,null,2,"09:40:00","10:30:00",null,{"$f":"AG131","v":"清原ＳＳＳ"},null,null,null,null,{"$f":"IF(OR(AP140=\"\",AP141=\"\"),\"\",AP140+AP141)","v":1},null,1,"－",0,{"$f":"IF(OR(AR140=\"\",AR141=\"\"),\"\",AR140+AR141)","v":0},null,{"$f":"AG132","v":"緑が丘ＹＦＣ"},null,null,null,null,2,null,3,null,3]
[null,null,null,null,null,null,null,null,null,null,null,null,1,"－",0,null,null,null,null,null,null,null,null,null,null,null,null,null,null,null,null,null,null,null,null,null,null,null,null,null,null,0,"－",0]
[null,3,"10:20:00",null,null,{"$f":"AG133","v":"ＦＣペンサーレ"},null,null,null,null,{"$f":"IF(OR(M142=\"\",M143=\"\"),\"\",M142+M143)","v":0},null,0,"－",0,{"$f":"IF(OR(O142=\"\",O143=\"\"),\"\",O142+O143)","v":0},null,{"$f":"AG134","v":"富士見ＳＳＳ"},null,null,null,null,4,null,5,null,5,null,null,null,3,"10:20:00",null,null,{"$f":"S131","v":"ＦＣアネーロ宇都宮 U10"},null,null,null,null,{"$f":"IF(OR(AP142=\"\",AP143=\"\"),\"\",AP142+AP143)","v":8},null,5,"－",0,{"$f":"IF(OR(AR142=\"\",AR143=\"\"),\"\",AR142+AR143)","v":0},null,{"$f":"S132","v":"ＦＣアリーバ"},null,null,null,null,1,null,7,null,7]
[null,null,null,null,null,null,null,null,null,null,null,null,0,"－",0,null,null,null,null,null,null,null,null,null,null,null,null,null,null,null,null,null,null,null,null,null,null,null,null,null,null,3,"－",0]
[null,4,"11:00:00","10:30:00",null,{"$f":"S133","v":"雀宮ＦＣ"},null,null,null,null,{"$f":"IF(OR(M144=\"\",M145=\"\"),\"\",M144+M145)","v":2},null,1,"－",0,{"$f":"IF(OR(O144=\"\",O145=\"\"),\"\",O144+O145)","v":0},null,{"$f":"S134","v":"ブラッドレスＳＳ"},null,null,null,null,8,null,9,null,9,null,null,null,4,"11:00:00","10:30:00",null,{"$f":"AG130","v":"上河内ＪＳＣ"},null,null,null,null,{"$f":"IF(OR(AP144=\"\",AP145=\"\"),\"\",AP144+AP145)","v":1},null,1,"－",1,{"$f":"IF(OR(AR144=\"\",AR145=\"\"),\"\",AR144+AR145)","v":3},null,{"$f":"AG131","v":"清原ＳＳＳ"},null,null,null,null,10,null,1,null,1]
[null,null,null,null,null,null,null,null,null,null,null,null,1,"－",0,null,null,null,null,null,null,null,null,null,null,null,null,null,null,null,null,null,null,null,null,null,null,null,null,null,null,0,"－",2]
[null,5,"11:40:00",null,null,{"$f":"AG132","v":"緑が丘ＹＦＣ"},null,null,null,null,{"$f":"IF(OR(M146=\"\",M147=\"\"),\"\",M146+M147)","v":5},null,1,"－",1,{"$f":"IF(OR(O146=\"\",O147=\"\"),\"\",O146+O147)","v":1},null,{"$f":"AG133","v":"ＦＣペンサーレ"},null,null,null,null,6,null,2,null,2,null,null,null,5,"11:40:00",null,null,{"$f":"AG134","v":"富士見ＳＳＳ"},null,null,null,null,{"$f":"IF(OR(AP146=\"\",AP147=\"\"),\"\",AP146+AP147)","v":1},null,0,"－",1,{"$f":"IF(OR(AR146=\"\",AR147=\"\"),\"\",AR146+AR147)","v":2},null,{"$f":"S130","v":"ＳＵＧＡＯ ＳＣ"},null,null,null,null,3,null,4,null,4]
[null,null,null,null,null,null,null,null,null,null,null,null,4,"－",0,null,null,null,null,null,null,null,null,null,null,null,null,null,null,null,null,null,null,null,null,null,null,null,null,null,null,1,"－",1]
[]
[null,"警告／退場",null,null,null,null,null,"チーム名",null,null,null,null,null,"氏名",null,null,null,null,null,null,"番号",null,"理由",null,null,null,null,null,null,null,"警告／退場",null,null,null,null,null,"チーム名",null,null,null,null,null,"氏名",null,null,null,null,null,null,"番号",null,"理由"]
[null,"警告　　退場",null,null,null,null,null,"上河内ＪＳＣ",null,null,null,null,null,"高城　瑛太",null,null,null,null,null,null,17,null,"得点機会時の故意のﾊﾝﾄﾞ",null,null,null,null,null,null,null,"警告　　退場"]
[null,"警告　　退場",null,null,null,null,null,null,null,null,null,null,null,null,null,null,null,null,null,null,null,null,null,null,null,null,null,null,null,null,"警告　　退場"]
[null,"警告　　退場",null,null,null,null,null,null,null,null,null,null,null,null,null,null,null,null,null,null,null,null,null,null,null,null,null,null,null,null,"警告　　退場"]
[null,"警告　　退場",null,null,null,null,null,null,null,null,null,null,null,null,null,null,null,null,null,null,null,null,null,null,null,null,null,null,null,null,"警告　　退場"]

{"sheet":"対戦表（Bブロック）","index":4,"n_rows":136,"n_cols":41,"rows_kept":136,"cut":false,"hidden":false,"merged":[[134,3,134,8],[134,9,134,16],[134,17,134,25],[134,26,134,28],[134,29,134,38],[135,3,135,8],[135,9,135,16],[135,17,135,25],[135,26,135,28],[135,29,135,38],[132,3,132,8],[132,9,132,16],[132,17,132,25],[132,26,132,28],[132,29,132,38],[133,3,133,8],[133,9,133,16],[133,17,133,25],[133,26,133,28],[133,29,133,38],[129,23,130,29],[129,30,130,33],[129,34,130,35],[129,36,130,37],[129,38,130,39],[129,40,130,41],[129,1,130,1],[129,2,130,4],[129,5,130,8],[129,9,130,15],[129,16,130,17],[129,21,130,22],[127,23,128,29],[127,30,128,33],[127,34,128,35],[127,36,128,37],[127,38,128,39],[127,40,128,41],[127,1,128,1],[127,2,128,4],[127,5,128,8],[127,9,128,15],[127,16,128,17],[127,21,128,22],[125,23,126,29],[125,30,126,33],[125,34,126,35],[125,36,126,37],[125,38,126,39],[125,40,126,41],[125,1,126,1],[125,2,126,4],[125,5,126,8],[125,9,126,15],[125,16,126,17],[125,21,126,22],[123,23,124,29],[123,30,124,33],[123,34,124,35],[123,36,124,37],[123,38,124,39],[123,40,124,41],[123,1,124,1],[123,2,124,4],[123,5,124,8],[123,9,124,15],[123,16,124,17],[123,21,124,22],[121,23,122,29],[121,30,122,33],[121,34,122,35],[121,36,122,37],[121,38,122,39],[121,40,122,41],[121,1,122,1],[121,2,122,4],[121,5,122,8],[121,9,122,15],[121,16,122,17],[121,21,122,22],[119,23,120,29],[119,30,120,33],[119,34,120,35],[119,36,120,37],[119,38,120,39],[119,40,120,41],[119,1,120,1],[119,2,120,4],[119,5,120,8],[119,9,120,15],[119,16,120,17],[119,21,120,22],[117,23,118,29],[117,30,118,33],[117,34,118,35],[117,36,118,37],[117,38,118,39],[117,40,118,41],[117,1,118,1],[117,2,118,4],[117,5,118,8],[117,9,118,15],[117,16,118,17],[117,21,118,22],[115,23,116,29],[115,30,116,33],[115,34,116,35],[115,36,116,37],[115,38,116,39],[115,40,116,41],[115,1,116,1],[115,2,116,4],[115,5,116,8],[115,9,116,15],[115,16,116,17],[115,21,116,22],[113,23,114,29],[113,30,114,33],[113,34,114,35],[113,36,114,37],[113,38,114,39],[113,40,114,41],[112,34,112,35],[112,36,112,37],[112,38,112,39],[112,40,112,41],[112,23,112,29],[112,30,112,33],[113,1,114,1],[113,2,114,4],[113,5,114,8],[113,9,114,15],[113,16,114,17],[113,21,114,22],[112,2,112,4],[112,5,112,8],[112,9,112,15],[112,16,112,22],[109,2,109,3],[109,4,109,13],[109,16,109,17],[109,18,109,27],[109,30,109,31],[109,32,109,41],[108,2,108,3],[108,4,108,13],[108,16,108,17],[108,18,108,27],[108,30,108,31],[108,32,108,41],[107,2,107,3],[107,4,107,13],[107,16,107,17],[107,18,107,27],[107,30,107,31],[107,32,107,41],[105,2,105,5],[105,6,105,14],[105,15,105,18],[105,19,105,27],[105,28,105,31],[105,32,105,40],[100,3,100,8],[100,9,100,16],[100,17,100,25],[100,26,100,28],[100,29,100,38],[101,3,101,8],[101,9,101,16],[101,17,101,25],[101,26,101,28],[101,29,101,38],[98,3,98,8],[98,9,98,16],[98,17,98,25],[98,26,98,28],[98,29,98,38],[99,3,99,8],[99,9,99,16],[99,17,99,25],[99,26,99,28],[99,29,99,38],[95,23,96,29],[95,30,96,33],[95,34,96,35],[95,36,96,37],[95,38,96,39],[95,40,96,41],[95,1,96,1],[95,2,96,4],[95,5,96,8],[95,9,96,15],[95,16,96,17],[95,21,96,22],[93,23,94,29],[93,30,94,33],[93,34,94,35],[93,36,94,37],[93,38,94,39],[93,40,94,41],[93,1,94,1],[93,2,94,4],[93,5,94,8],[93,9,94,15],[93,16,94,17],[93,21,94,22],[91,23,92,29],[91,30,92,33],[91,34,92,35],[91,36,92,37],[91,38,92,39],[91,40,92,41],[91,1,92,1],[91,2,92,4],[91,5,92,8],[91,9,92,15],[91,16,92,17],[91,21,92,22],[89,23,90,29],[89,30,90,33],[89,34,90,35],[89,36,90,37],[89,38,90,39],[89,40,90,41],[89,1,90,1],[89,2,90,4],[89,5,90,8],[89,9,90,15],[89,16,90,17],[89,21,90,22],[87,23,88,29],[87,30,88,33],[87,34,88,35],[87,36,88,37],[87,38,88,39],[87,40,88,41],[87,1,88,1],[87,2,88,4],[87,5,88,8],[87,9,88,15],[87,16,88,17],[87,21,88,22],[85,23,86,29],[85,30,86,33],[85,34,86,35],[85,36,86,37],[85,38,86,39],[85,40,86,41],[85,1,86,1],[85,2,86,4],[85,5,86,8],[85,9,86,15],[85,16,86,17],[85,21,86,22],[83,23,84,29],[83,30,84,33],[83,34,84,35],[83,36,84,37],[83,38,84,39],[83,40,84,41],[83,1,84,1],[83,2,84,4],[83,5,84,8],[83,9,84,15],[83,16,84,17],[83,21,84,22],[81,23,82,29],[81,30,82,33],[81,34,82,35],[81,36,82,37],[81,38,82,39],[81,40,82,41],[81,1,82,1],[81,2,82,4],[81,5,82,8],[81,9,82,15],[81,16,82,17],[81,21,82,22],[79,23,80,29],[79,30,80,33],[79,34,80,35],[79,36,80,37],[79,38,80,39],[79,40,80,41],[78,34,78,35],[78,36,78,37],[78,38,78,39],[78,40,78,41],[78,23,78,29],[78,30,78,33],[79,1,80,1],[79,2,80,4],[79,5,80,8],[79,9,80,15],[79,16,80,17],[79,21,80,22],[78,2,78,4],[78,5,78,8],[78,9,78,15],[78,16,78,22],[75,2,75,3],[75,4,75,13],[75,16,75,17],[75,18,75,27],[75,30,75,31],[75,32,75,41],[74,2,74,3],[74,4,74,13],[74,16,74,17],[74,18,74,27],[74,30,74,31],[74,32,74,41],[73,2,73,3],[73,4,73,13],[73,16,73,17],[73,18,73,27],[73,30,73,31],[73,32,73,41],[71,2,71,5],[71,6,71,14],[71,15,71,18],[71,19,71,27],[71,28,71,31],[71,32,71,40],[66,3,66,8],[66,9,66,16],[66,17,66,25],[66,26,66,28],[66,29,66,38],[67,3,67,8],[67,9,67,16],[67,17,67,25],[67,26,67,28],[67,29,67,38],[64,3,64,8],[64,9,64,16],[64,17,64,25],[64,26,64,28],[64,29,64,38],[65,3,65,8],[65,9,65,16],[65,17,65,25],[65,26,65,28],[65,29,65,38],[61,23,62,29],[61,30,62,33],[61,34,62,35],[61,36,62,37],[61,38,62,39],[61,40,62,41],[61,1,62,1],[61,2,62,4],[61,5,62,8],[61,9,62,15],[61,16,62,17],[61,21,62,22],[59,23,60,29],[59,30,60,33],[59,34,60,35],[59,36,60,37],[59,38,60,39],[59,40,60,41],[59,1,60,1],[59,2,60,4],[59,5,60,8],[59,9,60,15],[59,16,60,17],[59,21,60,22],[57,23,58,29],[57,30,58,33],[57,34,58,35],[57,36,58,37],[57,38,58,39],[57,40,58,41],[57,1,58,1],[57,2,58,4],[57,5,58,8],[57,9,58,15],[57,16,58,17],[57,21,58,22],[55,23,56,29],[55,30,56,33],[55,34,56,35],[55,36,56,37],[55,38,56,39],[55,40,56,41],[55,1,56,1],[55,2,56,4],[55,5,56,8],[55,9,56,15],[55,16,56,17],[55,21,56,22],[53,23,54,29],[53,30,54,33],[53,34,54,35],[53,36,54,37],[53,38,54,39],[53,40,54,41],[53,1,54,1],[53,2,54,4],[53,5,54,8],[53,9,54,15],[53,16,54,17],[53,21,54,22],[51,23,52,29],[51,30,52,33],[51,34,52,35],[51,36,52,37],[51,38,52,39],[51,40,52,41],[51,1,52,1],[51,2,52,4],[51,5,52,8],[51,9,52,15],[51,16,52,17],[51,21,52,22],[49,23,50,29],[49,30,50,33],[49,34,50,35],[49,36,50,37],[49,38,50,39],[49,40,50,41],[49,1,50,1],[49,2,50,4],[49,5,50,8],[49,9,50,15],[49,16,50,17],[49,21,50,22],[47,23,48,29],[47,30,48,33],[47,34,48,35],[47,36,48,37],[47,38,48,39],[47,40,48,41],[47,1,48,1],[47,2,48,4],[47,5,48,8],[47,9,48,15],[47,16,48,17],[47,21,48,22],[45,23,46,29],[45,30,46,33],[45,34,46,35],[45,36,46,37],[45,38,46,39],[45,40,46,41],[44,34,44,35],[44,36,44,37],[44,38,44,39],[44,40,44,41],[44,23,44,29],[44,30,44,33],[45,1,46,1],[45,2,46,4],[45,5,46,8],[45,9,46,15],[45,16,46,17],[45,21,46,22],[44,2,44,4],[44,5,44,8],[44,9,44,15],[44,16,44,22],[41,2,41,3],[41,4,41,13],[41,16,41,17],[41,18,41,27],[41,30,41,31],[41,32,41,41],[40,2,40,3],[40,4,40,13],[40,16,40,17],[40,18,40,27],[40,30,40,31],[40,32,40,41],[39,2,39,3],[39,4,39,13],[39,16,39,17],[39,18,39,27],[39,30,39,31],[39,32,39,41],[37,2,37,5],[37,6,37,14],[37,15,37,18],[37,19,37,27],[37,28,37,31],[37,32,37,40],[32,3,32,8],[32,9,32,16],[32,17,32,25],[32,26,32,28],[32,29,32,38],[33,3,33,8],[33,9,33,16],[33,17,33,25],[33,26,33,28],[33,29,33,38],[30,3,30,8],[30,9,30,16],[30,17,30,25],[30,26,30,28],[30,29,30,38],[31,3,31,8],[31,9,31,16],[31,17,31,25],[31,26,31,28],[31,29,31,38],[27,23,28,29],[27,30,28,33],[27,34,28,35],[27,36,28,37],[27,38,28,39],[27,40,28,41],[27,1,28,1],[27,2,28,4],[27,5,28,8],[27,9,28,15],[27,16,28,17],[27,21,28,22],[25,23,26,29],[25,30,26,33],[25,34,26,35],[25,36,26,37],[25,38,26,39],[25,40,26,41],[25,1,26,1],[25,2,26,4],[25,5,26,8],[25,9,26,15],[25,16,26,17],[25,21,26,22],[23,23,24,29],[23,30,24,33],[23,34,24,35],[23,36,24,37],[23,38,24,39],[23,40,24,41],[23,1,24,1],[23,2,24,4],[23,5,24,8],[23,9,24,15],[23,16,24,17],[23,21,24,22],[21,23,22,29],[21,30,22,33],[21,34,22,35],[21,36,22,37],[21,38,22,39],[21,40,22,41],[21,1,22,1],[21,2,22,4],[21,5,22,8],[21,9,22,15],[21,16,22,17],[21,21,22,22],[19,23,20,29],[19,30,20,33],[19,34,20,35],[19,36,20,37],[19,38,20,39],[19,40,20,41],[19,1,20,1],[19,2,20,4],[19,5,20,8],[19,9,20,15],[19,16,20,17],[19,21,20,22],[17,23,18,29],[17,30,18,33],[17,34,18,35],[17,36,18,37],[17,38,18,39],[17,40,18,41],[17,1,18,1],[17,2,18,4],[17,5,18,8],[17,9,18,15],[17,16,18,17],[17,21,18,22],[15,23,16,29],[15,30,16,33],[15,34,16,35],[15,36,16,37],[15,38,16,39],[15,40,16,41],[15,1,16,1],[15,2,16,4],[15,5,16,8],[15,9,16,15],[15,16,16,17],[15,21,16,22],[13,23,14,29],[13,30,14,33],[13,34,14,35],[13,36,14,37],[13,38,14,39],[13,40,14,41],[13,1,14,1],[13,2,14,4],[13,5,14,8],[13,9,14,15],[13,16,14,17],[13,21,14,22],[11,23,12,29],[11,30,12,33],[11,34,12,35],[11,36,12,37],[11,38,12,39],[11,40,12,41],[10,34,10,35],[10,36,10,37],[10,38,10,39],[10,40,10,41],[10,23,10,29],[10,30,10,33],[11,1,12,1],[11,2,12,4],[11,5,12,8],[11,9,12,15],[11,16,12,17],[11,21,12,22],[10,2,10,4],[10,5,10,8],[10,9,10,15],[10,16,10,22],[7,2,7,3],[7,4,7,13],[7,16,7,17],[7,18,7,27],[7,30,7,31],[7,32,7,41],[6,2,6,3],[6,4,6,13],[6,16,6,17],[6,18,6,27],[6,30,6,31],[6,32,6,41],[5,2,5,3],[5,4,5,13],[5,16,5,17],[5,18,5,27],[5,30,5,31],[5,32,5,41],[3,2,3,5],[3,6,3,14],[3,15,3,18],[3,19,3,27],[3,28,3,31],[3,32,3,40]]}
[]
[]
[]
[null,null,"会場",null,null,null,"陽東小学校",null,null,null,null,null,null,null,null,"会場担当",null,null,null,"陽東ＳＳＳ",null,null,null,null,null,null,null,null,"開催日",null,null,null,"2018-09-02"]
[]
[null,null,1,null,"陽東ＳＳＳ",null,null,null,null,null,null,null,null,null,null,null,4,null,"石井ＦＣ",null,null,null,null,null,null,null,null,null,null,null,7,null,"ＦＣブロケード"]
[null,null,2,null,"姿川第一ＦＣ",null,null,null,null,null,null,null,null,null,null,null,5,null,"シャルムグランツＳＣ",null,null,null,null,null,null,null,null,null,null,null,8,null,"栃木ＳＣジュニア"]
[null,null,3,null,"豊郷ＪＦＣ宇都宮",null,null,null,null,null,null,null,null,null,null,null,6,null,"ｕｎｉｏｎ ｓｃ",null,null,null,null,null,null,null,null,null,null,null,9,null,"国本ＪＳＣ"]
[]
[null,"【監督会議：8時20分】【試合時間：15分-3分-15分】【クーリングブレイク：試合当日監督会議内にて決定する】"]
[null,null,"試合開始",null,null,"代表者サイン",null,null,null,"チーム名",null,null,null,null,null,null,"得点",null,null,null,null,null,null,"チーム名",null,null,null,null,null,null,"代表者サイン",null,null,null,"主審",null,"副審",null,"副審",null,"４審"]
[null,1,"09:00:00",null,null,null,null,null,null,{"$f":"E6","v":"陽東ＳＳＳ"},null,null,null,null,null,null,{"$f":"IF(OR(S12=\"\",S13=\"\"),\"\",S12+S13)","v":0},null,0,"－",3,{"$f":"IF(OR(U12=\"\",U13=\"\"),\"\",U12+U13)","v":4},null,{"$f":"E7","v":"姿川第一ＦＣ"},null,null,null,null,null,null,null,null,null,null,3,null,4,null,{"$f":"AK12","v":4},null,"-"]
[null,null,null,null,null,null,null,null,null,null,null,null,null,null,null,null,null,null,0,"－",1]
[null,2,"09:40:00","10:30:00",null,null,null,null,null,{"$f":"E8","v":"豊郷ＪＦＣ宇都宮"},null,null,null,null,null,null,{"$f":"IF(OR(S14=\"\",S15=\"\"),\"\",S14+S15)","v":1},null,1,"－",1,{"$f":"IF(OR(U14=\"\",U15=\"\"),\"\",U14+U15)","v":2},null,{"$f":"S6","v":"石井ＦＣ"},null,null,null,null,null,null,null,null,null,null,1,null,2,null,{"$f":"AK14","v":2},null,"-"]
[null,null,null,null,null,null,null,null,null,null,null,null,null,null,null,null,null,null,0,"－",1]
[null,3,"10:20:00",null,null,null,null,null,null,{"$f":"S7","v":"シャルムグランツＳＣ"},null,null,null,null,null,null,{"$f":"IF(OR(S16=\"\",S17=\"\"),\"\",S16+S17)","v":0},null,0,"－",2,{"$f":"IF(OR(U16=\"\",U17=\"\"),\"\",U16+U17)","v":6},null,{"$f":"S8","v":"ｕｎｉｏｎ ｓｃ"},null,null,null,null,null,null,null,null,null,null,7,null,8,null,{"$f":"AK16","v":8},null,"-"]
[null,null,null,null,null,null,null,null,null,null,null,null,null,null,null,null,null,null,0,"－",4]
[null,4,"11:00:00","10:30:00",null,null,null,null,null,{"$f":"AG6","v":"ＦＣブロケード"},null,null,null,null,null,null,{"$f":"IF(OR(S18=\"\",S19=\"\"),\"\",S18+S19)","v":0},null,0,"－",3,{"$f":"IF(OR(U18=\"\",U19=\"\"),\"\",U18+U19)","v":5},null,{"$f":"AG7","v":"栃木ＳＣジュニア"},null,null,null,null,null,null,null,null,null,null,5,null,6,null,{"$f":"AK18","v":6},null,"-"]
[null,null,null,null,null,null,null,null,null,null,null,null,null,null,null,null,null,null,0,"－",2]
[null,5,"11:40:00",null,null,null,null,null,null,{"$f":"E6","v":"陽東ＳＳＳ"},null,null,null,null,null,null,{"$f":"IF(OR(S20=\"\",S21=\"\"),\"\",S20+S21)","v":1},null,1,"－",1,{"$f":"IF(OR(U20=\"\",U21=\"\"),\"\",U20+U21)","v":6},null,{"$f":"AG8","v":"国本ＪＳＣ"},null,null,null,null,null,null,null,null,null,null,2,null,3,null,{"$f":"AK20","v":3},null,"-"]
[null,null,null,null,null,null,null,null,null,null,null,null,null,null,null,null,null,null,0,"－",5]
[null,6,"12:20:00",null,null,null,null,null,null,{"$f":"E7","v":"姿川第一ＦＣ"},null,null,null,null,null,null,{"$f":"IF(OR(S22=\"\",S23=\"\"),\"\",S22+S23)","v":0},null,0,"－",1,{"$f":"IF(OR(U22=\"\",U23=\"\"),\"\",U22+U23)","v":3},null,{"$f":"E8","v":"豊郷ＪＦＣ宇都宮"},null,null,null,null,null,null,null,null,null,null,9,null,1,null,{"$f":"AK22","v":1},null,"-"]
[null,null,null,null,null,null,null,null,null,null,null,null,null,null,null,null,null,null,0,"－",2]
[null,7,"13:00:00",null,null,null,null,null,null,{"$f":"S6","v":"石井ＦＣ"},null,null,null,null,null,null,{"$f":"IF(OR(S24=\"\",S25=\"\"),\"\",S24+S25)","v":2},null,0,"－",0,{"$f":"IF(OR(U24=\"\",U25=\"\"),\"\",U24+U25)","v":0},null,{"$f":"S7","v":"シャルムグランツＳＣ"},null,null,null,null,null,null,null,null,null,null,6,null,7,null,{"$f":"AK24","v":7},null,"-"]
[null,null,null,null,null,null,null,null,null,null,null,null,null,null,null,null,null,null,2,"－",0]
[null,8,"13:40:00","10:30:00",null,null,null,null,null,{"$f":"S8","v":"ｕｎｉｏｎ ｓｃ"},null,null,null,null,null,null,{"$f":"IF(OR(S26=\"\",S27=\"\"),\"\",S26+S27)","v":5},null,2,"－",0,{"$f":"IF(OR(U26=\"\",U27=\"\"),\"\",U26+U27)","v":0},null,{"$f":"AG6","v":"ＦＣブロケード"},null,null,null,null,null,null,null,null,null,null,8,null,9,null,{"$f":"AK26","v":9},null,"-"]
[null,null,null,null,null,null,null,null,null,null,null,null,null,null,null,null,null,null,3,"－",0]
[null,9,"14:20:00","10:30:00",null,null,null,null,null,{"$f":"AG7","v":"栃木ＳＣジュニア"},null,null,null,null,null,null,{"$f":"IF(OR(S28=\"\",S29=\"\"),\"\",S28+S29)","v":1},null,0,"－",0,{"$f":"IF(OR(U28=\"\",U29=\"\"),\"\",U28+U29)","v":1},null,{"$f":"AG8","v":"国本ＪＳＣ"},null,null,null,null,null,null,null,null,null,null,4,null,5,null,{"$f":"AK28","v":5},null,"-"]
[null,null,null,null,null,null,null,null,null,null,null,null,null,null,null,null,null,null,1,"－",1]
[]
[null,null,null,"警告／退場",null,null,null,null,null,"チーム名",null,null,null,null,null,null,null,"氏名",null,null,null,null,null,null,null,null,"番号",null,null,"理由"]
[null,null,null,"警告　　退場",null,null,null,null,null,"栃木ＳＣジュニア",null,null,null,null,null,null,null,"五月女　雄平",null,null,null,null,null,null,null,null,32,null,null,"キーパーに対する威嚇行為"]
[null,null,null,"警告　　退場",null,null,null,null,null,"栃木ＳＣジュニア",null,null,null,null,null,null,null,"濱田　空輝",null,null,null,null,null,null,null,null,33,null,null,"キーパーに対する飛び蹴り"]
[null,null,null,"警告　　退場"]
[]
[]
[]
[null,null,"会場",null,null,null,"陽東小学校",null,null,null,null,null,null,null,null,"会場担当",null,null,null,"陽東ＳＳＳ",null,null,null,null,null,null,null,null,"開催日",null,null,null,"2018-09-08"]
[]
[null,null,1,null,{"$f":"$E$6","v":"陽東ＳＳＳ"},null,null,null,null,null,null,null,null,null,null,null,4,null,{"$f":"$S$6","v":"石井ＦＣ"},null,null,null,null,null,null,null,null,null,null,null,7,null,{"$f":"$AG$6","v":"ＦＣブロケード"}]
[null,null,2,null,{"$f":"$E$7","v":"姿川第一ＦＣ"},null,null,null,null,null,null,null,null,null,null,null,5,null,{"$f":"$S$7","v":"シャルムグランツＳＣ"},null,null,null,null,null,null,null,null,null,null,null,8,null,{"$f":"$AG$7","v":"栃木ＳＣジュニア"}]
[null,null,3,null,{"$f":"$E$8","v":"豊郷ＪＦＣ宇都宮"},null,null,null,null,null,null,null,null,null,null,null,6,null,{"$f":"$S$8","v":"ｕｎｉｏｎ ｓｃ"},null,null,null,null,null,null,null,null,null,null,null,9,null,{"$f":"$AG$8","v":"国本ＪＳＣ"}]
[]
[null,"【監督会議：8時20分】【試合時間：15分-3分-15分】"]
[null,null,"試合開始",null,null,"代表者サイン",null,null,null,"チーム名",null,null,null,null,null,null,"得点",null,null,null,null,null,null,"チーム名",null,null,null,null,null,null,"代表者サイン",null,null,null,"主審",null,"副審",null,"副審",null,"４審"]
[null,1,"09:00:00",null,null,null,null,null,null,{"$f":"E40","v":"陽東ＳＳＳ"},null,null,null,null,null,null,{"$f":"IF(OR(S46=\"\",S47=\"\"),\"\",S46+S47)","v":0},null,0,"－",3,{"$f":"IF(OR(U46=\"\",U47=\"\"),\"\",U46+U47)","v":3},null,{"$f":"E42","v":"豊郷ＪＦＣ宇都宮"},null,null,null,null,null,null,null,null,null,null,6,null,8,null,{"$f":"AK46","v":8},null,"-"]
[null,null,null,null,null,null,null,null,null,null,null,null,null,null,null,null,null,null,0,"－",0]
[null,2,"09:40:00","10:30:00",null,null,null,null,null,{"$f":"S42","v":"ｕｎｉｏｎ ｓｃ"},null,null,null,null,null,null,{"$f":"IF(OR(S48=\"\",S49=\"\"),\"\",S48+S49)","v":0},null,0,"－",3,{"$f":"IF(OR(U48=\"\",U49=\"\"),\"\",U48+U49)","v":8},null,{"$f":"AG41","v":"栃木ＳＣジュニア"},null,null,null,null,null,null,null,null,null,null,1,null,3,null,{"$f":"AK48","v":3},null,"-"]
[null,null,null,null,null,null,null,null,null,null,null,null,null,null,null,null,null,null,0,"－",5]
[null,3,"10:20:00",null,null,null,null,null,null,{"$f":"E41","v":"姿川第一ＦＣ"},null,null,null,null,null,null,{"$f":"IF(OR(S50=\"\",S51=\"\"),\"\",S50+S51)","v":1},null,0,"－",0,{"$f":"IF(OR(U50=\"\",U51=\"\"),\"\",U50+U51)","v":1},null,{"$f":"S40","v":"石井ＦＣ"},null,null,null,null,null,null,null,null,null,null,7,null,9,null,{"$f":"AK50","v":9},null,"-"]
[null,null,null,null,null,null,null,null,null,null,null,null,null,null,null,null,null,null,1,"－",1]
[null,4,"11:00:00","10:30:00",null,null,null,null,null,{"$f":"AG40","v":"ＦＣブロケード"},null,null,null,null,null,null,{"$f":"IF(OR(S52=\"\",S53=\"\"),\"\",S52+S53)","v":0},null,0,"－",4,{"$f":"IF(OR(U52=\"\",U53=\"\"),\"\",U52+U53)","v":6},null,{"$f":"AG42","v":"国本ＪＳＣ"},null,null,null,null,null,null,null,null,null,null,2,null,4,null,{"$f":"AK52","v":4},null,"-"]
[null,null,null,null,null,null,null,null,null,null,null,null,null,null,null,null,null,null,0,"－",2]
[null,5,"11:40:00",null,null,null,null,null,null,{"$f":"E42","v":"豊郷ＪＦＣ宇都宮"},null,null,null,null,null,null,{"$f":"IF(OR(S54=\"\",S55=\"\"),\"\",S54+S55)","v":4},null,2,"－",0,{"$f":"IF(OR(U54=\"\",U55=\"\"),\"\",U54+U55)","v":0},null,{"$f":"S41","v":"シャルムグランツＳＣ"},null,null,null,null,null,null,null,null,null,null,8,null,1,null,{"$f":"AK54","v":1},null,"-"]
[null,null,null,null,null,null,null,null,null,null,null,null,null,null,null,null,null,null,2,"－",0]
[null,6,"12:20:00",null,null,null,null,null,null,{"$f":"E40","v":"陽東ＳＳＳ"},null,null,null,null,null,null,{"$f":"IF(OR(S56=\"\",S57=\"\"),\"\",S56+S57)","v":0},null,0,"－",8,{"$f":"IF(OR(U56=\"\",U57=\"\"),\"\",U56+U57)","v":11},null,{"$f":"AG41","v":"栃木ＳＣジュニア"},null,null,null,null,null,null,null,null,null,null,3,null,5,null,{"$f":"AK56","v":5},null,"-"]
[null,null,null,null,null,null,null,null,null,null,null,null,null,null,null,null,null,null,0,"－",3]
[null,7,"13:00:00",null,null,null,null,null,null,{"$f":"S40","v":"石井ＦＣ"},null,null,null,null,null,null,{"$f":"IF(OR(S58=\"\",S59=\"\"),\"\",S58+S59)","v":1},null,0,"－",2,{"$f":"IF(OR(U58=\"\",U59=\"\"),\"\",U58+U59)","v":3},null,{"$f":"S42","v":"ｕｎｉｏｎ ｓｃ"},null,null,null,null,null,null,null,null,null,null,9,null,2,null,{"$f":"AK58","v":2},null,"-"]
[null,null,null,null,null,null,null,null,null,null,null,null,null,null,null,null,null,null,1,"－",1]
[null,8,"13:40:00","10:30:00",null,null,null,null,null,{"$f":"E41","v":"姿川第一ＦＣ"},null,null,null,null,null,null,{"$f":"IF(OR(S60=\"\",S61=\"\"),\"\",S60+S61)","v":0},null,0,"－",5,{"$f":"IF(OR(U60=\"\",U61=\"\"),\"\",U60+U61)","v":6},null,{"$f":"AG42","v":"国本ＪＳＣ"},null,null,null,null,null,null,null,null,null,null,5,null,7,null,{"$f":"AK60","v":7},null,"-"]
[null,null,null,null,null,null,null,null,null,null,null,null,null,null,null,null,null,null,0,"－",1]
[null,9,"14:20:00","10:30:00",null,null,null,null,null,{"$f":"S41","v":"シャルムグランツＳＣ"},null,null,null,null,null,null,{"$f":"IF(OR(S62=\"\",S63=\"\"),\"\",S62+S63)","v":0},null,0,"－",1,{"$f":"IF(OR(U62=\"\",U63=\"\"),\"\",U62+U63)","v":1},null,{"$f":"AG40","v":"ＦＣブロケード"},null,null,null,null,null,null,null,null,null,null,4,null,6,null,{"$f":"AK62","v":6},null,"-"]
[null,null,null,null,null,null,null,null,null,null,null,null,null,null,null,null,null,null,0,"－",0]
[]
[null,null,null,"警告／退場",null,null,null,null,null,"チーム名",null,null,null,null,null,null,null,"氏名",null,null,null,null,null,null,null,null,"番号",null,null,"理由"]
[null,null,null,"警告　　退場"]
[null,null,null,"警告　　退場"]
[null,null,null,"警告　　退場"]
[]
[]
[]
[null,null,"会場",null,null,null,"豊郷北小小学校",null,null,null,null,null,null,null,null,"会場担当",null,null,null,"豊郷ＪＦＣ宇都宮",null,null,null,null,null,null,null,null,"開催日",null,null,null,"2018-09-09"]
[]
[null,null,1,null,{"$f":"$E$6","v":"陽東ＳＳＳ"},null,null,null,null,null,null,null,null,null,null,null,4,null,{"$f":"$S$6","v":"石井ＦＣ"},null,null,null,null,null,null,null,null,null,null,null,7,null,{"$f":"$AG$6","v":"ＦＣブロケード"}]
[null,null,2,null,{"$f":"$E$7","v":"姿川第一ＦＣ"},null,null,null,null,null,null,null,null,null,null,null,5,null,{"$f":"$S$7","v":"シャルムグランツＳＣ"},null,null,null,null,null,null,null,null,null,null,null,8,null,{"$f":"$AG$7","v":"栃木ＳＣジュニア"}]
[null,null,3,null,{"$f":"$E$8","v":"豊郷ＪＦＣ宇都宮"},null,null,null,null,null,null,null,null,null,null,null,6,null,{"$f":"$S$8","v":"ｕｎｉｏｎ ｓｃ"},null,null,null,null,null,null,null,null,null,null,null,9,null,{"$f":"$AG$8","v":"国本ＪＳＣ"}]
[]
[null,"【監督会議：8時20分】【試合時間：15分-3分-15分】"]
[null,null,"試合開始",null,null,"代表者サイン",null,null,null,"チーム名",null,null,null,null,null,null,"得点",null,null,null,null,null,null,"チーム名",null,null,null,null,null,null,"代表者サイン",null,null,null,"主審",null,"副審",null,"副審",null,"４審"]
[null,1,"09:00:00",null,null,null,null,null,null,{"$f":"S74","v":"石井ＦＣ"},null,null,null,null,null,null,{"$f":"IF(OR(S80=\"\",S81=\"\"),\"\",S80+S81)","v":0},null,0,"－",0,{"$f":"IF(OR(U80=\"\",U81=\"\"),\"\",U80+U81)","v":0},null,{"$f":"AG74","v":"ＦＣブロケード"},null,null,null,null,null,null,null,null,null,null,5,null,8,null,{"$f":"AK80","v":8},null,"-"]
[null,null,null,null,null,null,null,null,null,null,null,null,null,null,null,null,null,null,0,"－",0]
[null,2,"09:40:00","10:30:00",null,null,null,null,null,{"$f":"S75","v":"シャルムグランツＳＣ"},null,null,null,null,null,null,{"$f":"IF(OR(S82=\"\",S83=\"\"),\"\",S82+S83)","v":0},null,0,"－",4,{"$f":"IF(OR(U82=\"\",U83=\"\"),\"\",U82+U83)","v":8},null,{"$f":"AG75","v":"栃木ＳＣジュニア"},null,null,null,null,null,null,null,null,null,null,4,null,7,null,{"$f":"AK82","v":7},null,"-"]
[null,null,null,null,null,null,null,null,null,null,null,null,null,null,null,null,null,null,0,"－",4]
[null,3,"10:20:00",null,null,null,null,null,null,{"$f":"S76","v":"ｕｎｉｏｎ ｓｃ"},null,null,null,null,null,null,{"$f":"IF(OR(S84=\"\",S85=\"\"),\"\",S84+S85)","v":1},null,1,"－",1,{"$f":"IF(OR(U84=\"\",U85=\"\"),\"\",U84+U85)","v":2},null,{"$f":"AG76","v":"国本ＪＳＣ"},null,null,null,null,null,null,null,null,null,null,1,null,4,null,{"$f":"AK84","v":4},null,"-"]
[null,null,null,null,null,null,null,null,null,null,null,null,null,null,null,null,null,null,0,"－",1]
[null,4,"11:00:00","10:30:00",null,null,null,null,null,{"$f":"E74","v":"陽東ＳＳＳ"},null,null,null,null,null,null,{"$f":"IF(OR(S86=\"\",S87=\"\"),\"\",S86+S87)","v":2},null,1,"－",1,{"$f":"IF(OR(U86=\"\",U87=\"\"),\"\",U86+U87)","v":1},null,{"$f":"S74","v":"石井ＦＣ"},null,null,null,null,null,null,null,null,null,null,6,null,9,null,{"$f":"AK86","v":9},null,"-"]
[null,null,null,null,null,null,null,null,null,null,null,null,null,null,null,null,null,null,1,"－",0]
[null,5,"11:40:00",null,null,null,null,null,null,{"$f":"E75","v":"姿川第一ＦＣ"},null,null,null,null,null,null,{"$f":"IF(OR(S88=\"\",S89=\"\"),\"\",S88+S89)","v":3},null,1,"－",0,{"$f":"IF(OR(U88=\"\",U89=\"\"),\"\",U88+U89)","v":0},null,{"$f":"S75","v":"シャルムグランツＳＣ"},null,null,null,null,null,null,null,null,null,null,3,null,6,null,{"$f":"AK88","v":6},null,"-"]
[null,null,null,null,null,null,null,null,null,null,null,null,null,null,null,null,null,null,2,"－",0]
[null,6,"12:20:00",null,null,null,null,null,null,{"$f":"E76","v":"豊郷ＪＦＣ宇都宮"},null,null,null,null,null,null,{"$f":"IF(OR(S90=\"\",S91=\"\"),\"\",S90+S91)","v":0},null,0,"－",2,{"$f":"IF(OR(U90=\"\",U91=\"\"),\"\",U90+U91)","v":3},null,{"$f":"S76","v":"ｕｎｉｏｎ ｓｃ"},null,null,null,null,null,null,null,null,null,null,2,null,5,null,{"$f":"AK90","v":5},null,"-"]
[null,null,null,null,null,null,null,null,null,null,null,null,null,null,null,null,null,null,0,"－",1]
[null,7,"13:00:00",null,null,null,null,null,null,{"$f":"E74","v":"陽東ＳＳＳ"},null,null,null,null,null,null,{"$f":"IF(OR(S92=\"\",S93=\"\"),\"\",S92+S93)","v":1},null,1,"－",0,{"$f":"IF(OR(U92=\"\",U93=\"\"),\"\",U92+U93)","v":2},null,{"$f":"AG74","v":"ＦＣブロケード"},null,null,null,null,null,null,null,null,null,null,8,null,2,null,{"$f":"AK92","v":2},null,"-"]
[null,null,null,null,null,null,null,null,null,null,null,null,null,null,null,null,null,null,0,"－",2]
[null,8,"13:40:00","10:30:00",null,null,null,null,null,{"$f":"E75","v":"姿川第一ＦＣ"},null,null,null,null,null,null,{"$f":"IF(OR(S94=\"\",S95=\"\"),\"\",S94+S95)","v":0},null,0,"－",3,{"$f":"IF(OR(U94=\"\",U95=\"\"),\"\",U94+U95)","v":6},null,{"$f":"AG75","v":"栃木ＳＣジュニア"},null,null,null,null,null,null,null,null,null,null,9,null,3,null,{"$f":"AK94","v":3},null,"-"]
[null,null,null,null,null,null,null,null,null,null,null,null,null,null,null,null,null,null,0,"－",3]
[null,9,"14:20:00","10:30:00",null,null,null,null,null,{"$f":"E76","v":"豊郷ＪＦＣ宇都宮"},null,null,null,null,null,null,{"$f":"IF(OR(S96=\"\",S97=\"\"),\"\",S96+S97)","v":0},null,0,"－",1,{"$f":"IF(OR(U96=\"\",U97=\"\"),\"\",U96+U97)","v":1},null,{"$f":"AG76","v":"国本ＪＳＣ"},null,null,null,null,null,null,null,null,null,null,7,null,1,null,{"$f":"AK96","v":1},null,"-"]
[null,null,null,null,null,null,null,null,null,null,null,null,null,null,null,null,null,null,0,"－",0]
[]
[null,null,null,"警告／退場",null,null,null,null,null,"チーム名",null,null,null,null,null,null,null,"氏名",null,null,null,null,null,null,null,null,"番号",null,null,"理由"]
[null,null,null,"警告　　退場"]
[null,null,null,"警告　　退場"]
[null,null,null,"警告　　退場"]
[]
[]
[]
[null,null,"会場",null,null,null,"豊郷北小小学校",null,null,null,null,null,null,null,null,"会場担当",null,null,null,"豊郷ＪＦＣ宇都宮",null,null,null,null,null,null,null,null,"開催日",null,null,null,"2018-09-17"]
[]
[null,null,1,null,{"$f":"$E$6","v":"陽東ＳＳＳ"},null,null,null,null,null,null,null,null,null,null,null,4,null,{"$f":"$S$6","v":"石井ＦＣ"},null,null,null,null,null,null,null,null,null,null,null,7,null,{"$f":"$AG$6","v":"ＦＣブロケード"}]
[null,null,2,null,{"$f":"$E$7","v":"姿川第一ＦＣ"},null,null,null,null,null,null,null,null,null,null,null,5,null,{"$f":"$S$7","v":"シャルムグランツＳＣ"},null,null,null,null,null,null,null,null,null,null,null,8,null,{"$f":"$AG$7","v":"栃木ＳＣジュニア"}]
[null,null,3,null,{"$f":"$E$8","v":"豊郷ＪＦＣ宇都宮"},null,null,null,null,null,null,null,null,null,null,null,6,null,{"$f":"$S$8","v":"ｕｎｉｏｎ ｓｃ"},null,null,null,null,null,null,null,null,null,null,null,9,null,{"$f":"$AG$8","v":"国本ＪＳＣ"}]
[]
[null,"【監督会議：8時20分】【試合時間：15分-3分-15分】"]
[null,null,"試合開始",null,null,"代表者サイン",null,null,null,"チーム名",null,null,null,null,null,null,"得点",null,null,null,null,null,null,"チーム名",null,null,null,null,null,null,"代表者サイン",null,null,null,"主審",null,"副審",null,"副審",null,"４審"]
[null,1,"09:00:00",null,null,null,null,null,null,{"$f":"E110","v":"豊郷ＪＦＣ宇都宮"},null,null,null,null,null,null,{"$f":"IF(OR(S114=\"\",S115=\"\"),\"\",S114+S115)","v":2},null,0,"－",0,{"$f":"IF(OR(U114=\"\",U115=\"\"),\"\",U114+U115)","v":0},null,{"$f":"AG108","v":"ＦＣブロケード"},null,null,null,null,null,null,null,null,null,null,4,null,8,null,{"$f":"AK114","v":8},null,"-"]
[null,null,null,null,null,null,null,null,null,null,null,null,null,null,null,null,null,null,2,"－",0]
[null,2,"09:40:00","10:30:00",null,null,null,null,null,{"$f":"S108","v":"石井ＦＣ"},null,null,null,null,null,null,{"$f":"IF(OR(S116=\"\",S117=\"\"),\"\",S116+S117)","v":0},null,0,"－",4,{"$f":"IF(OR(U116=\"\",U117=\"\"),\"\",U116+U117)","v":6},null,{"$f":"AG109","v":"栃木ＳＣジュニア"},null,null,null,null,null,null,null,null,null,null,3,null,7,null,{"$f":"AK116","v":7},null,"-"]
[null,null,null,null,null,null,null,null,null,null,null,null,null,null,null,null,null,null,0,"－",2]
[null,3,"10:20:00",null,null,null,null,null,null,{"$f":"S109","v":"シャルムグランツＳＣ"},null,null,null,null,null,null,{"$f":"IF(OR(S118=\"\",S119=\"\"),\"\",S118+S119)","v":0},null,0,"－",3,{"$f":"IF(OR(U118=\"\",U119=\"\"),\"\",U118+U119)","v":5},null,{"$f":"AG110","v":"国本ＪＳＣ"},null,null,null,null,null,null,null,null,null,null,6,null,1,null,{"$f":"AK118","v":1},null,"-"]
[null,null,null,null,null,null,null,null,null,null,null,null,null,null,null,null,null,null,0,"－",2]
[null,4,"11:00:00","10:30:00",null,null,null,null,null,{"$f":"E108","v":"陽東ＳＳＳ"},null,null,null,null,null,null,{"$f":"IF(OR(S120=\"\",S121=\"\"),\"\",S120+S121)","v":0},null,0,"－",0,{"$f":"IF(OR(U120=\"\",U121=\"\"),\"\",U120+U121)","v":1},null,{"$f":"S110","v":"ｕｎｉｏｎ ｓｃ"},null,null,null,null,null,null,null,null,null,null,5,null,9,null,{"$f":"AK120","v":9},null,"-"]
[null,null,null,null,null,null,null,null,null,null,null,null,null,null,null,null,null,null,0,"－",1]
[null,5,"11:40:00",null,null,null,null,null,null,{"$f":"E109","v":"姿川第一ＦＣ"},null,null,null,null,null,null,{"$f":"IF(OR(S122=\"\",S123=\"\"),\"\",S122+S123)","v":3},null,0,"－",0,{"$f":"IF(OR(U122=\"\",U123=\"\"),\"\",U122+U123)","v":1},null,{"$f":"AG108","v":"ＦＣブロケード"},null,null,null,null,null,null,null,null,null,null,8,null,3,null,{"$f":"AK122","v":3},null,"-"]
[null,null,null,null,null,null,null,null,null,null,null,null,null,null,null,null,null,null,3,"－",1]
[null,6,"12:20:00",null,null,null,null,null,null,{"$f":"E110","v":"豊郷ＪＦＣ宇都宮"},null,null,null,null,null,null,{"$f":"IF(OR(S124=\"\",S125=\"\"),\"\",S124+S125)","v":0},null,0,"－",3,{"$f":"IF(OR(U124=\"\",U125=\"\"),\"\",U124+U125)","v":4},null,{"$f":"AG109","v":"栃木ＳＣジュニア"},null,null,null,null,null,null,null,null,null,null,7,null,2,null,{"$f":"AK124","v":2},null,"-"]
[null,null,null,null,null,null,null,null,null,null,null,null,null,null,null,null,null,null,0,"－",1]
[null,7,"13:00:00",null,null,null,null,null,null,{"$f":"S108","v":"石井ＦＣ"},null,null,null,null,null,null,{"$f":"IF(OR(S126=\"\",S127=\"\"),\"\",S126+S127)","v":2},null,1,"－",5,{"$f":"IF(OR(U126=\"\",U127=\"\"),\"\",U126+U127)","v":7},null,{"$f":"AG110","v":"国本ＪＳＣ"},null,null,null,null,null,null,null,null,null,null,1,null,5,null,{"$f":"AK126","v":5},null,"-"]
[null,null,null,null,null,null,null,null,null,null,null,null,null,null,null,null,null,null,1,"－",2]
[null,8,"13:40:00","10:30:00",null,null,null,null,null,{"$f":"E108","v":"陽東ＳＳＳ"},null,null,null,null,null,null,{"$f":"IF(OR(S128=\"\",S129=\"\"),\"\",S128+S129)","v":4},null,1,"－",0,{"$f":"IF(OR(U128=\"\",U129=\"\"),\"\",U128+U129)","v":0},null,{"$f":"S109","v":"シャルムグランツＳＣ"},null,null,null,null,null,null,null,null,null,null,2,null,6,null,{"$f":"AK128","v":6},null,"-"]
[null,null,null,null,null,null,null,null,null,null,null,null,null,null,null,null,null,null,3,"－",0]
[null,9,"14:20:00","10:30:00",null,null,null,null,null,{"$f":"E109","v":"姿川第一ＦＣ"},null,null,null,null,null,null,{"$f":"IF(OR(S130=\"\",S131=\"\"),\"\",S130+S131)","v":1},null,1,"－",1,{"$f":"IF(OR(U130=\"\",U131=\"\"),\"\",U130+U131)","v":1},null,{"$f":"S110","v":"ｕｎｉｏｎ ｓｃ"},null,null,null,null,null,null,null,null,null,null,9,null,4,null,{"$f":"AK130","v":4},null,"-"]
[null,null,null,null,null,null,null,null,null,null,null,null,null,null,null,null,null,null,0,"－",0]
[]
[null,null,null,"警告／退場",null,null,null,null,null,"チーム名",null,null,null,null,null,null,null,"氏名",null,null,null,null,null,null,null,null,"番号",null,null,"理由"]
[null,null,null,"警告　　退場"]
[null,null,null,"警告　　退場"]
[null,null,null,"警告　　退場"]

{"sheet":"対戦表（Cブロック）","index":5,"n_rows":136,"n_cols":41,"rows_kept":136,"cut":false,"hidden":false,"merged":[[134,3,134,8],[134,9,134,16],[134,17,134,25],[134,26,134,28],[134,29,134,38],[135,3,135,8],[135,9,135,16],[135,17,135,25],[135,26,135,28],[135,29,135,38],[132,3,132,8],[132,9,132,16],[132,17,132,25],[132,26,132,28],[132,29,132,38],[133,3,133,8],[133,9,133,16],[133,17,133,25],[133,26,133,28],[133,29,133,38],[129,23,130,29],[129,30,130,33],[129,34,130,35],[129,36,130,37],[129,38,130,39],[129,40,130,41],[129,1,130,1],[129,2,130,4],[129,5,130,8],[129,9,130,15],[129,16,130,17],[129,21,130,22],[127,23,128,29],[127,30,128,33],[127,34,128,35],[127,36,128,37],[127,38,128,39],[127,40,128,41],[127,1,128,1],[127,2,128,4],[127,5,128,8],[127,9,128,15],[127,16,128,17],[127,21,128,22],[125,23,126,29],[125,30,126,33],[125,34,126,35],[125,36,126,37],[125,38,126,39],[125,40,126,41],[125,1,126,1],[125,2,126,4],[125,5,126,8],[125,9,126,15],[125,16,126,17],[125,21,126,22],[123,23,124,29],[123,30,124,33],[123,34,124,35],[123,36,124,37],[123,38,124,39],[123,40,124,41],[123,1,124,1],[123,2,124,4],[123,5,124,8],[123,9,124,15],[123,16,124,17],[123,21,124,22],[121,23,122,29],[121,30,122,33],[121,34,122,35],[121,36,122,37],[121,38,122,39],[121,40,122,41],[121,1,122,1],[121,2,122,4],[121,5,122,8],[121,9,122,15],[121,16,122,17],[121,21,122,22],[119,23,120,29],[119,30,120,33],[119,34,120,35],[119,36,120,37],[119,38,120,39],[119,40,120,41],[119,1,120,1],[119,2,120,4],[119,5,120,8],[119,9,120,15],[119,16,120,17],[119,21,120,22],[117,23,118,29],[117,30,118,33],[117,34,118,35],[117,36,118,37],[117,38,118,39],[117,40,118,41],[117,1,118,1],[117,2,118,4],[117,5,118,8],[117,9,118,15],[117,16,118,17],[117,21,118,22],[115,23,116,29],[115,30,116,33],[115,34,116,35],[115,36,116,37],[115,38,116,39],[115,40,116,41],[115,1,116,1],[115,2,116,4],[115,5,116,8],[115,9,116,15],[115,16,116,17],[115,21,116,22],[113,23,114,29],[113,30,114,33],[113,34,114,35],[113,36,114,37],[113,38,114,39],[113,40,114,41],[112,34,112,35],[112,36,112,37],[112,38,112,39],[112,40,112,41],[112,23,112,29],[112,30,112,33],[113,1,114,1],[113,2,114,4],[113,5,114,8],[113,9,114,15],[113,16,114,17],[113,21,114,22],[112,2,112,4],[112,5,112,8],[112,9,112,15],[112,16,112,22],[109,2,109,3],[109,4,109,13],[109,16,109,17],[109,18,109,27],[109,30,109,31],[109,32,109,41],[108,2,108,3],[108,4,108,13],[108,16,108,17],[108,18,108,27],[108,30,108,31],[108,32,108,41],[107,2,107,3],[107,4,107,13],[107,16,107,17],[107,18,107,27],[107,30,107,31],[107,32,107,41],[105,2,105,5],[105,6,105,14],[105,15,105,18],[105,19,105,27],[105,28,105,31],[105,32,105,40],[100,3,100,8],[100,9,100,16],[100,17,100,25],[100,26,100,28],[100,29,100,38],[101,3,101,8],[101,9,101,16],[101,17,101,25],[101,26,101,28],[101,29,101,38],[98,3,98,8],[98,9,98,16],[98,17,98,25],[98,26,98,28],[98,29,98,38],[99,3,99,8],[99,9,99,16],[99,17,99,25],[99,26,99,28],[99,29,99,38],[95,23,96,29],[95,30,96,33],[95,34,96,35],[95,36,96,37],[95,38,96,39],[95,40,96,41],[95,1,96,1],[95,2,96,4],[95,5,96,8],[95,9,96,15],[95,16,96,17],[95,21,96,22],[93,23,94,29],[93,30,94,33],[93,34,94,35],[93,36,94,37],[93,38,94,39],[93,40,94,41],[93,1,94,1],[93,2,94,4],[93,5,94,8],[93,9,94,15],[93,16,94,17],[93,21,94,22],[91,23,92,29],[91,30,92,33],[91,34,92,35],[91,36,92,37],[91,38,92,39],[91,40,92,41],[91,1,92,1],[91,2,92,4],[91,5,92,8],[91,9,92,15],[91,16,92,17],[91,21,92,22],[89,23,90,29],[89,30,90,33],[89,34,90,35],[89,36,90,37],[89,38,90,39],[89,40,90,41],[89,1,90,1],[89,2,90,4],[89,5,90,8],[89,9,90,15],[89,16,90,17],[89,21,90,22],[87,23,88,29],[87,30,88,33],[87,34,88,35],[87,36,88,37],[87,38,88,39],[87,40,88,41],[87,1,88,1],[87,2,88,4],[87,5,88,8],[87,9,88,15],[87,16,88,17],[87,21,88,22],[85,23,86,29],[85,30,86,33],[85,34,86,35],[85,36,86,37],[85,38,86,39],[85,40,86,41],[85,1,86,1],[85,2,86,4],[85,5,86,8],[85,9,86,15],[85,16,86,17],[85,21,86,22],[83,23,84,29],[83,30,84,33],[83,34,84,35],[83,36,84,37],[83,38,84,39],[83,40,84,41],[83,1,84,1],[83,2,84,4],[83,5,84,8],[83,9,84,15],[83,16,84,17],[83,21,84,22],[81,23,82,29],[81,30,82,33],[81,34,82,35],[81,36,82,37],[81,38,82,39],[81,40,82,41],[81,1,82,1],[81,2,82,4],[81,5,82,8],[81,9,82,15],[81,16,82,17],[81,21,82,22],[79,23,80,29],[79,30,80,33],[79,34,80,35],[79,36,80,37],[79,38,80,39],[79,40,80,41],[78,34,78,35],[78,36,78,37],[78,38,78,39],[78,40,78,41],[78,23,78,29],[78,30,78,33],[79,1,80,1],[79,2,80,4],[79,5,80,8],[79,9,80,15],[79,16,80,17],[79,21,80,22],[78,2,78,4],[78,5,78,8],[78,9,78,15],[78,16,78,22],[75,2,75,3],[75,4,75,13],[75,16,75,17],[75,18,75,27],[75,30,75,31],[75,32,75,41],[74,2,74,3],[74,4,74,13],[74,16,74,17],[74,18,74,27],[74,30,74,31],[74,32,74,41],[73,2,73,3],[73,4,73,13],[73,16,73,17],[73,18,73,27],[73,30,73,31],[73,32,73,41],[71,2,71,5],[71,6,71,14],[71,15,71,18],[71,19,71,27],[71,28,71,31],[71,32,71,40],[66,3,66,8],[66,9,66,16],[66,17,66,25],[66,26,66,28],[66,29,66,38],[67,3,67,8],[67,9,67,16],[67,17,67,25],[67,26,67,28],[67,29,67,38],[64,3,64,8],[64,9,64,16],[64,17,64,25],[64,26,64,28],[64,29,64,38],[65,3,65,8],[65,9,65,16],[65,17,65,25],[65,26,65,28],[65,29,65,38],[61,23,62,29],[61,30,62,33],[61,34,62,35],[61,36,62,37],[61,38,62,39],[61,40,62,41],[61,1,62,1],[61,2,62,4],[61,5,62,8],[61,9,62,15],[61,16,62,17],[61,21,62,22],[59,23,60,29],[59,30,60,33],[59,34,60,35],[59,36,60,37],[59,38,60,39],[59,40,60,41],[59,1,60,1],[59,2,60,4],[59,5,60,8],[59,9,60,15],[59,16,60,17],[59,21,60,22],[57,23,58,29],[57,30,58,33],[57,34,58,35],[57,36,58,37],[57,38,58,39],[57,40,58,41],[57,1,58,1],[57,2,58,4],[57,5,58,8],[57,9,58,15],[57,16,58,17],[57,21,58,22],[55,23,56,29],[55,30,56,33],[55,34,56,35],[55,36,56,37],[55,38,56,39],[55,40,56,41],[55,1,56,1],[55,2,56,4],[55,5,56,8],[55,9,56,15],[55,16,56,17],[55,21,56,22],[53,23,54,29],[53,30,54,33],[53,34,54,35],[53,36,54,37],[53,38,54,39],[53,40,54,41],[53,1,54,1],[53,2,54,4],[53,5,54,8],[53,9,54,15],[53,16,54,17],[53,21,54,22],[51,23,52,29],[51,30,52,33],[51,34,52,35],[51,36,52,37],[51,38,52,39],[51,40,52,41],[51,1,52,1],[51,2,52,4],[51,5,52,8],[51,9,52,15],[51,16,52,17],[51,21,52,22],[49,23,50,29],[49,30,50,33],[49,34,50,35],[49,36,50,37],[49,38,50,39],[49,40,50,41],[49,1,50,1],[49,2,50,4],[49,5,50,8],[49,9,50,15],[49,16,50,17],[49,21,50,22],[47,23,48,29],[47,30,48,33],[47,34,48,35],[47,36,48,37],[47,38,48,39],[47,40,48,41],[47,1,48,1],[47,2,48,4],[47,5,48,8],[47,9,48,15],[47,16,48,17],[47,21,48,22],[45,23,46,29],[45,30,46,33],[45,34,46,35],[45,36,46,37],[45,38,46,39],[45,40,46,41],[44,34,44,35],[44,36,44,37],[44,38,44,39],[44,40,44,41],[44,23,44,29],[44,30,44,33],[45,1,46,1],[45,2,46,4],[45,5,46,8],[45,9,46,15],[45,16,46,17],[45,21,46,22],[44,2,44,4],[44,5,44,8],[44,9,44,15],[44,16,44,22],[41,2,41,3],[41,4,41,13],[41,16,41,17],[41,18,41,27],[41,30,41,31],[41,32,41,41],[40,2,40,3],[40,4,40,13],[40,16,40,17],[40,18,40,27],[40,30,40,31],[40,32,40,41],[39,2,39,3],[39,4,39,13],[39,16,39,17],[39,18,39,27],[39,30,39,31],[39,32,39,41],[37,2,37,5],[37,6,37,14],[37,15,37,18],[37,19,37,27],[37,28,37,31],[37,32,37,40],[32,3,32,8],[32,9,32,16],[32,17,32,25],[32,26,32,28],[32,29,32,38],[33,3,33,8],[33,9,33,16],[33,17,33,25],[33,26,33,28],[33,29,33,38],[30,3,30,8],[30,9,30,16],[30,17,30,25],[30,26,30,28],[30,29,30,38],[31,3,31,8],[31,9,31,16],[31,17,31,25],[31,26,31,28],[31,29,31,38],[27,23,28,29],[27,30,28,33],[27,34,28,35],[27,36,28,37],[27,38,28,39],[27,40,28,41],[27,1,28,1],[27,2,28,4],[27,5,28,8],[27,9,28,15],[27,16,28,17],[27,21,28,22],[25,23,26,29],[25,30,26,33],[25,34,26,35],[25,36,26,37],[25,38,26,39],[25,40,26,41],[25,1,26,1],[25,2,26,4],[25,5,26,8],[25,9,26,15],[25,16,26,17],[25,21,26,22],[23,23,24,29],[23,30,24,33],[23,34,24,35],[23,36,24,37],[23,38,24,39],[23,40,24,41],[23,1,24,1],[23,2,24,4],[23,5,24,8],[23,9,24,15],[23,16,24,17],[23,21,24,22],[21,23,22,29],[21,30,22,33],[21,34,22,35],[21,36,22,37],[21,38,22,39],[21,40,22,41],[21,1,22,1],[21,2,22,4],[21,5,22,8],[21,9,22,15],[21,16,22,17],[21,21,22,22],[19,23,20,29],[19,30,20,33],[19,34,20,35],[19,36,20,37],[19,38,20,39],[19,40,20,41],[19,1,20,1],[19,2,20,4],[19,5,20,8],[19,9,20,15],[19,16,20,17],[19,21,20,22],[17,23,18,29],[17,30,18,33],[17,34,18,35],[17,36,18,37],[17,38,18,39],[17,40,18,41],[17,1,18,1],[17,2,18,4],[17,5,18,8],[17,9,18,15],[17,16,18,17],[17,21,18,22],[15,23,16,29],[15,30,16,33],[15,34,16,35],[15,36,16,37],[15,38,16,39],[15,40,16,41],[15,1,16,1],[15,2,16,4],[15,5,16,8],[15,9,16,15],[15,16,16,17],[15,21,16,22],[13,23,14,29],[13,30,14,33],[13,34,14,35],[13,36,14,37],[13,38,14,39],[13,40,14,41],[13,1,14,1],[13,2,14,4],[13,5,14,8],[13,9,14,15],[13,16,14,17],[13,21,14,22],[11,23,12,29],[11,30,12,33],[11,34,12,35],[11,36,12,37],[11,38,12,39],[11,40,12,41],[10,34,10,35],[10,36,10,37],[10,38,10,39],[10,40,10,41],[10,23,10,29],[10,30,10,33],[11,1,12,1],[11,2,12,4],[11,5,12,8],[11,9,12,15],[11,16,12,17],[11,21,12,22],[10,2,10,4],[10,5,10,8],[10,9,10,15],[10,16,10,22],[7,2,7,3],[7,4,7,13],[7,16,7,17],[7,18,7,27],[7,30,7,31],[7,32,7,41],[6,2,6,3],[6,4,6,13],[6,16,6,17],[6,18,6,27],[6,30,6,31],[6,32,6,41],[5,2,5,3],[5,4,5,13],[5,16,5,17],[5,18,5,27],[5,30,5,31],[5,32,5,41],[3,2,3,5],[3,6,3,14],[3,15,3,18],[3,19,3,27],[3,28,3,31],[3,32,3,40]]}
[]
[]
[]
[null,null,"会場",null,null,null,"雀宮南小",null,null,null,null,null,null,null,null,"会場担当",null,null,null,"サウス宇都宮ＳＣ",null,null,null,null,null,null,null,null,"開催日",null,null,null,"2018-09-02"]
[]
[null,null,1,null,"Ｓ４スペランツァ",null,null,null,null,null,null,null,null,null,null,null,4,null,"サウス宇都宮ＳＣ",null,null,null,null,null,null,null,null,null,null,null,7,null,"カテット白沢ＳＳ"]
[null,null,2,null,"みはらＳＣ Ｊｒ",null,null,null,null,null,null,null,null,null,null,null,5,null,"ＦＣグランディール宇都宮",null,null,null,null,null,null,null,null,null,null,null,8,null,"宇都宮北部ＦＣトレ"]
[null,null,3,null,"ＦＣグラシアス",null,null,null,null,null,null,null,null,null,null,null,6,null,"昭和・戸祭ＳＣ",null,null,null,null,null,null,null,null,null,null,null,9,null,"ともぞうＳＣ U10"]
[]
[null,"【監督会議：8時20分】【試合時間：15分-3分-15分】【クーリングブレイク：試合当日監督会議内にて決定する】"]
[null,null,"試合開始",null,null,"代表者サイン",null,null,null,"チーム名",null,null,null,null,null,null,"得点",null,null,null,null,null,null,"チーム名",null,null,null,null,null,null,"代表者サイン",null,null,null,"主審",null,"副審",null,"副審",null,"４審"]
[null,1,"09:00:00",null,null,null,null,null,null,{"$f":"E6","v":"Ｓ４スペランツァ"},null,null,null,null,null,null,{"$f":"IF(OR(S12=\"\",S13=\"\"),\"\",S12+S13)","v":4},null,1,"－",0,{"$f":"IF(OR(U12=\"\",U13=\"\"),\"\",U12+U13)","v":3},null,{"$f":"E7","v":"みはらＳＣ Ｊｒ"},null,null,null,null,null,null,null,null,null,null,3,null,4,null,{"$f":"AK12","v":4},null,"-"]
[null,null,null,null,null,null,null,null,null,null,null,null,null,null,null,null,null,null,3,"－",3]
[null,2,"09:40:00","10:30:00",null,null,null,null,null,{"$f":"E8","v":"ＦＣグラシアス"},null,null,null,null,null,null,{"$f":"IF(OR(S14=\"\",S15=\"\"),\"\",S14+S15)","v":4},null,1,"－",0,{"$f":"IF(OR(U14=\"\",U15=\"\"),\"\",U14+U15)","v":1},null,{"$f":"S6","v":"サウス宇都宮ＳＣ"},null,null,null,null,null,null,null,null,null,null,1,null,2,null,{"$f":"AK14","v":2},null,"-"]
[null,null,null,null,null,null,null,null,null,null,null,null,null,null,null,null,null,null,3,"－",1]
[null,3,"10:20:00",null,null,null,null,null,null,{"$f":"S7","v":"ＦＣグランディール宇都宮"},null,null,null,null,null,null,{"$f":"IF(OR(S16=\"\",S17=\"\"),\"\",S16+S17)","v":3},null,1,"－",0,{"$f":"IF(OR(U16=\"\",U17=\"\"),\"\",U16+U17)","v":0},null,{"$f":"S8","v":"昭和・戸祭ＳＣ"},null,null,null,null,null,null,null,null,null,null,7,null,8,null,{"$f":"AK16","v":8},null,"-"]
[null,null,null,null,null,null,null,null,null,null,null,null,null,null,null,null,null,null,2,"－",0]
[null,4,"11:00:00","10:30:00",null,null,null,null,null,{"$f":"AG6","v":"カテット白沢ＳＳ"},null,null,null,null,null,null,{"$f":"IF(OR(S18=\"\",S19=\"\"),\"\",S18+S19)","v":4},null,1,"－",0,{"$f":"IF(OR(U18=\"\",U19=\"\"),\"\",U18+U19)","v":0},null,{"$f":"AG7","v":"宇都宮北部ＦＣトレ"},null,null,null,null,null,null,null,null,null,null,5,null,6,null,{"$f":"AK18","v":6},null,"-"]
[null,null,null,null,null,null,null,null,null,null,null,null,null,null,null,null,null,null,3,"－",0]
[null,5,"11:40:00",null,null,null,null,null,null,{"$f":"E6","v":"Ｓ４スペランツァ"},null,null,null,null,null,null,{"$f":"IF(OR(S20=\"\",S21=\"\"),\"\",S20+S21)","v":0},null,0,"－",0,{"$f":"IF(OR(U20=\"\",U21=\"\"),\"\",U20+U21)","v":1},null,{"$f":"AG8","v":"ともぞうＳＣ U10"},null,null,null,null,null,null,null,null,null,null,2,null,3,null,{"$f":"AK20","v":3},null,"-"]
[null,null,null,null,null,null,null,null,null,null,null,null,null,null,null,null,null,null,0,"－",1]
[null,6,"12:20:00",null,null,null,null,null,null,{"$f":"E7","v":"みはらＳＣ Ｊｒ"},null,null,null,null,null,null,{"$f":"IF(OR(S22=\"\",S23=\"\"),\"\",S22+S23)","v":3},null,2,"－",1,{"$f":"IF(OR(U22=\"\",U23=\"\"),\"\",U22+U23)","v":1},null,{"$f":"E8","v":"ＦＣグラシアス"},null,null,null,null,null,null,null,null,null,null,9,null,1,null,{"$f":"AK22","v":1},null,"-"]
[null,null,null,null,null,null,null,null,null,null,null,null,null,null,null,null,null,null,1,"－",0]
[null,7,"13:00:00",null,null,null,null,null,null,{"$f":"S6","v":"サウス宇都宮ＳＣ"},null,null,null,null,null,null,{"$f":"IF(OR(S24=\"\",S25=\"\"),\"\",S24+S25)","v":0},null,0,"－",2,{"$f":"IF(OR(U24=\"\",U25=\"\"),\"\",U24+U25)","v":6},null,{"$f":"S7","v":"ＦＣグランディール宇都宮"},null,null,null,null,null,null,null,null,null,null,6,null,7,null,{"$f":"AK24","v":7},null,"-"]
[null,null,null,null,null,null,null,null,null,null,null,null,null,null,null,null,null,null,0,"－",4]
[null,8,"13:40:00","10:30:00",null,null,null,null,null,{"$f":"S8","v":"昭和・戸祭ＳＣ"},null,null,null,null,null,null,{"$f":"IF(OR(S26=\"\",S27=\"\"),\"\",S26+S27)","v":0},null,0,"－",1,{"$f":"IF(OR(U26=\"\",U27=\"\"),\"\",U26+U27)","v":1},null,{"$f":"AG6","v":"カテット白沢ＳＳ"},null,null,null,null,null,null,null,null,null,null,8,null,9,null,{"$f":"AK26","v":9},null,"-"]
[null,null,null,null,null,null,null,null,null,null,null,null,null,null,null,null,null,null,0,"－",0]
[null,9,"14:20:00","10:30:00",null,null,null,null,null,{"$f":"AG7","v":"宇都宮北部ＦＣトレ"},null,null,null,null,null,null,{"$f":"IF(OR(S28=\"\",S29=\"\"),\"\",S28+S29)","v":0},null,0,"－",10,{"$f":"IF(OR(U28=\"\",U29=\"\"),\"\",U28+U29)","v":18},null,{"$f":"AG8","v":"ともぞうＳＣ U10"},null,null,null,null,null,null,null,null,null,null,4,null,5,null,{"$f":"AK28","v":5},null,"-"]
[null,null,null,null,null,null,null,null,null,null,null,null,null,null,null,null,null,null,0,"－",8]
[]
[null,null,null,"警告／退場",null,null,null,null,null,"チーム名",null,null,null,null,null,null,null,"氏名",null,null,null,null,null,null,null,null,"番号",null,null,"理由"]
[null,null,null,"警告　　退場"]
[null,null,null,"警告　　退場"]
[null,null,null,"警告　　退場"]
[]
[]
[]
[null,null,"会場",null,null,null,"雀宮南小",null,null,null,null,null,null,null,null,"会場担当",null,null,null,"サウス宇都宮ＳＣ",null,null,null,null,null,null,null,null,"開催日",null,null,null,"2018-09-08"]
[]
[null,null,1,null,{"$f":"$E$6","v":"Ｓ４スペランツァ"},null,null,null,null,null,null,null,null,null,null,null,4,null,{"$f":"$S$6","v":"サウス宇都宮ＳＣ"},null,null,null,null,null,null,null,null,null,null,null,7,null,{"$f":"$AG$6","v":"カテット白沢ＳＳ"}]
[null,null,2,null,{"$f":"$E$7","v":"みはらＳＣ Ｊｒ"},null,null,null,null,null,null,null,null,null,null,null,5,null,{"$f":"$S$7","v":"ＦＣグランディール宇都宮"},null,null,null,null,null,null,null,null,null,null,null,8,null,{"$f":"$AG$7","v":"宇都宮北部ＦＣトレ"}]
[null,null,3,null,{"$f":"$E$8","v":"ＦＣグラシアス"},null,null,null,null,null,null,null,null,null,null,null,6,null,{"$f":"$S$8","v":"昭和・戸祭ＳＣ"},null,null,null,null,null,null,null,null,null,null,null,9,null,{"$f":"$AG$8","v":"ともぞうＳＣ U10"}]
[]
[null,"【監督会議：8時20分】【試合時間：15分-3分-15分】"]
[null,null,"試合開始",null,null,"代表者サイン",null,null,null,"チーム名",null,null,null,null,null,null,"得点",null,null,null,null,null,null,"チーム名",null,null,null,null,null,null,"代表者サイン",null,null,null,"主審",null,"副審",null,"副審",null,"４審"]
[null,1,"09:00:00",null,null,null,null,null,null,{"$f":"E40","v":"Ｓ４スペランツァ"},null,null,null,null,null,null,{"$f":"IF(OR(S46=\"\",S47=\"\"),\"\",S46+S47)","v":3},null,1,"－",0,{"$f":"IF(OR(U46=\"\",U47=\"\"),\"\",U46+U47)","v":0},null,{"$f":"E42","v":"ＦＣグラシアス"},null,null,null,null,null,null,null,null,null,null,6,null,8,null,{"$f":"AK46","v":8},null,"-"]
[null,null,null,null,null,null,null,null,null,null,null,null,null,null,null,null,null,null,2,"－",0]
[null,2,"09:40:00","10:30:00",null,null,null,null,null,{"$f":"S42","v":"昭和・戸祭ＳＣ"},null,null,null,null,null,null,{"$f":"IF(OR(S48=\"\",S49=\"\"),\"\",S48+S49)","v":6},null,1,"－",0,{"$f":"IF(OR(U48=\"\",U49=\"\"),\"\",U48+U49)","v":0},null,{"$f":"AG41","v":"宇都宮北部ＦＣトレ"},null,null,null,null,null,null,null,null,null,null,1,null,3,null,{"$f":"AK48","v":3},null,"-"]
[null,null,null,null,null,null,null,null,null,null,null,null,null,null,null,null,null,null,5,"－",0]
[null,3,"10:20:00",null,null,null,null,null,null,{"$f":"E41","v":"みはらＳＣ Ｊｒ"},null,null,null,null,null,null,{"$f":"IF(OR(S50=\"\",S51=\"\"),\"\",S50+S51)","v":5},null,0,"－",0,{"$f":"IF(OR(U50=\"\",U51=\"\"),\"\",U50+U51)","v":0},null,{"$f":"S40","v":"サウス宇都宮ＳＣ"},null,null,null,null,null,null,null,null,null,null,7,null,9,null,{"$f":"AK50","v":9},null,"-"]
[null,null,null,null,null,null,null,null,null,null,null,null,null,null,null,null,null,null,5,"－",0]
[null,4,"11:00:00","10:30:00",null,null,null,null,null,{"$f":"AG40","v":"カテット白沢ＳＳ"},null,null,null,null,null,null,{"$f":"IF(OR(S52=\"\",S53=\"\"),\"\",S52+S53)","v":0},null,0,"－",0,{"$f":"IF(OR(U52=\"\",U53=\"\"),\"\",U52+U53)","v":0},null,{"$f":"AG42","v":"ともぞうＳＣ U10"},null,null,null,null,null,null,null,null,null,null,2,null,4,null,{"$f":"AK52","v":4},null,"-"]
[null,null,null,null,null,null,null,null,null,null,null,null,null,null,null,null,null,null,0,"－",0]
[null,5,"11:40:00",null,null,null,null,null,null,{"$f":"E42","v":"ＦＣグラシアス"},null,null,null,null,null,null,{"$f":"IF(OR(S54=\"\",S55=\"\"),\"\",S54+S55)","v":0},null,0,"－",2,{"$f":"IF(OR(U54=\"\",U55=\"\"),\"\",U54+U55)","v":3},null,{"$f":"S41","v":"ＦＣグランディール宇都宮"},null,null,null,null,null,null,null,null,null,null,8,null,1,null,{"$f":"AK54","v":1},null,"-"]
[null,null,null,null,null,null,null,null,null,null,null,null,null,null,null,null,null,null,0,"－",1]
[null,6,"12:20:00",null,null,null,null,null,null,{"$f":"E40","v":"Ｓ４スペランツァ"},null,null,null,null,null,null,{"$f":"IF(OR(S56=\"\",S57=\"\"),\"\",S56+S57)","v":15},null,7,"－",0,{"$f":"IF(OR(U56=\"\",U57=\"\"),\"\",U56+U57)","v":0},null,{"$f":"AG41","v":"宇都宮北部ＦＣトレ"},null,null,null,null,null,null,null,null,null,null,3,null,5,null,{"$f":"AK56","v":5},null,"-"]
[null,null,null,null,null,null,null,null,null,null,null,null,null,null,null,null,null,null,8,"－",0]
[null,7,"13:00:00",null,null,null,null,null,null,{"$f":"S40","v":"サウス宇都宮ＳＣ"},null,null,null,null,null,null,{"$f":"IF(OR(S58=\"\",S59=\"\"),\"\",S58+S59)","v":0},null,0,"－",2,{"$f":"IF(OR(U58=\"\",U59=\"\"),\"\",U58+U59)","v":6},null,{"$f":"S42","v":"昭和・戸祭ＳＣ"},null,null,null,null,null,null,null,null,null,null,9,null,2,null,{"$f":"AK58","v":2},null,"-"]
[null,null,null,null,null,null,null,null,null,null,null,null,null,null,null,null,null,null,0,"－",4]
[null,8,"13:40:00","10:30:00",null,null,null,null,null,{"$f":"E41","v":"みはらＳＣ Ｊｒ"},null,null,null,null,null,null,{"$f":"IF(OR(S60=\"\",S61=\"\"),\"\",S60+S61)","v":1},null,1,"－",1,{"$f":"IF(OR(U60=\"\",U61=\"\"),\"\",U60+U61)","v":2},null,{"$f":"AG42","v":"ともぞうＳＣ U10"},null,null,null,null,null,null,null,null,null,null,5,null,7,null,{"$f":"AK60","v":7},null,"-"]
[null,null,null,null,null,null,null,null,null,null,null,null,null,null,null,null,null,null,0,"－",1]
[null,9,"14:20:00","10:30:00",null,null,null,null,null,{"$f":"S41","v":"ＦＣグランディール宇都宮"},null,null,null,null,null,null,{"$f":"IF(OR(S62=\"\",S63=\"\"),\"\",S62+S63)","v":3},null,3,"－",0,{"$f":"IF(OR(U62=\"\",U63=\"\"),\"\",U62+U63)","v":1},null,{"$f":"AG40","v":"カテット白沢ＳＳ"},null,null,null,null,null,null,null,null,null,null,4,null,6,null,{"$f":"AK62","v":6},null,"-"]
[null,null,null,null,null,null,null,null,null,null,null,null,null,null,null,null,null,null,0,"－",1]
[]
[null,null,null,"警告／退場",null,null,null,null,null,"チーム名",null,null,null,null,null,null,null,"氏名",null,null,null,null,null,null,null,null,"番号",null,null,"理由"]
[null,null,null,"警告　　退場"]
[null,null,null,"警告　　退場"]
[null,null,null,"警告　　退場"]
[]
[]
[]
[null,null,"会場",null,null,null,"雀宮南小",null,null,null,null,null,null,null,null,"会場担当",null,null,null,"サウス宇都宮ＳＣ",null,null,null,null,null,null,null,null,"開催日",null,null,null,"2018-09-09"]
[]
[null,null,1,null,{"$f":"$E$6","v":"Ｓ４スペランツァ"},null,null,null,null,null,null,null,null,null,null,null,4,null,{"$f":"$S$6","v":"サウス宇都宮ＳＣ"},null,null,null,null,null,null,null,null,null,null,null,7,null,{"$f":"$AG$6","v":"カテット白沢ＳＳ"}]
[null,null,2,null,{"$f":"$E$7","v":"みはらＳＣ Ｊｒ"},null,null,null,null,null,null,null,null,null,null,null,5,null,{"$f":"$S$7","v":"ＦＣグランディール宇都宮"},null,null,null,null,null,null,null,null,null,null,null,8,null,{"$f":"$AG$7","v":"宇都宮北部ＦＣトレ"}]
[null,null,3,null,{"$f":"$E$8","v":"ＦＣグラシアス"},null,null,null,null,null,null,null,null,null,null,null,6,null,{"$f":"$S$8","v":"昭和・戸祭ＳＣ"},null,null,null,null,null,null,null,null,null,null,null,9,null,{"$f":"$AG$8","v":"ともぞうＳＣ U10"}]
[]
[null,"【監督会議：8時20分】【試合時間：15分-3分-15分】"]
[null,null,"試合開始",null,null,"代表者サイン",null,null,null,"チーム名",null,null,null,null,null,null,"得点",null,null,null,null,null,null,"チーム名",null,null,null,null,null,null,"代表者サイン",null,null,null,"主審",null,"副審",null,"副審",null,"４審"]
[null,1,"09:00:00",null,null,null,null,null,null,{"$f":"S74","v":"サウス宇都宮ＳＣ"},null,null,null,null,null,null,{"$f":"IF(OR(S80=\"\",S81=\"\"),\"\",S80+S81)","v":0},null,0,"－",0,{"$f":"IF(OR(U80=\"\",U81=\"\"),\"\",U80+U81)","v":1},null,{"$f":"AG74","v":"カテット白沢ＳＳ"},null,null,null,null,null,null,null,null,null,null,5,null,8,null,{"$f":"AK80","v":8},null,"-"]
[null,null,null,null,null,null,null,null,null,null,null,null,null,null,null,null,null,null,0,"－",1]
[null,2,"09:40:00","10:30:00",null,null,null,null,null,{"$f":"S75","v":"ＦＣグランディール宇都宮"},null,null,null,null,null,null,{"$f":"IF(OR(S82=\"\",S83=\"\"),\"\",S82+S83)","v":17},null,11,"－",0,{"$f":"IF(OR(U82=\"\",U83=\"\"),\"\",U82+U83)","v":0},null,{"$f":"AG75","v":"宇都宮北部ＦＣトレ"},null,null,null,null,null,null,null,null,null,null,4,null,7,null,{"$f":"AK82","v":7},null,"-"]
[null,null,null,null,null,null,null,null,null,null,null,null,null,null,null,null,null,null,6,"－",0]
[null,3,"10:20:00",null,null,null,null,null,null,{"$f":"S76","v":"昭和・戸祭ＳＣ"},null,null,null,null,null,null,{"$f":"IF(OR(S84=\"\",S85=\"\"),\"\",S84+S85)","v":0},null,0,"－",0,{"$f":"IF(OR(U84=\"\",U85=\"\"),\"\",U84+U85)","v":4},null,{"$f":"AG76","v":"ともぞうＳＣ U10"},null,null,null,null,null,null,null,null,null,null,1,null,4,null,{"$f":"AK84","v":4},null,"-"]
[null,null,null,null,null,null,null,null,null,null,null,null,null,null,null,null,null,null,0,"－",4]
[null,4,"11:00:00","10:30:00",null,null,null,null,null,{"$f":"E74","v":"Ｓ４スペランツァ"},null,null,null,null,null,null,{"$f":"IF(OR(S86=\"\",S87=\"\"),\"\",S86+S87)","v":5},null,2,"－",0,{"$f":"IF(OR(U86=\"\",U87=\"\"),\"\",U86+U87)","v":0},null,{"$f":"S74","v":"サウス宇都宮ＳＣ"},null,null,null,null,null,null,null,null,null,null,6,null,9,null,{"$f":"AK86","v":9},null,"-"]
[null,null,null,null,null,null,null,null,null,null,null,null,null,null,null,null,null,null,3,"－",0]
[null,5,"11:40:00",null,null,null,null,null,null,{"$f":"E75","v":"みはらＳＣ Ｊｒ"},null,null,null,null,null,null,{"$f":"IF(OR(S88=\"\",S89=\"\"),\"\",S88+S89)","v":1},null,1,"－",3,{"$f":"IF(OR(U88=\"\",U89=\"\"),\"\",U88+U89)","v":3},null,{"$f":"S75","v":"ＦＣグランディール宇都宮"},null,null,null,null,null,null,null,null,null,null,3,null,6,null,{"$f":"AK88","v":6},null,"-"]
[null,null,null,null,null,null,null,null,null,null,null,null,null,null,null,null,null,null,0,"－",0]
[null,6,"12:20:00",null,null,null,null,null,null,{"$f":"E76","v":"ＦＣグラシアス"},null,null,null,null,null,null,{"$f":"IF(OR(S90=\"\",S91=\"\"),\"\",S90+S91)","v":0},null,0,"－",0,{"$f":"IF(OR(U90=\"\",U91=\"\"),\"\",U90+U91)","v":2},null,{"$f":"S76","v":"昭和・戸祭ＳＣ"},null,null,null,null,null,null,null,null,null,null,2,null,5,null,{"$f":"AK90","v":5},null,"-"]
[null,null,null,null,null,null,null,null,null,null,null,null,null,null,null,null,null,null,0,"－",2]
[null,7,"13:00:00",null,null,null,null,null,null,{"$f":"E74","v":"Ｓ４スペランツァ"},null,null,null,null,null,null,{"$f":"IF(OR(S92=\"\",S93=\"\"),\"\",S92+S93)","v":0},null,0,"－",0,{"$f":"IF(OR(U92=\"\",U93=\"\"),\"\",U92+U93)","v":0},null,{"$f":"AG74","v":"カテット白沢ＳＳ"},null,null,null,null,null,null,null,null,null,null,8,null,2,null,{"$f":"AK92","v":2},null,"-"]
[null,null,null,null,null,null,null,null,null,null,null,null,null,null,null,null,null,null,0,"－",0]
[null,8,"13:40:00","10:30:00",null,null,null,null,null,{"$f":"E75","v":"みはらＳＣ Ｊｒ"},null,null,null,null,null,null,{"$f":"IF(OR(S94=\"\",S95=\"\"),\"\",S94+S95)","v":12},null,10,"－",0,{"$f":"IF(OR(U94=\"\",U95=\"\"),\"\",U94+U95)","v":0},null,{"$f":"AG75","v":"宇都宮北部ＦＣトレ"},null,null,null,null,null,null,null,null,null,null,9,null,3,null,{"$f":"AK94","v":3},null,"-"]
[null,null,null,null,null,null,null,null,null,null,null,null,null,null,null,null,null,null,2,"－",0]
[null,9,"14:20:00","10:30:00",null,null,null,null,null,{"$f":"E76","v":"ＦＣグラシアス"},null,null,null,null,null,null,{"$f":"IF(OR(S96=\"\",S97=\"\"),\"\",S96+S97)","v":1},null,0,"－",3,{"$f":"IF(OR(U96=\"\",U97=\"\"),\"\",U96+U97)","v":7},null,{"$f":"AG76","v":"ともぞうＳＣ U10"},null,null,null,null,null,null,null,null,null,null,7,null,1,null,{"$f":"AK96","v":1},null,"-"]
[null,null,null,null,null,null,null,null,null,null,null,null,null,null,null,null,null,null,1,"－",4]
[]
[null,null,null,"警告／退場",null,null,null,null,null,"チーム名",null,null,null,null,null,null,null,"氏名",null,null,null,null,null,null,null,null,"番号",null,null,"理由"]
[null,null,null,"警告　　退場"]
[null,null,null,"警告　　退場"]
[null,null,null,"警告　　退場"]
[]
[]
[]
[null,null,"会場",null,null,null,"雀宮南小",null,null,null,null,null,null,null,null,"会場担当",null,null,null,"サウス宇都宮ＳＣ",null,null,null,null,null,null,null,null,"開催日",null,null,null,"2018-09-17"]
[]
[null,null,1,null,{"$f":"$E$6","v":"Ｓ４スペランツァ"},null,null,null,null,null,null,null,null,null,null,null,4,null,{"$f":"$S$6","v":"サウス宇都宮ＳＣ"},null,null,null,null,null,null,null,null,null,null,null,7,null,{"$f":"$AG$6","v":"カテット白沢ＳＳ"}]
[null,null,2,null,{"$f":"$E$7","v":"みはらＳＣ Ｊｒ"},null,null,null,null,null,null,null,null,null,null,null,5,null,{"$f":"$S$7","v":"ＦＣグランディール宇都宮"},null,null,null,null,null,null,null,null,null,null,null,8,null,{"$f":"$AG$7","v":"宇都宮北部ＦＣトレ"}]
[null,null,3,null,{"$f":"$E$8","v":"ＦＣグラシアス"},null,null,null,null,null,null,null,null,null,null,null,6,null,{"$f":"$S$8","v":"昭和・戸祭ＳＣ"},null,null,null,null,null,null,null,null,null,null,null,9,null,{"$f":"$AG$8","v":"ともぞうＳＣ U10"}]
[]
[null,"【監督会議：8時20分】【試合時間：15分-3分-15分】"]
[null,null,"試合開始",null,null,"代表者サイン",null,null,null,"チーム名",null,null,null,null,null,null,"得点",null,null,null,null,null,null,"チーム名",null,null,null,null,null,null,"代表者サイン",null,null,null,"主審",null,"副審",null,"副審",null,"４審"]
[null,1,"09:00:00",null,null,null,null,null,null,{"$f":"E110","v":"ＦＣグラシアス"},null,null,null,null,null,null,{"$f":"IF(OR(S114=\"\",S115=\"\"),\"\",S114+S115)","v":0},null,0,"－",1,{"$f":"IF(OR(U114=\"\",U115=\"\"),\"\",U114+U115)","v":1},null,{"$f":"AG108","v":"カテット白沢ＳＳ"},null,null,null,null,null,null,null,null,null,null,4,null,8,null,{"$f":"AK114","v":8},null,"-"]
[null,null,null,null,null,null,null,null,null,null,null,null,null,null,null,null,null,null,0,"－",0]
[null,2,"09:40:00","10:30:00",null,null,null,null,null,{"$f":"S108","v":"サウス宇都宮ＳＣ"},null,null,null,null,null,null,{"$f":"IF(OR(S116=\"\",S117=\"\"),\"\",S116+S117)","v":2},null,1,"－",0,{"$f":"IF(OR(U116=\"\",U117=\"\"),\"\",U116+U117)","v":1},null,{"$f":"AG109","v":"宇都宮北部ＦＣトレ"},null,null,null,null,null,null,null,null,null,null,3,null,7,null,{"$f":"AK116","v":7},null,"-"]
[null,null,null,null,null,null,null,null,null,null,null,null,null,null,null,null,null,null,1,"－",1]
[null,3,"10:20:00",null,null,null,null,null,null,{"$f":"S109","v":"ＦＣグランディール宇都宮"},null,null,null,null,null,null,{"$f":"IF(OR(S118=\"\",S119=\"\"),\"\",S118+S119)","v":0},null,0,"－",0,{"$f":"IF(OR(U118=\"\",U119=\"\"),\"\",U118+U119)","v":0},null,{"$f":"AG110","v":"ともぞうＳＣ U10"},null,null,null,null,null,null,null,null,null,null,6,null,1,null,{"$f":"AK118","v":1},null,"-"]
[null,null,null,null,null,null,null,null,null,null,null,null,null,null,null,null,null,null,0,"－",0]
[null,4,"11:00:00","10:30:00",null,null,null,null,null,{"$f":"E108","v":"Ｓ４スペランツァ"},null,null,null,null,null,null,{"$f":"IF(OR(S120=\"\",S121=\"\"),\"\",S120+S121)","v":2},null,1,"－",0,{"$f":"IF(OR(U120=\"\",U121=\"\"),\"\",U120+U121)","v":0},null,{"$f":"S110","v":"昭和・戸祭ＳＣ"},null,null,null,null,null,null,null,null,null,null,5,null,9,null,{"$f":"AK120","v":9},null,"-"]
[null,null,null,null,null,null,null,null,null,null,null,null,null,null,null,null,null,null,1,"－",0]
[null,5,"11:40:00",null,null,null,null,null,null,{"$f":"E109","v":"みはらＳＣ Ｊｒ"},null,null,null,null,null,null,{"$f":"IF(OR(S122=\"\",S123=\"\"),\"\",S122+S123)","v":1},null,1,"－",0,{"$f":"IF(OR(U122=\"\",U123=\"\"),\"\",U122+U123)","v":0},null,{"$f":"AG108","v":"カテット白沢ＳＳ"},null,null,null,null,null,null,null,null,null,null,8,null,3,null,{"$f":"AK122","v":3},null,"-"]
[null,null,null,null,null,null,null,null,null,null,null,null,null,null,null,null,null,null,0,"－",0]
[null,6,"12:20:00",null,null,null,null,null,null,{"$f":"E110","v":"ＦＣグラシアス"},null,null,null,null,null,null,{"$f":"IF(OR(S124=\"\",S125=\"\"),\"\",S124+S125)","v":6},null,3,"－",0,{"$f":"IF(OR(U124=\"\",U125=\"\"),\"\",U124+U125)","v":0},null,{"$f":"AG109","v":"宇都宮北部ＦＣトレ"},null,null,null,null,null,null,null,null,null,null,7,null,2,null,{"$f":"AK124","v":2},null,"-"]
[null,null,null,null,null,null,null,null,null,null,null,null,null,null,null,null,null,null,3,"－",0]
[null,7,"13:00:00",null,null,null,null,null,null,{"$f":"S108","v":"サウス宇都宮ＳＣ"},null,null,null,null,null,null,{"$f":"IF(OR(S126=\"\",S127=\"\"),\"\",S126+S127)","v":0},null,0,"－",0,{"$f":"IF(OR(U126=\"\",U127=\"\"),\"\",U126+U127)","v":6},null,{"$f":"AG110","v":"ともぞうＳＣ U10"},null,null,null,null,null,null,null,null,null,null,1,null,5,null,{"$f":"AK126","v":5},null,"-"]
[null,null,null,null,null,null,null,null,null,null,null,null,null,null,null,null,null,null,0,"－",6]
[null,8,"13:40:00","10:30:00",null,null,null,null,null,{"$f":"E108","v":"Ｓ４スペランツァ"},null,null,null,null,null,null,{"$f":"IF(OR(S128=\"\",S129=\"\"),\"\",S128+S129)","v":0},null,0,"－",2,{"$f":"IF(OR(U128=\"\",U129=\"\"),\"\",U128+U129)","v":3},null,{"$f":"S109","v":"ＦＣグランディール宇都宮"},null,null,null,null,null,null,null,null,null,null,2,null,6,null,{"$f":"AK128","v":6},null,"-"]
[null,null,null,null,null,null,null,null,null,null,null,null,null,null,null,null,null,null,0,"－",1]
[null,9,"14:20:00","10:30:00",null,null,null,null,null,{"$f":"E109","v":"みはらＳＣ Ｊｒ"},null,null,null,null,null,null,{"$f":"IF(OR(S130=\"\",S131=\"\"),\"\",S130+S131)","v":2},null,1,"－",0,{"$f":"IF(OR(U130=\"\",U131=\"\"),\"\",U130+U131)","v":2},null,{"$f":"S110","v":"昭和・戸祭ＳＣ"},null,null,null,null,null,null,null,null,null,null,9,null,4,null,{"$f":"AK130","v":4},null,"-"]
[null,null,null,null,null,null,null,null,null,null,null,null,null,null,null,null,null,null,1,"－",2]
[]
[null,null,null,"警告／退場",null,null,null,null,null,"チーム名",null,null,null,null,null,null,null,"氏名",null,null,null,null,null,null,null,null,"番号",null,null,"理由"]
[null,null,null,"警告　　退場"]
[null,null,null,"警告　　退場"]
[null,null,null,"警告　　退場"]

{"sheet":"■","index":6,"n_rows":29,"n_cols":4,"rows_kept":29,"cut":false,"hidden":false,"merged":[]}
[null,"チーム名","試合数","勝ち点"]
["Ａ01",{"$f":"U10組合せ!C6","v":"ＳＵＧＡＯ ＳＣ"},{"$f":"INDIRECT(\"'Ａ～Ｃブロック星取表'!Aｓ\"&ROW()*2)","v":9},{"$f":"INDIRECT(\"'Ａ～Ｃブロック星取表'!Aｔ\"&ROW()*2)","v":12}]
["Ａ02",{"$f":"U10組合せ!C7","v":"ＦＣアネーロ宇都宮 U10"},{"$f":"INDIRECT(\"'Ａ～Ｃブロック星取表'!Aｓ\"&ROW()*2)","v":9},{"$f":"INDIRECT(\"'Ａ～Ｃブロック星取表'!Aｔ\"&ROW()*2)","v":27}]
["Ａ03",{"$f":"U10組合せ!C8","v":"ＦＣアリーバ"},9,7]
["Ａ04",{"$f":"U10組合せ!C9","v":"雀宮ＦＣ"},9,16]
["Ａ05",{"$f":"U10組合せ!C10","v":"ブラッドレスＳＳ"},9,5]
["Ａ06",{"$f":"U10組合せ!C11","v":"上河内ＪＳＣ"},9,13]
["Ａ07",{"$f":"U10組合せ!C12","v":"清原ＳＳＳ"},9,13]
["Ａ08",{"$f":"U10組合せ!C13","v":"緑が丘ＹＦＣ"},9,19]
["Ａ09",{"$f":"U10組合せ!C14","v":"ＦＣペンサーレ"},9,10]
["Ａ10",{"$f":"U10組合せ!C15","v":"富士見ＳＳＳ"},9,8]
["Ｂ01",{"$f":"U10組合せ!E6","v":"陽東ＳＳＳ"},{"$f":"INDIRECT(\"'Ａ～Ｃブロック星取表'!Aｓ\"&ROW()*2+2)","v":8},{"$f":"INDIRECT(\"'Ａ～Ｃブロック星取表'!Aｔ\"&ROW()*2+2)","v":6}]
["Ｂ02",{"$f":"U10組合せ!E7","v":"姿川第一ＦＣ"},{"$f":"INDIRECT(\"'Ａ～Ｃブロック星取表'!Aｓ\"&ROW()*2+2)","v":8},{"$f":"INDIRECT(\"'Ａ～Ｃブロック星取表'!Aｔ\"&ROW()*2+2)","v":11}]
["Ｂ03",{"$f":"U10組合せ!E8","v":"豊郷ＪＦＣ宇都宮"},8,12]
["Ｂ04",{"$f":"U10組合せ!E9","v":"石井ＦＣ"},8,8]
["Ｂ05",{"$f":"U10組合せ!E10","v":"シャルムグランツＳＣ"},8,0]
["Ｂ06",{"$f":"U10組合せ!E11","v":"ｕｎｉｏｎ ｓｃ"},8,16]
["Ｂ07",{"$f":"U10組合せ!E12","v":"ＦＣブロケード"},8,7]
["Ｂ08",{"$f":"U10組合せ!E13","v":"栃木ＳＣジュニア"},8,22]
["Ｂ09",{"$f":"U10組合せ!E14","v":"国本ＪＳＣ"},8,22]
["Ｃ01",{"$f":"U10組合せ!G6","v":"Ｓ４スペランツァ"},{"$f":"INDIRECT(\"'Ａ～Ｃブロック星取表'!Aｓ\"&ROW()*2+6)","v":8},{"$f":"INDIRECT(\"'Ａ～Ｃブロック星取表'!Aｔ\"&ROW()*2+6)","v":16}]
["Ｃ02",{"$f":"U10組合せ!G7","v":"みはらＳＣ Ｊｒ"},{"$f":"INDIRECT(\"'Ａ～Ｃブロック星取表'!Aｓ\"&ROW()*2+6)","v":8},{"$f":"INDIRECT(\"'Ａ～Ｃブロック星取表'!Aｔ\"&ROW()*2+6)","v":13}]
["Ｃ03",{"$f":"U10組合せ!G8","v":"ＦＣグラシアス"},8,6]
["Ｃ04",{"$f":"U10組合せ!G9","v":"サウス宇都宮ＳＣ"},8,3]
["Ｃ05",{"$f":"U10組合せ!G10","v":"ＦＣグランディール宇都宮"},8,22]
["Ｃ06",{"$f":"U10組合せ!G11","v":"昭和・戸祭ＳＣ"},8,10]
["Ｃ07",{"$f":"U10組合せ!G12","v":"カテット白沢ＳＳ"},8,14]
["Ｃ08",{"$f":"U10組合せ!G13","v":"宇都宮北部ＦＣトレ"},8,0]
["Ｃ09",{"$f":"U10組合せ!G14","v":"ともぞうＳＣ U10"},8,20]

{"sheet":"Ａ～Ｃブロック星取表","index":7,"n_rows":65,"n_cols":51,"rows_kept":65,"cut":false,"hidden":false,"merged":[[63,46,64,46],[63,47,64,47],[63,48,64,48],[63,49,64,49],[63,50,64,50],[64,0,64,3],[63,33,64,33],[63,34,64,34],[63,35,64,35],[63,36,64,39],[63,44,64,44],[63,45,64,45],[63,27,64,27],[63,28,64,28],[63,29,64,29],[63,30,64,30],[63,31,64,31],[63,32,64,32],[63,21,64,21],[63,22,64,22],[63,23,64,23],[63,24,64,24],[63,25,64,25],[63,26,64,26],[63,15,64,15],[63,16,64,16],[63,17,64,17],[63,18,64,18],[63,19,64,19],[63,20,64,20],[63,9,64,9],[63,10,64,10],[63,11,64,11],[63,12,64,12],[63,13,64,13],[63,14,64,14],[63,0,63,3],[63,4,64,4],[63,5,64,5],[63,6,64,6],[63,7,64,7],[63,8,64,8],[61,46,62,46],[61,47,62,47],[61,48,62,48],[61,49,62,49],[61,50,62,50],[62,0,62,3],[61,36,62,36],[61,37,62,37],[61,38,62,38],[61,39,62,39],[61,44,62,44],[61,45,62,45],[61,27,62,27],[61,28,62,28],[61,29,62,29],[61,30,62,30],[61,31,62,31],[61,32,62,35],[61,21,62,21],[61,22,62,22],[61,23,62,23],[61,24,62,24],[61,25,62,25],[61,26,62,26],[61,15,62,15],[61,16,62,16],[61,17,62,17],[61,18,62,18],[61,19,62,19],[61,20,62,20],[61,9,62,9],[61,10,62,10],[61,11,62,11],[61,12,62,12],[61,13,62,13],[61,14,62,14],[61,0,61,3],[61,4,62,4],[61,5,62,5],[61,6,62,6],[61,7,62,7],[61,8,62,8],[59,46,60,46],[59,47,60,47],[59,48,60,48],[59,49,60,49],[59,50,60,50],[60,0,60,3],[59,36,60,36],[59,37,60,37],[59,38,60,38],[59,39,60,39],[59,44,60,44],[59,45,60,45],[59,27,60,27],[59,28,60,31],[59,32,60,32],[59,33,60,33],[59,34,60,34],[59,35,60,35],[59,21,60,21],[59,22,60,22],[59,23,60,23],[59,24,60,24],[59,25,60,25],[59,26,60,26],[59,15,60,15],[59,16,60,16],[59,17,60,17],[59,18,60,18],[59,19,60,19],[59,20,60,20],[59,9,60,9],[59,10,60,10],[59,11,60,11],[59,12,60,12],[59,13,60,13],[59,14,60,14],[59,0,59,3],[59,4,60,4],[59,5,60,5],[59,6,60,6],[59,7,60,7],[59,8,60,8],[57,46,58,46],[57,47,58,47],[57,48,58,48],[57,49,58,49],[57,50,58,50],[58,0,58,3],[57,36,58,36],[57,37,58,37],[57,38,58,38],[57,39,58,39],[57,44,58,44],[57,45,58,45],[57,30,58,30],[57,31,58,31],[57,32,58,32],[57,33,58,33],[57,34,58,34],[57,35,58,35],[57,21,58,21],[57,22,58,22],[57,23,58,23],[57,24,58,27],[57,28,58,28],[57,29,58,29],[57,15,58,15],[57,16,58,16],[57,17,58,17],[57,18,58,18],[57,19,58,19],[57,20,58,20],[57,9,58,9],[57,10,58,10],[57,11,58,11],[57,12,58,12],[57,13,58,13],[57,14,58,14],[57,0,57,3],[57,4,58,4],[57,5,58,5],[57,6,58,6],[57,7,58,7],[57,8,58,8],[55,46,56,46],[55,47,56,47],[55,48,56,48],[55,49,56,49],[55,50,56,50],[56,0,56,3],[55,36,56,36],[55,37,56,37],[55,38,56,38],[55,39,56,39],[55,44,56,44],[55,45,56,45],[55,30,56,30],[55,31,56,31],[55,32,56,32],[55,33,56,33],[55,34,56,34],[55,35,56,35],[55,24,56,24],[55,25,56,25],[55,26,56,26],[55,27,56,27],[55,28,56,28],[55,29,56,29],[55,15,56,15],[55,16,56,16],[55,17,56,17],[55,18,56,18],[55,19,56,19],[55,20,56,23],[55,9,56,9],[55,10,56,10],[55,11,56,11],[55,12,56,12],[55,13,56,13],[55,14,56,14],[55,0,55,3],[55,4,56,4],[55,5,56,5],[55,6,56,6],[55,7,56,7],[55,8,56,8],[53,45,54,45],[53,46,54,46],[53,47,54,47],[53,48,54,48],[53,49,54,49],[53,50,54,50],[53,35,54,35],[53,36,54,36],[53,37,54,37],[53,38,54,38],[53,39,54,39],[53,44,54,44],[53,29,54,29],[53,30,54,30],[53,31,54,31],[53,32,54,32],[53,33,54,33],[53,34,54,34],[53,23,54,23],[53,24,54,24],[53,25,54,25],[53,26,54,26],[53,27,54,27],[53,28,54,28],[53,14,54,14],[53,15,54,15],[53,16,54,19],[53,20,54,20],[53,21,54,21],[53,22,54,22],[53,8,54,8],[53,9,54,9],[53,10,54,10],[53,11,54,11],[53,12,54,12],[53,13,54,13],[52,0,52,3],[53,0,53,3],[53,4,54,4],[53,5,54,5],[53,6,54,6],[53,7,54,7],[54,0,54,3],[51,23,52,23],[51,24,52,24],[51,25,52,25],[51,26,52,26],[51,27,52,27],[51,28,52,28],[51,17,52,17],[51,18,52,18],[51,19,52,19],[51,20,52,20],[51,21,52,21],[51,45,52,45],[51,46,52,46],[51,47,52,47],[51,48,52,48],[51,49,52,49],[51,50,52,50],[51,35,52,35],[51,36,52,36],[51,37,52,37],[51,38,52,38],[51,39,52,39],[51,44,52,44],[51,29,52,29],[51,30,52,30],[51,31,52,31],[51,32,52,32],[51,33,52,33],[51,34,52,34],[51,22,52,22],[51,8,52,8],[51,9,52,9],[51,10,52,10],[51,11,52,11],[51,12,52,15],[51,16,52,16],[49,47,50,47],[49,48,50,48],[49,49,50,49],[49,50,50,50],[50,0,50,3],[51,0,51,3],[51,4,52,4],[51,5,52,5],[51,6,52,6],[51,7,52,7],[49,37,50,37],[49,38,50,38],[49,39,50,39],[49,44,50,44],[49,45,50,45],[49,46,50,46],[49,31,50,31],[49,32,50,32],[49,33,50,33],[49,34,50,34],[49,35,50,35],[49,36,50,36],[49,25,50,25],[49,26,50,26],[49,27,50,27],[49,29,50,29],[49,30,50,30],[49,19,50,19],[49,20,50,20],[49,21,50,21],[49,22,50,22],[49,23,50,23],[49,24,50,24],[49,13,50,13],[49,14,50,14],[49,15,50,15],[49,16,50,16],[49,17,50,17],[49,18,50,18],[47,49,48,49],[47,50,48,50],[47,15,48,15],[47,16,48,16],[47,17,48,17],[47,18,48,18],[47,19,48,19],[47,20,48,20],[49,0,49,3],[49,4,50,4],[49,5,50,5],[49,6,50,6],[49,7,50,7],[49,8,50,11],[49,12,50,12],[47,39,48,39],[47,44,48,44],[47,45,48,45],[47,46,48,46],[47,47,48,47],[47,48,48,48],[47,33,48,33],[47,34,48,34],[47,35,48,35],[47,36,48,36],[47,37,48,37],[47,38,48,38],[47,27,48,27],[47,28,48,28],[47,29,48,29],[47,30,48,30],[47,31,48,31],[47,32,48,32],[47,21,48,21],[47,22,48,22],[47,23,48,23],[47,24,48,24],[47,25,48,25],[47,26,48,26],[49,28,50,28],[46,36,46,39],[47,0,47,3],[47,4,48,7],[47,8,48,8],[47,9,48,9],[47,10,48,10],[47,11,48,11],[47,12,48,12],[47,13,48,13],[47,14,48,14],[44,0,44,50],[46,0,46,3],[46,4,46,7],[46,8,46,11],[46,12,46,15],[46,16,46,19],[46,20,46,23],[46,24,46,27],[46,28,46,31],[46,32,46,35],[48,0,48,3],[41,46,42,46],[41,47,42,47],[41,48,42,48],[41,49,42,49],[41,50,42,50],[42,0,42,3],[41,33,42,33],[41,34,42,34],[41,35,42,35],[41,36,42,39],[41,44,42,44],[41,45,42,45],[41,27,42,27],[41,28,42,28],[41,29,42,29],[41,30,42,30],[41,31,42,31],[41,32,42,32],[41,21,42,21],[41,22,42,22],[41,23,42,23],[41,24,42,24],[41,25,42,25],[41,26,42,26],[41,15,42,15],[41,16,42,16],[41,17,42,17],[41,18,42,18],[41,19,42,19],[41,20,42,20],[41,9,42,9],[41,10,42,10],[41,11,42,11],[41,12,42,12],[41,13,42,13],[41,14,42,14],[41,0,41,3],[41,4,42,4],[41,5,42,5],[41,6,42,6],[41,7,42,7],[41,8,42,8],[39,46,40,46],[39,47,40,47],[39,48,40,48],[39,49,40,49],[39,50,40,50],[40,0,40,3],[39,36,40,36],[39,37,40,37],[39,38,40,38],[39,39,40,39],[39,44,40,44],[39,45,40,45],[39,27,40,27],[39,28,40,28],[39,29,40,29],[39,30,40,30],[39,31,40,31],[39,32,40,35],[39,21,40,21],[39,22,40,22],[39,23,40,23],[39,24,40,24],[39,25,40,25],[39,26,40,26],[39,15,40,15],[39,16,40,16],[39,17,40,17],[39,18,40,18],[39,19,40,19],[39,20,40,20],[39,9,40,9],[39,10,40,10],[39,11,40,11],[39,12,40,12],[39,13,40,13],[39,14,40,14],[39,0,39,3],[39,4,40,4],[39,5,40,5],[39,6,40,6],[39,7,40,7],[39,8,40,8],[37,46,38,46],[37,47,38,47],[37,48,38,48],[37,49,38,49],[37,50,38,50],[38,0,38,3],[37,36,38,36],[37,37,38,37],[37,38,38,38],[37,39,38,39],[37,44,38,44],[37,45,38,45],[37,27,38,27],[37,28,38,31],[37,32,38,32],[37,33,38,33],[37,34,38,34],[37,35,38,35],[37,21,38,21],[37,22,38,22],[37,23,38,23],[37,24,38,24],[37,25,38,25],[37,26,38,26],[37,15,38,15],[37,16,38,16],[37,17,38,17],[37,18,38,18],[37,19,38,19],[37,20,38,20],[37,9,38,9],[37,10,38,10],[37,11,38,11],[37,12,38,12],[37,13,38,13],[37,14,38,14],[37,0,37,3],[37,4,38,4],[37,5,38,5],[37,6,38,6],[37,7,38,7],[37,8,38,8],[35,46,36,46],[35,47,36,47],[35,48,36,48],[35,49,36,49],[35,50,36,50],[36,0,36,3],[35,36,36,36],[35,37,36,37],[35,38,36,38],[35,39,36,39],[35,44,36,44],[35,45,36,45],[35,30,36,30],[35,31,36,31],[35,32,36,32],[35,33,36,33],[35,34,36,34],[35,35,36,35],[35,21,36,21],[35,22,36,22],[35,23,36,23],[35,24,36,27],[35,28,36,28],[35,29,36,29],[35,15,36,15],[35,16,36,16],[35,17,36,17],[35,18,36,18],[35,19,36,19],[35,20,36,20],[35,9,36,9],[35,10,36,10],[35,11,36,11],[35,12,36,12],[35,13,36,13],[35,14,36,14],[35,0,35,3],[35,4,36,4],[35,5,36,5],[35,6,36,6],[35,7,36,7],[35,8,36,8],[33,46,34,46],[33,47,34,47],[33,48,34,48],[33,49,34,49],[33,50,34,50],[34,0,34,3],[33,36,34,36],[33,37,34,37],[33,38,34,38],[33,39,34,39],[33,44,34,44],[33,45,34,45],[33,30,34,30],[33,31,34,31],[33,32,34,32],[33,33,34,33],[33,34,34,34],[33,35,34,35],[33,24,34,24],[33,25,34,25],[33,26,34,26],[33,27,34,27],[33,28,34,28],[33,29,34,29],[33,15,34,15],[33,16,34,16],[33,17,34,17],[33,18,34,18],[33,19,34,19],[33,20,34,23],[33,9,34,9],[33,10,34,10],[33,11,34,11],[33,12,34,12],[33,13,34,13],[33,14,34,14],[33,0,33,3],[33,4,34,4],[33,5,34,5],[33,6,34,6],[33,7,34,7],[33,8,34,8],[31,46,32,46],[31,47,32,47],[31,48,32,48],[31,49,32,49],[31,50,32,50],[32,0,32,3],[31,36,32,36],[31,37,32,37],[31,38,32,38],[31,39,32,39],[31,44,32,44],[31,45,32,45],[31,30,32,30],[31,31,32,31],[31,32,32,32],[31,33,32,33],[31,34,32,34],[31,35,32,35],[31,24,32,24],[31,25,32,25],[31,26,32,26],[31,27,32,27],[31,28,32,28],[31,29,32,29],[31,15,32,15],[31,16,32,19],[31,20,32,20],[31,21,32,21],[31,22,32,22],[31,23,32,23],[31,9,32,9],[31,10,32,10],[31,11,32,11],[31,12,32,12],[31,13,32,13],[31,14,32,14],[31,0,31,3],[31,4,32,4],[31,5,32,5],[31,6,32,6],[31,7,32,7],[31,8,32,8],[29,46,30,46],[29,47,30,47],[29,48,30,48],[29,49,30,49],[29,50,30,50],[30,0,30,3],[29,36,30,36],[29,37,30,37],[29,38,30,38],[29,39,30,39],[29,44,30,44],[29,45,30,45],[29,30,30,30],[29,31,30,31],[29,32,30,32],[29,33,30,33],[29,34,30,34],[29,35,30,35],[29,24,30,24],[29,25,30,25],[29,26,30,26],[29,27,30,27],[29,28,30,28],[29,29,30,29],[29,18,30,18],[29,19,30,19],[29,20,30,20],[29,21,30,21],[29,22,30,22],[29,23,30,23],[29,9,30,9],[29,10,30,10],[29,11,30,11],[29,12,30,15],[29,16,30,16],[29,17,30,17],[29,0,29,3],[29,4,30,4],[29,5,30,5],[29,6,30,6],[29,7,30,7],[29,8,30,8],[27,46,28,46],[27,47,28,47],[27,48,28,48],[27,49,28,49],[27,50,28,50],[28,0,28,3],[27,36,28,36],[27,37,28,37],[27,38,28,38],[27,39,28,39],[27,44,28,44],[27,45,28,45],[27,30,28,30],[27,31,28,31],[27,32,28,32],[27,33,28,33],[27,34,28,34],[27,35,28,35],[27,24,28,24],[27,25,28,25],[27,26,28,26],[27,27,28,27],[27,28,28,28],[27,29,28,29],[27,18,28,18],[27,19,28,19],[27,20,28,20],[27,21,28,21],[27,22,28,22],[27,23,28,23],[27,12,28,12],[27,13,28,13],[27,14,28,14],[27,15,28,15],[27,16,28,16],[27,17,28,17],[25,48,26,48],[25,49,26,49],[25,50,26,50],[25,15,26,15],[25,16,26,16],[25,17,26,17],[25,18,26,18],[25,19,26,19],[26,0,26,3],[27,0,27,3],[27,4,28,4],[27,5,28,5],[27,6,28,6],[27,7,28,7],[27,8,28,11],[25,38,26,38],[25,39,26,39],[25,44,26,44],[25,45,26,45],[25,46,26,46],[25,47,26,47],[25,32,26,32],[25,33,26,33],[25,34,26,34],[25,35,26,35],[25,36,26,36],[25,37,26,37],[25,26,26,26],[25,27,26,27],[25,28,26,28],[25,29,26,29],[25,30,26,30],[25,31,26,31],[25,20,26,20],[25,21,26,21],[25,22,26,22],[25,23,26,23],[25,24,26,24],[25,25,26,25],[25,14,26,14],[24,32,24,35],[24,36,24,39],[25,0,25,3],[25,4,26,7],[25,8,26,8],[25,9,26,9],[25,10,26,10],[25,11,26,11],[25,12,26,12],[25,13,26,13],[21,50,22,50],[22,0,22,3],[24,0,24,3],[24,4,24,7],[24,8,24,11],[24,12,24,15],[24,16,24,19],[24,20,24,23],[24,24,24,27],[24,28,24,31],[21,44,22,44],[21,45,22,45],[21,46,22,46],[21,47,22,47],[21,48,22,48],[21,49,22,49],[21,34,22,34],[21,35,22,35],[21,36,22,36],[21,37,22,37],[21,38,22,38],[21,39,22,39],[21,28,22,28],[21,29,22,29],[21,30,22,30],[21,31,22,31],[21,32,22,32],[21,33,22,33],[21,22,22,22],[21,23,22,23],[21,24,22,24],[21,25,22,25],[21,26,22,26],[21,27,22,27],[21,16,22,16],[21,17,22,17],[21,18,22,18],[21,19,22,19],[21,20,22,20],[21,21,22,21],[21,10,22,10],[21,11,22,11],[21,12,22,12],[21,13,22,13],[21,14,22,14],[21,15,22,15],[19,49,20,49],[19,50,20,50],[20,0,20,3],[21,0,21,3],[21,4,22,4],[21,5,22,5],[21,6,22,6],[21,7,22,7],[21,8,22,8],[21,9,22,9],[19,43,20,43],[19,44,20,44],[19,45,20,45],[19,46,20,46],[19,47,20,47],[19,48,20,48],[19,34,20,34],[19,35,20,35],[19,36,20,39],[19,40,20,40],[19,41,20,41],[19,42,20,42],[19,28,20,28],[19,29,20,29],[19,30,20,30],[19,31,20,31],[19,32,20,32],[19,33,20,33],[19,22,20,22],[19,23,20,23],[19,24,20,24],[19,25,20,25],[19,26,20,26],[19,27,20,27],[19,16,20,16],[19,17,20,17],[19,18,20,18],[19,19,20,19],[19,20,20,20],[19,21,20,21],[19,10,20,10],[19,11,20,11],[19,12,20,12],[19,13,20,13],[19,14,20,14],[19,15,20,15],[17,49,18,49],[17,50,18,50],[18,0,18,3],[19,0,19,3],[19,4,20,4],[19,5,20,5],[19,6,20,6],[19,7,20,7],[19,8,20,8],[19,9,20,9],[17,43,18,43],[17,44,18,44],[17,45,18,45],[17,46,18,46],[17,47,18,47],[17,48,18,48],[17,37,18,37],[17,38,18,38],[17,39,18,39],[17,40,18,40],[17,41,18,41],[17,42,18,42],[17,28,18,28],[17,29,18,29],[17,30,18,30],[17,31,18,31],[17,32,18,35],[17,36,18,36],[17,22,18,22],[17,23,18,23],[17,24,18,24],[17,25,18,25],[17,26,18,26],[17,27,18,27],[17,16,18,16],[17,17,18,17],[17,18,18,18],[17,19,18,19],[17,20,18,20],[17,21,18,21],[17,10,18,10],[17,11,18,11],[17,12,18,12],[17,13,18,13],[17,14,18,14],[17,15,18,15],[15,49,16,49],[15,50,16,50],[16,0,16,3],[17,0,17,3],[17,4,18,4],[17,5,18,5],[17,6,18,6],[17,7,18,7],[17,8,18,8],[17,9,18,9],[15,43,16,43],[15,44,16,44],[15,45,16,45],[15,46,16,46],[15,47,16,47],[15,48,16,48],[15,37,16,37],[15,38,16,38],[15,39,16,39],[15,40,16,40],[15,41,16,41],[15,42,16,42],[15,28,16,31],[15,32,16,32],[15,33,16,33],[15,34,16,34],[15,35,16,35],[15,36,16,36],[15,22,16,22],[15,23,16,23],[15,24,16,24],[15,25,16,25],[15,26,16,26],[15,27,16,27],[15,16,16,16],[15,17,16,17],[15,18,16,18],[15,19,16,19],[15,20,16,20],[15,21,16,21],[15,10,16,10],[15,11,16,11],[15,12,16,12],[15,13,16,13],[15,14,16,14],[15,15,16,15],[13,49,14,49],[13,50,14,50],[14,0,14,3],[15,0,15,3],[15,4,16,4],[15,5,16,5],[15,6,16,6],[15,7,16,7],[15,8,16,8],[15,9,16,9],[13,43,14,43],[13,44,14,44],[13,45,14,45],[13,46,14,46],[13,47,14,47],[13,48,14,48],[13,37,14,37],[13,38,14,38],[13,39,14,39],[13,40,14,40],[13,41,14,41],[13,42,14,42],[13,31,14,31],[13,32,14,32],[13,33,14,33],[13,34,14,34],[13,35,14,35],[13,36,14,36],[13,22,14,22],[13,23,14,23],[13,24,14,27],[13,28,14,28],[13,29,14,29],[13,30,14,30],[13,16,14,16],[13,17,14,17],[13,18,14,18],[13,19,14,19],[13,20,14,20],[13,21,14,21],[13,10,14,10],[13,11,14,11],[13,12,14,12],[13,13,14,13],[13,14,14,14],[13,15,14,15],[11,49,12,49]],"merged_total":1249,"flags":["merged_cut"]}
["ＪＦＡ　U-10サッカーリーグ2018（in栃木） 宇河地域リーグ戦（後期）　星取表"]
[]
["Ａブロック",null,null,null,{"$f":"A5","v":"ＳＵＧＡＯ ＳＣ"},null,null,null,{"$f":"A7","v":"ＦＣアネーロ宇都宮 U10"},null,null,null,{"$f":"A9","v":"ＦＣアリーバ"},null,null,null,{"$f":"A11","v":"雀宮ＦＣ"},null,null,null,{"$f":"A13","v":"ブラッドレスＳＳ"},null,null,null,{"$f":"A15","v":"上河内ＪＳＣ"},null,null,null,{"$f":"A17","v":"清原ＳＳＳ"},null,null,null,{"$f":"A19","v":"緑が丘ＹＦＣ"},null,null,null,{"$f":"A21","v":"ＦＣペンサーレ"},null,null,null,{"$f":"A23","v":"富士見ＳＳＳ"},null,null,null,"試合数","勝ち点","勝ち点率","得失差","得点","ブロック\n順位","総合\n順位"]
["A01",null,null,null,null,null,null,null,{"$f":"IF(OR(J4=\"\",L4=\"\"),\"\",IF(J4>L4,\"○\",IF(J4<L4,\"×\",IF(J4=L4,\"△\"))))","v":"×"},0,"-",2,{"$f":"IF(OR(N4=\"\",P4=\"\"),\"\",IF(N4>P4,\"○\",IF(N4<P4,\"×\",IF(N4=P4,\"△\"))))","v":"×"},0,"-",1,{"$f":"IF(OR(R4=\"\",T4=\"\"),\"\",IF(R4>T4,\"○\",IF(R4<T4,\"×\",IF(R4=T4,\"△\"))))","v":"○"},3,"－",1,{"$f":"IF(OR(V4=\"\",X4=\"\"),\"\",IF(V4>X4,\"○\",IF(V4<X4,\"×\",IF(V4=X4,\"△\"))))","v":"×"},1,"－",2,{"$f":"IF(OR(Z4=\"\",AB4=\"\"),\"\",IF(Z4>AB4,\"○\",IF(Z4<AB4,\"×\",IF(Z4=AB4,\"△\"))))","v":"×"},1,"－",2,{"$f":"IF(OR(AD4=\"\",AF4=\"\"),\"\",IF(AD4>AF4,\"○\",IF(AD4<AF4,\"×\",IF(AD4=AF4,\"△\"))))","v":"○"},4,"－",3,{"$f":"IF(OR(AH4=\"\",AJ4=\"\"),\"\",IF(AH4>AJ4,\"○\",IF(AH4<AJ4,\"×\",IF(AH4=AJ4,\"△\"))))","v":"×"},1,"－",3,{"$f":"IF(OR(AL4=\"\",AN4=\"\"),\"\",IF(AL4>AN4,\"○\",IF(AL4<AN4,\"×\",IF(AL4=AN4,\"△\"))))","v":"○"},3,"－",0,{"$f":"IF(OR(AP4=\"\",AR4=\"\"),\"\",IF(AP4>AR4,\"○\",IF(AP4<AR4,\"×\",IF(AP4=AR4,\"△\"))))","v":"○"},2,"-",1,{"$f":"COUNTIF(E4:AR5,\"○\")+COUNTIF(E4:AR5,\"×\")+COUNTIF(E4:AR5,\"△\")","v":9},{"$f":"COUNTIF(E4:AR5,\"○\")*3+COUNTIF(E4:AR5,\"△\")","v":12},{"$f":"IF(AS4=0,0,AT4/(AS4*3))","v":0.44444444444444442},{"$f":"SUM(F4,J4,N4,R4,V4,Z4,AD4,AH4,AL4,AP4)-SUM(H4,L4,P4,T4,X4,AB4,AF4,AJ4,AN4,AR4)","v":0},{"$f":"SUM(F4,J4,N4,R4,V4,Z4,AD4,AH4,AL4,AP4,)","v":15},{"$f":"RANK(AU4,$AU$4:$AU$23)","v":6},{"$f":"RANK(AU4,$AU$4:$AU$65)","v":16}]
[{"$f":"INDIRECT(\"U10組合せ!c\"&(ROW()-1)/2+4)","v":"ＳＵＧＡＯ ＳＣ"}]
["A02",null,null,null,{"$f":"IF(OR(F6=\"\",H6=\"\"),\"\",IF(F6>H6,\"○\",IF(F6<H6,\"×\",IF(F6=H6,\"△\"))))","v":"○"},{"$f":"IF(L4=\"\",\"\",L4)","v":2},"－",{"$f":"IF(J4=\"\",\"\",J4)","v":0},null,null,null,null,{"$f":"IF(OR(N6=\"\",P6=\"\"),\"\",IF(N6>P6,\"○\",IF(N6<P6,\"×\",IF(N6=P6,\"△\"))))","v":"○"},8,"-",0,{"$f":"IF(OR(R6=\"\",T6=\"\"),\"\",IF(R6>T6,\"○\",IF(R6<T6,\"×\",IF(R6=T6,\"△\"))))","v":"○"},3,"－",0,{"$f":"IF(OR(V6=\"\",X6=\"\"),\"\",IF(V6>X6,\"○\",IF(V6<X6,\"×\",IF(V6=X6,\"△\"))))","v":"○"},3,"－",0,{"$f":"IF(OR(Z6=\"\",AB6=\"\"),\"\",IF(Z6>AB6,\"○\",IF(Z6<AB6,\"×\",IF(Z6=AB6,\"△\"))))","v":"○"},4,"－",0,{"$f":"IF(OR(AD6=\"\",AF6=\"\"),\"\",IF(AD6>AF6,\"○\",IF(AD6<AF6,\"×\",IF(AD6=AF6,\"△\"))))","v":"○"},4,"－",2,{"$f":"IF(OR(AH6=\"\",AJ6=\"\"),\"\",IF(AH6>AJ6,\"○\",IF(AH6<AJ6,\"×\",IF(AH6=AJ6,\"△\"))))","v":"○"},1,"－",0,{"$f":"IF(OR(AL6=\"\",AN6=\"\"),\"\",IF(AL6>AN6,\"○\",IF(AL6<AN6,\"×\",IF(AL6=AN6,\"△\"))))","v":"○"},4,"－",0,{"$f":"IF(OR(AP6=\"\",AR6=\"\"),\"\",IF(AP6>AR6,\"○\",IF(AP6<AR6,\"×\",IF(AP6=AR6,\"△\"))))","v":"○"},3,"-",0,{"$f":"COUNTIF(E6:AR7,\"○\")+COUNTIF(E6:AR7,\"×\")+COUNTIF(E6:AR7,\"△\")","v":9},{"$f":"COUNTIF(E6:AR7,\"○\")*3+COUNTIF(E6:AR7,\"△\")","v":27},{"$f":"IF(AS6=0,0,AT6/(AS6*3))","v":1},{"$f":"SUM(F6,J6,N6,R6,V6,Z6,AD6,AH6,AL6,AP6)-SUM(H6,L6,P6,T6,X6,AB6,AF6,AJ6,AN6,AR6)","v":30},{"$f":"SUM(F6,J6,N6,R6,V6,Z6,AD6,AH6,AL6,AP6,)","v":32},{"$f":"RANK(AU6,$AU$4:$AU$23)","v":1},{"$f":"RANK(AU6,$AU$4:$AU$65)","v":1}]
[{"$f":"INDIRECT(\"U10組合せ!c\"&(ROW()-1)/2+4)","v":"ＦＣアネーロ宇都宮 U10"}]
["A03",null,null,null,{"$f":"IF(OR(F8=\"\",H8=\"\"),\"\",IF(F8>H8,\"○\",IF(F8<H8,\"×\",IF(F8=H8,\"△\"))))","v":"○"},{"$f":"IF(P4=\"\",\"\",P4)","v":1},"－",{"$f":"IF(N4=\"\",\"\",N4)","v":0},{"$f":"IF(OR(J8=\"\",L8=\"\"),\"\",IF(J8>L8,\"○\",IF(J8<L8,\"×\",IF(J8=L8,\"△\"))))","v":"×"},{"$f":"IF(P6=\"\",\"\",P6)","v":0},"－",{"$f":"IF(N6=\"\",\"\",N6)","v":8},null,null,null,null,{"$f":"IF(OR(R8=\"\",T8=\"\"),\"\",IF(R8>T8,\"○\",IF(R8<T8,\"×\",IF(R8=T8,\"△\"))))","v":"×"},0,"-",1,{"$f":"IF(OR(V8=\"\",X8=\"\"),\"\",IF(V8>X8,\"○\",IF(V8<X8,\"×\",IF(V8=X8,\"△\"))))","v":"○"},1,"－",0,{"$f":"IF(OR(Z8=\"\",AB8=\"\"),\"\",IF(Z8>AB8,\"○\",IF(Z8<AB8,\"×\",IF(Z8=AB8,\"△\"))))","v":"×"},1,"－",2,{"$f":"IF(OR(AD8=\"\",AF8=\"\"),\"\",IF(AD8>AF8,\"○\",IF(AD8<AF8,\"×\",IF(AD8=AF8,\"△\"))))","v":"×"},0,"－",1,{"$f":"IF(OR(AH8=\"\",AJ8=\"\"),\"\",IF(AH8>AJ8,\"○\",IF(AH8<AJ8,\"×\",IF(AH8=AJ8,\"△\"))))","v":"×"},0,"－",1,{"$f":"IF(OR(AL8=\"\",AN8=\"\"),\"\",IF(AL8>AN8,\"○\",IF(AL8<AN8,\"×\",IF(AL8=AN8,\"△\"))))","v":"×"},0,"－",2,{"$f":"IF(OR(AP8=\"\",AR8=\"\"),\"\",IF(AP8>AR8,\"○\",IF(AP8<AR8,\"×\",IF(AP8=AR8,\"△\"))))","v":"△"},1,"-",1,{"$f":"COUNTIF(E8:AR9,\"○\")+COUNTIF(E8:AR9,\"×\")+COUNTIF(E8:AR9,\"△\")","v":9},{"$f":"COUNTIF(E8:AR9,\"○\")*3+COUNTIF(E8:AR9,\"△\")","v":7},{"$f":"IF(AS8=0,0,AT8/(AS8*3))","v":0.25925925925925924},{"$f":"SUM(F8,J8,N8,R8,V8,Z8,AD8,AH8,AL8,AP8)-SUM(H8,L8,P8,T8,X8,AB8,AF8,AJ8,AN8,AR8)","v":-12},{"$f":"SUM(F8,J8,N8,R8,V8,Z8,AD8,AH8,AL8,AP8,)","v":4},{"$f":"RANK(AU8,$AU$4:$AU$23)","v":9},{"$f":"RANK(AU8,$AU$4:$AU$65)","v":22}]
[{"$f":"INDIRECT(\"U10組合せ!c\"&(ROW()-1)/2+4)","v":"ＦＣアリーバ"}]
["A04",null,null,null,{"$f":"IF(OR(F10=\"\",H10=\"\"),\"\",IF(F10>H10,\"○\",IF(F10<H10,\"×\",IF(F10=H10,\"△\"))))","v":"×"},{"$f":"IF(T4=\"\",\"\",T4)","v":1},"－",{"$f":"IF(R4=\"\",\"\",R4)","v":3},{"$f":"IF(OR(J10=\"\",L10=\"\"),\"\",IF(J10>L10,\"○\",IF(J10<L10,\"×\",IF(J10=L10,\"△\"))))","v":"×"},{"$f":"IF(T6=\"\",\"\",T6)","v":0},"－",{"$f":"IF(R6=\"\",\"\",R6)","v":3},{"$f":"IF(OR(N10=\"\",P10=\"\"),\"\",IF(N10>P10,\"○\",IF(N10<P10,\"×\",IF(N10=P10,\"△\"))))","v":"○"},{"$f":"IF(T8=\"\",\"\",T8)","v":1},"－",{"$f":"IF(R8=\"\",\"\",R8)","v":0},null,null,null,null,{"$f":"IF(OR(V10=\"\",X10=\"\"),\"\",IF(V10>X10,\"○\",IF(V10<X10,\"×\",IF(V10=X10,\"△\"))))","v":"○"},2,"-",0,{"$f":"IF(OR(Z10=\"\",AB10=\"\"),\"\",IF(Z10>AB10,\"○\",IF(Z10<AB10,\"×\",IF(Z10=AB10,\"△\"))))","v":"○"},2,"－",1,{"$f":"IF(OR(AD10=\"\",AF10=\"\"),\"\",IF(AD10>AF10,\"○\",IF(AD10<AF10,\"×\",IF(AD10=AF10,\"△\"))))","v":"×"},0,"－",1,{"$f":"IF(OR(AH10=\"\",AJ10=\"\"),\"\",IF(AH10>AJ10,\"○\",IF(AH10<AJ10,\"×\",IF(AH10=AJ10,\"△\"))))","v":"△"},1,"－",1,{"$f":"IF(OR(AL10=\"\",AN10=\"\"),\"\",IF(AL10>AN10,\"○\",IF(AL10<AN10,\"×\",IF(AL10=AN10,\"△\"))))","v":"○"},1,"－",0,{"$f":"IF(OR(AP10=\"\",AR10=\"\"),\"\",IF(AP10>AR10,\"○\",IF(AP10<AR10,\"×\",IF(AP10=AR10,\"△\"))))","v":"○"},1,"－",0,{"$f":"COUNTIF(E10:AR11,\"○\")+COUNTIF(E10:AR11,\"×\")+COUNTIF(E10:AR11,\"△\")","v":9},{"$f":"COUNTIF(E10:AR11,\"○\")*3+COUNTIF(E10:AR11,\"△\")","v":16},{"$f":"IF(AS10=0,0,AT10/(AS10*3))","v":0.59259259259259256},{"$f":"SUM(F10,J10,N10,R10,V10,Z10,AD10,AH10,AL10,AP10)-SUM(H10,L10,P10,T10,X10,AB10,AF10,AJ10,AN10,AR10)","v":0},{"$f":"SUM(F10,J10,N10,R10,V10,Z10,AD10,AH10,AL10,AP10,)","v":9},{"$f":"RANK(AU10,$AU$4:$AU$23)","v":3},{"$f":"RANK(AU10,$AU$4:$AU$65)","v":9}]
[{"$f":"INDIRECT(\"U10組合せ!c\"&(ROW()-1)/2+4)","v":"雀宮ＦＣ"}]
["A05",null,null,null,{"$f":"IF(OR(F12=\"\",H12=\"\"),\"\",IF(F12>H12,\"○\",IF(F12<H12,\"×\",IF(F12=H12,\"△\"))))","v":"○"},{"$f":"IF(X4=\"\",\"\",X4)","v":2},"－",{"$f":"IF(V4=\"\",\"\",V4)","v":1},{"$f":"IF(OR(J12=\"\",L12=\"\"),\"\",IF(J12>L12,\"○\",IF(J12<L12,\"×\",IF(J12=L12,\"△\"))))","v":"×"},{"$f":"IF(X6=\"\",\"\",X6)","v":0},"－",{"$f":"IF(V6=\"\",\"\",V6)","v":3},{"$f":"IF(OR(N12=\"\",P12=\"\"),\"\",IF(N12>P12,\"○\",IF(N12<P12,\"×\",IF(N12=P12,\"△\"))))","v":"×"},{"$f":"IF(X8=\"\",\"\",X8)","v":0},"－",{"$f":"IF(V8=\"\",\"\",V8)","v":1},{"$f":"IF(OR(R12=\"\",T12=\"\"),\"\",IF(R12>T12,\"○\",IF(R12<T12,\"×\",IF(R12=T12,\"△\"))))","v":"×"},{"$f":"IF(X10=\"\",\"\",X10)","v":0},"－",{"$f":"IF(V10=\"\",\"\",V10)","v":2},null,null,null,null,{"$f":"IF(OR(Z12=\"\",AB12=\"\"),\"\",IF(Z12>AB12,\"○\",IF(Z12<AB12,\"×\",IF(Z12=AB12,\"△\"))))","v":"△"},1,"-",1,{"$f":"IF(OR(AD12=\"\",AF12=\"\"),\"\",IF(AD12>AF12,\"○\",IF(AD12<AF12,\"×\",IF(AD12=AF12,\"△\"))))","v":"△"},0,"－",0,{"$f":"IF(OR(AH12=\"\",AJ12=\"\"),\"\",IF(AH12>AJ12,\"○\",IF(AH12<AJ12,\"×\",IF(AH12=AJ12,\"△\"))))","v":"×"},0,"－",2,{"$f":"IF(OR(AL12=\"\",AN12=\"\"),\"\",IF(AL12>AN12,\"○\",IF(AL12<AN12,\"×\",IF(AL12=AN12,\"△\"))))","v":"×"},0,"－",1,{"$f":"IF(OR(AP12=\"\",AR12=\"\"),\"\",IF(AP12>AR12,\"○\",IF(AP12<AR12,\"×\",IF(AP12=AR12,\"△\"))))","v":"×"},0,"－",4,{"$f":"COUNTIF(E12:AR13,\"○\")+COUNTIF(E12:AR13,\"×\")+COUNTIF(E12:AR13,\"△\")","v":9},{"$f":"COUNTIF(E12:AR13,\"○\")*3+COUNTIF(E12:AR13,\"△\")","v":5},{"$f":"IF(AS12=0,0,AT12/(AS12*3))","v":0.18518518518518517},{"$f":"SUM(F12,J12,N12,R12,V12,Z12,AD12,AH12,AL12,AP12)-SUM(H12,L12,P12,T12,X12,AB12,AF12,AJ12,AN12,AR12)","v":-12},{"$f":"SUM(F12,J12,N12,R12,V12,Z12,AD12,AH12,AL12,AP12,)","v":3},{"$f":"RANK(AU12,$AU$4:$AU$23)","v":10},{"$f":"RANK(AU12,$AU$4:$AU$65)","v":25}]
[{"$f":"INDIRECT(\"U10組合せ!c\"&(ROW()-1)/2+4)","v":"ブラッドレスＳＳ"}]
["A06",null,null,null,{"$f":"IF(OR(F14=\"\",H14=\"\"),\"\",IF(F14>H14,\"○\",IF(F14<H14,\"×\",IF(F14=H14,\"△\"))))","v":"○"},{"$f":"IF(AB4=\"\",\"\",AB4)","v":2},"－",{"$f":"IF(Z4=\"\",\"\",Z4)","v":1},{"$f":"IF(OR(J14=\"\",L14=\"\"),\"\",IF(J14>L14,\"○\",IF(J14<L14,\"×\",IF(J14=L14,\"△\"))))","v":"×"},{"$f":"IF(AB6=\"\",\"\",AB6)","v":0},"－",{"$f":"IF(Z6=\"\",\"\",Z6)","v":4},{"$f":"IF(OR(N14=\"\",P14=\"\"),\"\",IF(N14>P14,\"○\",IF(N14<P14,\"×\",IF(N14=P14,\"△\"))))","v":"○"},{"$f":"IF(AB8=\"\",\"\",AB8)","v":2},"－",{"$f":"IF(Z8=\"\",\"\",Z8)","v":1},{"$f":"IF(OR(R14=\"\",T14=\"\"),\"\",IF(R14>T14,\"○\",IF(R14<T14,\"×\",IF(R14=T14,\"△\"))))","v":"×"},{"$f":"IF(AB10=\"\",\"\",AB10)","v":1},"－",{"$f":"IF(Z10=\"\",\"\",Z10)","v":2},{"$f":"IF(OR(V14=\"\",X14=\"\"),\"\",IF(V14>X14,\"○\",IF(V14<X14,\"×\",IF(V14=X14,\"△\"))))","v":"△"},{"$f":"IF(AB12=\"\",\"\",AB12)","v":1},"－",{"$f":"IF(Z12=\"\",\"\",Z12)","v":1},null,null,null,null,{"$f":"IF(OR(AD14=\"\",AF14=\"\"),\"\",IF(AD14>AF14,\"○\",IF(AD14<AF14,\"×\",IF(AD14=AF14,\"△\"))))","v":"×"},1,"-",3,{"$f":"IF(OR(AH14=\"\",AJ14=\"\"),\"\",IF(AH14>AJ14,\"○\",IF(AH14<AJ14,\"×\",IF(AH14=AJ14,\"△\"))))","v":"×"},1,"－",3,{"$f":"IF(OR(AL14=\"\",AN14=\"\"),\"\",IF(AL14>AN14,\"○\",IF(AL14<AN14,\"×\",IF(AL14=AN14,\"△\"))))","v":"○"},3,"－",0,{"$f":"IF(OR(AP14=\"\",AR14=\"\"),\"\",IF(AP14>AR14,\"○\",IF(AP14<AR14,\"×\",IF(AP14=AR14,\"△\"))))","v":"○"},4,"－",3,{"$f":"COUNTIF(E14:AR15,\"○\")+COUNTIF(E14:AR15,\"×\")+COUNTIF(E14:AR15,\"△\")","v":9},{"$f":"COUNTIF(E14:AR15,\"○\")*3+COUNTIF(E14:AR15,\"△\")","v":13},{"$f":"IF(AS14=0,0,AT14/(AS14*3))","v":0.48148148148148145},{"$f":"SUM(F14,J14,N14,R14,V14,Z14,AD14,AH14,AL14,AP14)-SUM(H14,L14,P14,T14,X14,AB14,AF14,AJ14,AN14,AR14)","v":-3},{"$f":"SUM(F14,J14,N14,R14,V14,Z14,AD14,AH14,AL14,AP14,)","v":15},{"$f":"RANK(AU14,$AU$4:$AU$23)","v":4},{"$f":"RANK(AU14,$AU$4:$AU$65)","v":13}]
[{"$f":"INDIRECT(\"U10組合せ!c\"&(ROW()-1)/2+4)","v":"上河内ＪＳＣ"}]
["A07",null,null,null,{"$f":"IF(OR(F16=\"\",H16=\"\"),\"\",IF(F16>H16,\"○\",IF(F16<H16,\"×\",IF(F16=H16,\"△\"))))","v":"×"},{"$f":"IF(AF4=\"\",\"\",AF4)","v":3},"－",{"$f":"IF(AD4=\"\",\"\",AD4)","v":4},{"$f":"IF(OR(J16=\"\",L16=\"\"),\"\",IF(J16>L16,\"○\",IF(J16<L16,\"×\",IF(J16=L16,\"△\"))))","v":"×"},{"$f":"IF(AF6=\"\",\"\",AF6)","v":2},"－",{"$f":"IF(AD6=\"\",\"\",AD6)","v":4},{"$f":"IF(OR(N16=\"\",P16=\"\"),\"\",IF(N16>P16,\"○\",IF(N16<P16,\"×\",IF(N16=P16,\"△\"))))","v":"○"},{"$f":"IF(AF8=\"\",\"\",AF8)","v":1},"－",{"$f":"IF(AD8=\"\",\"\",AD8)","v":0},{"$f":"IF(OR(R16=\"\",T16=\"\"),\"\",IF(R16>T16,\"○\",IF(R16<T16,\"×\",IF(R16=T16,\"△\"))))","v":"○"},{"$f":"IF(AF10=\"\",\"\",AF10)","v":1},"－",{"$f":"IF(AD10=\"\",\"\",AD10)","v":0},{"$f":"IF(OR(V16=\"\",X16=\"\"),\"\",IF(V16>X16,\"○\",IF(V16<X16,\"×\",IF(V16=X16,\"△\"))))","v":"△"},{"$f":"IF(AF12=\"\",\"\",AF12)","v":0},"－",{"$f":"IF(AD12=\"\",\"\",AD12)","v":0},{"$f":"IF(OR(Z16=\"\",AB16=\"\"),\"\",IF(Z16>AB16,\"○\",IF(Z16<AB16,\"×\",IF(Z16=AB16,\"△\"))))","v":"○"},{"$f":"IF(AF14=\"\",\"\",AF14)","v":3},"－",{"$f":"IF(AD14=\"\",\"\",AD14)","v":1},null,null,null,null,{"$f":"IF(OR(AH16=\"\",AJ16=\"\"),\"\",IF(AH16>AJ16,\"○\",IF(AH16<AJ16,\"×\",IF(AH16=AJ16,\"△\"))))","v":"○"},1,"-",0,{"$f":"IF(OR(AL16=\"\",AN16=\"\"),\"\",IF(AL16>AN16,\"○\",IF(AL16<AN16,\"×\",IF(AL16=AN16,\"△\"))))","v":"×"},1,"－",2,{"$f":"IF(OR(AP16=\"\",AR16=\"\"),\"\",IF(AP16>AR16,\"○\",IF(AP16<AR16,\"×\",IF(AP16=AR16,\"△\"))))","v":"×"},0,"－",1,{"$f":"COUNTIF(E16:AR17,\"○\")+COUNTIF(E16:AR17,\"×\")+COUNTIF(E16:AR17,\"△\")","v":9},{"$f":"COUNTIF(E16:AR17,\"○\")*3+COUNTIF(E16:AR17,\"△\")","v":13},{"$f":"IF(AS16=0,0,AT16/(AS16*3))","v":0.48148148148148145},{"$f":"SUM(F16,J16,N16,R16,V16,Z16,AD16,AH16,AL16,AP16)-SUM(H16,L16,P16,T16,X16,AB16,AF16,AJ16,AN16,AR16)","v":0},{"$f":"SUM(F16,J16,N16,R16,V16,Z16,AD16,AH16,AL16,AP16,)","v":12},{"$f":"RANK(AU16,$AU$4:$AU$23)","v":4},{"$f":"RANK(AU16,$AU$4:$AU$65)","v":13}]
[{"$f":"INDIRECT(\"U10組合せ!c\"&(ROW()-1)/2+4)","v":"清原ＳＳＳ"}]
["A08",null,null,null,{"$f":"IF(OR(F18=\"\",H18=\"\"),\"\",IF(F18>H18,\"○\",IF(F18<H18,\"×\",IF(F18=H18,\"△\"))))","v":"○"},{"$f":"IF(AJ4=\"\",\"\",AJ4)","v":3},"－",{"$f":"IF(AH4=\"\",\"\",AH4)","v":1},{"$f":"IF(OR(J18=\"\",L18=\"\"),\"\",IF(J18>L18,\"○\",IF(J18<L18,\"×\",IF(J18=L18,\"△\"))))","v":"×"},{"$f":"IF(AJ6=\"\",\"\",AJ6)","v":0},"－",{"$f":"IF(AH6=\"\",\"\",AH6)","v":1},{"$f":"IF(OR(N18=\"\",P18=\"\"),\"\",IF(N18>P18,\"○\",IF(N18<P18,\"×\",IF(N18=P18,\"△\"))))","v":"○"},{"$f":"IF(AJ8=\"\",\"\",AJ8)","v":1},"－",{"$f":"IF(AH8=\"\",\"\",AH8)","v":0},{"$f":"IF(OR(R18=\"\",T18=\"\"),\"\",IF(R18>T18,\"○\",IF(R18<T18,\"×\",IF(R18=T18,\"△\"))))","v":"△"},{"$f":"IF(AJ10=\"\",\"\",AJ10)","v":1},"－",{"$f":"IF(AH10=\"\",\"\",AH10)","v":1},{"$f":"IF(OR(V18=\"\",X18=\"\"),\"\",IF(V18>X18,\"○\",IF(V18<X18,\"×\",IF(V18=X18,\"△\"))))","v":"○"},{"$f":"IF(AJ12=\"\",\"\",AJ12)","v":2},"－",{"$f":"IF(AH12=\"\",\"\",AH12)","v":0},{"$f":"IF(OR(Z18=\"\",AB18=\"\"),\"\",IF(Z18>AB18,\"○\",IF(Z18<AB18,\"×\",IF(Z18=AB18,\"△\"))))","v":"○"},{"$f":"IF(AJ14=\"\",\"\",AJ14)","v":3},"－",{"$f":"IF(AH14=\"\",\"\",AH14)","v":1},{"$f":"IF(OR(AD18=\"\",AF18=\"\"),\"\",IF(AD18>AF18,\"○\",IF(AD18<AF18,\"×\",IF(AD18=AF18,\"△\"))))","v":"×"},{"$f":"IF(AJ16=\"\",\"\",AJ16)","v":0},"－",{"$f":"IF(AH16=\"\",\"\",AH16)","v":1},null,null,null,null,{"$f":"IF(OR(AL18=\"\",AN18=\"\"),\"\",IF(AL18>AN18,\"○\",IF(AL18<AN18,\"×\",IF(AL18=AN18,\"△\"))))","v":"○"},5,"-",1,{"$f":"IF(OR(AP18=\"\",AR18=\"\"),\"\",IF(AP18>AR18,\"○\",IF(AP18<AR18,\"×\",IF(AP18=AR18,\"△\"))))","v":"○"},1,"－",0,{"$f":"COUNTIF(E18:AR19,\"○\")+COUNTIF(E18:AR19,\"×\")+COUNTIF(E18:AR19,\"△\")","v":9},{"$f":"COUNTIF(E18:AR19,\"○\")*3+COUNTIF(E18:AR19,\"△\")","v":19},{"$f":"IF(AS18=0,0,AT18/(AS18*3))","v":0.70370370370370372},{"$f":"SUM(F18,J18,N18,R18,V18,Z18,AD18,AH18,AL18,AP18)-SUM(H18,L18,P18,T18,X18,AB18,AF18,AJ18,AN18,AR18)","v":10},{"$f":"SUM(F18,J18,N18,R18,V18,Z18,AD18,AH18,AL18,AP18,)","v":16},{"$f":"RANK(AU18,$AU$4:$AU$23)","v":2},{"$f":"RANK(AU18,$AU$4:$AU$65)","v":6}]
[{"$f":"INDIRECT(\"U10組合せ!c\"&(ROW()-1)/2+4)","v":"緑が丘ＹＦＣ"}]
["A09",null,null,null,{"$f":"IF(OR(F20=\"\",H20=\"\"),\"\",IF(F20>H20,\"○\",IF(F20<H20,\"×\",IF(F20=H20,\"△\"))))","v":"×"},{"$f":"IF(AN4=\"\",\"\",AN4)","v":0},"－",{"$f":"IF(AL4=\"\",\"\",AL4)","v":3},{"$f":"IF(OR(J20=\"\",L20=\"\"),\"\",IF(J20>L20,\"○\",IF(J20<L20,\"×\",IF(J20=L20,\"△\"))))","v":"×"},{"$f":"IF(AN6=\"\",\"\",AN6)","v":0},"－",{"$f":"IF(AL6=\"\",\"\",AL6)","v":4},{"$f":"IF(OR(N20=\"\",P20=\"\"),\"\",IF(N20>P20,\"○\",IF(N20<P20,\"×\",IF(N20=P20,\"△\"))))","v":"○"},{"$f":"IF(AN8=\"\",\"\",AN8)","v":2},"－",{"$f":"IF(AL8=\"\",\"\",AL8)","v":0},{"$f":"IF(OR(R20=\"\",T20=\"\"),\"\",IF(R20>T20,\"○\",IF(R20<T20,\"×\",IF(R20=T20,\"△\"))))","v":"×"},{"$f":"IF(AN10=\"\",\"\",AN10)","v":0},"－",{"$f":"IF(AL10=\"\",\"\",AL10)","v":1},{"$f":"IF(OR(V20=\"\",X20=\"\"),\"\",IF(V20>X20,\"○\",IF(V20<X20,\"×\",IF(V20=X20,\"△\"))))","v":"○"},{"$f":"IF(AN12=\"\",\"\",AN12)","v":1},"－",{"$f":"IF(AL12=\"\",\"\",AL12)","v":0},{"$f":"IF(OR(Z20=\"\",AB20=\"\"),\"\",IF(Z20>AB20,\"○\",IF(Z20<AB20,\"×\",IF(Z20=AB20,\"△\"))))","v":"×"},{"$f":"IF(AN14=\"\",\"\",AN14)","v":0},"－",{"$f":"IF(AL14=\"\",\"\",AL14)","v":3},{"$f":"IF(OR(AD20=\"\",AF20=\"\"),\"\",IF(AD20>AF20,\"○\",IF(AD20<AF20,\"×\",IF(AD20=AF20,\"△\"))))","v":"○"},{"$f":"IF(AN16=\"\",\"\",AN16)","v":2},"－",{"$f":"IF(AL16=\"\",\"\",AL16)","v":1},{"$f":"IF(OR(AH20=\"\",AJ20=\"\"),\"\",IF(AH20>AJ20,\"○\",IF(AH20<AJ20,\"×\",IF(AH20=AJ20,\"△\"))))","v":"×"},{"$f":"IF(AN18=\"\",\"\",AN18)","v":1},"－",{"$f":"IF(AL18=\"\",\"\",AL18)","v":5},null,null,null,null,{"$f":"IF(OR(AP20=\"\",AR20=\"\"),\"\",IF(AP20>AR20,\"○\",IF(AP20<AR20,\"×\",IF(AP20=AR20,\"△\"))))","v":"△"},0,"-",0,{"$f":"COUNTIF(E20:AR21,\"○\")+COUNTIF(E20:AR21,\"×\")+COUNTIF(E20:AR21,\"△\")","v":9},{"$f":"COUNTIF(E20:AR21,\"○\")*3+COUNTIF(E20:AR21,\"△\")","v":10},{"$f":"IF(AS20=0,0,AT20/(AS20*3))","v":0.37037037037037035},{"$f":"SUM(F20,J20,N20,R20,V20,Z20,AD20,AH20,AL20,AP20)-SUM(H20,L20,P20,T20,X20,AB20,AF20,AJ20,AN20,AR20)","v":-11},{"$f":"SUM(F20,J20,N20,R20,V20,Z20,AD20,AH20,AL20,AP20,)","v":6},{"$f":"RANK(AU20,$AU$4:$AU$23)","v":7},{"$f":"RANK(AU20,$AU$4:$AU$65)","v":18}]
[{"$f":"INDIRECT(\"U10組合せ!c\"&(ROW()-1)/2+4)","v":"ＦＣペンサーレ"}]
["A10",null,null,null,{"$f":"IF(OR(F22=\"\",H22=\"\"),\"\",IF(F22>H22,\"○\",IF(F22<$H22,\"×\",IF(F22=H22,\"△\"))))","v":"×"},{"$f":"IF(AR4=\"\",\"\",AR4)","v":1},"－",{"$f":"IF(AP4=\"\",\"\",AP4)","v":2},{"$f":"IF(OR(J22=\"\",L22=\"\"),\"\",IF(J22>L22,\"○\",IF(J22<L22,\"×\",IF(J22=L22,\"△\"))))","v":"×"},{"$f":"IF(AR6=\"\",\"\",AR6)","v":0},"－",{"$f":"IF(AP6=\"\",\"\",AP6)","v":3},{"$f":"IF(OR(N22=\"\",P22=\"\"),\"\",IF(N22>P22,\"○\",IF(N22<P22,\"×\",IF(N22=P22,\"△\"))))","v":"△"},{"$f":"IF(AR8=\"\",\"\",AR8)","v":1},"－",{"$f":"IF(AP8=\"\",\"\",AP8)","v":1},{"$f":"IF(OR(R22=\"\",T22=\"\"),\"\",IF(R22>T22,\"○\",IF(R22<T22,\"×\",IF(R22=T22,\"△\"))))","v":"×"},{"$f":"IF(AR10=\"\",\"\",AR10)","v":0},"－",{"$f":"IF(AP10=\"\",\"\",AP10)","v":1},{"$f":"IF(OR(V22=\"\",X22=\"\"),\"\",IF(V22>X22,\"○\",IF(V22<X22,\"×\",IF(V22=X22,\"△\"))))","v":"○"},{"$f":"IF(AR12=\"\",\"\",AR12)","v":4},"－",{"$f":"IF(AP12=\"\",\"\",AP12)","v":0},{"$f":"IF(OR(Z22=\"\",AB22=\"\"),\"\",IF(Z22>AB22,\"○\",IF(Z22<AB22,\"×\",IF(Z22=AB22,\"△\"))))","v":"×"},{"$f":"IF(AR14=\"\",\"\",AR14)","v":3},"－",{"$f":"IF(AP14=\"\",\"\",AP14)","v":4},{"$f":"IF(OR(AD22=\"\",AF22=\"\"),\"\",IF(AD22>AF22,\"○\",IF(AD22<AF22,\"×\",IF(AD22=AF22,\"△\"))))","v":"○"},{"$f":"IF(AR16=\"\",\"\",AR16)","v":1},"－",{"$f":"IF(AP16=\"\",\"\",AP16)","v":0},{"$f":"IF(OR(AH22=\"\",AJ22=\"\"),\"\",IF(AH22>AJ22,\"○\",IF(AH22<AJ22,\"×\",IF(AH22=AJ22,\"△\"))))","v":"×"},{"$f":"IF(AR18=\"\",\"\",AR18)","v":0},"－",{"$f":"IF(AP18=\"\",\"\",AP18)","v":1},{"$f":"IF(OR(AL22=\"\",AN22=\"\"),\"\",IF(AL22>AN22,\"○\",IF(AL22<AN22,\"×\",IF(AL22=AN22,\"△\"))))","v":"△"},{"$f":"IF(AR20=\"\",\"\",AR20)","v":0},"－",{"$f":"IF(AP20=\"\",\"\",AP20)","v":0},null,null,null,null,{"$f":"COUNTIF(E22:AR23,\"○\")+COUNTIF(E22:AR23,\"×\")+COUNTIF(E22:AR23,\"△\")","v":9},{"$f":"COUNTIF(E22:AR23,\"○\")*3+COUNTIF(E22:AR23,\"△\")","v":8},{"$f":"IF(AS22=0,0,AT22/(AS22*3))","v":0.29629629629629628},{"$f":"SUM(F22,J22,N22,R22,V22,Z22,AD22,AH22,AL22,AP22)-SUM(H22,L22,P22,T22,X22,AB22,AF22,AJ22,AN22,AR22)","v":-2},{"$f":"SUM(F22,J22,N22,R22,V22,Z22,AD22,AH22,AL22,AP22,)","v":10},{"$f":"RANK(AU22,$AU$4:$AU$23)","v":8},{"$f":"RANK(AU22,$AU$4:$AU$65)","v":20}]
[{"$f":"INDIRECT(\"U10組合せ!c\"&(ROW()-1)/2+4)","v":"富士見ＳＳＳ"}]
[]
["Ｂブロック",null,null,null,{"$f":"A27","v":"陽東ＳＳＳ"},null,null,null,{"$f":"A29","v":"姿川第一ＦＣ"},null,null,null,{"$f":"A31","v":"豊郷ＪＦＣ宇都宮"},null,null,null,{"$f":"A33","v":"石井ＦＣ"},null,null,null,{"$f":"A35","v":"シャルムグランツＳＣ"},null,null,null,{"$f":"A37","v":"ｕｎｉｏｎ ｓｃ"},null,null,null,{"$f":"A39","v":"ＦＣブロケード"},null,null,null,{"$f":"A41","v":"栃木ＳＣジュニア"},null,null,null,{"$f":"A43","v":"国本ＪＳＣ"},null,null,null,null,null,null,null,"試合数","勝ち点","勝ち点率","得失差","得点","ブロック\n順位","総合\n順位"]
["B01",null,null,null,null,null,null,null,{"$f":"IF(OR(J26=\"\",L26=\"\"),\"\",IF(J26>L26,\"○\",IF(J26<L26,\"×\",IF(J26=L26,\"△\"))))","v":"×"},0,"－",4,{"$f":"IF(OR(N26=\"\",P26=\"\"),\"\",IF(N26>P26,\"○\",IF(N26<P26,\"×\",IF(N26=P26,\"△\"))))","v":"×"},0,"－",3,{"$f":"IF(OR(R26=\"\",T26=\"\"),\"\",IF(R26>T26,\"○\",IF(R26<T26,\"×\",IF(R26=T26,\"△\"))))","v":"○"},2,"－",1,{"$f":"IF(OR(V26=\"\",X26=\"\"),\"\",IF(V26>X26,\"○\",IF(V26<X26,\"×\",IF(V26=X26,\"△\"))))","v":"○"},4,"－",0,{"$f":"IF(OR(Z26=\"\",AB26=\"\"),\"\",IF(Z26>AB26,\"○\",IF(Z26<AB26,\"×\",IF(Z26=AB26,\"△\"))))","v":"×"},0,"－",1,{"$f":"IF(OR(AD26=\"\",AF26=\"\"),\"\",IF(AD26>AF26,\"○\",IF(AD26<AF26,\"×\",IF(AD26=AF26,\"△\"))))","v":"×"},1,"－",2,{"$f":"IF(OR(AH26=\"\",AJ26=\"\"),\"\",IF(AH26>AJ26,\"○\",IF(AH26<AJ26,\"×\",IF(AH26=AJ26,\"△\"))))","v":"×"},0,"－",11,{"$f":"IF(OR(AL26=\"\",AN26=\"\"),\"\",IF(AL26>AN26,\"○\",IF(AL26<AN26,\"×\",IF(AL26=AN26,\"△\"))))","v":"×"},1,"－",6,null,null,null,null,{"$f":"COUNTIF(E26:AN27,\"○\")+COUNTIF(E26:AN27,\"×\")+COUNTIF(E26:AN27,\"△\")","v":8},{"$f":"COUNTIF(E26:AN27,\"○\")*3+COUNTIF(E26:AN27,\"△\")","v":6},{"$f":"IF(AS26=0,0,AT26/(AS26*3))","v":0.25},{"$f":"SUM(F26,J26,N26,R26,V26,Z26,AD26,AH26,AL26,AP26)-SUM(H26,L26,P26,T26,X26,AB26,AF26,AJ26,AN26,AR26)","v":-20},{"$f":"SUM(F26,J26,N26,R26,V26,Z26,AD26,AH26,AL26,AP26,)","v":8},{"$f":"RANK(AU26,$AU$26:$AU$43)","v":8},{"$f":"RANK(AU26,$AU$4:$AU$65)","v":23}]
[{"$f":"INDIRECT(\"U10組合せ!e\"&(ROW()-1)/2-7)","v":"陽東ＳＳＳ"}]
["B02",null,null,null,{"$f":"IF(OR(F28=\"\",H28=\"\"),\"\",IF(F28>H28,\"○\",IF(F28<H28,\"×\",IF(F28=H28,\"△\"))))","v":"○"},{"$f":"IF(L26=\"\",\"\",L26)","v":4},"－",{"$f":"IF(J26=\"\",\"\",J26)","v":0},null,null,null,null,{"$f":"IF(OR(N28=\"\",P28=\"\"),\"\",IF(N28>P28,\"○\",IF(N28<P28,\"×\",IF(N28=P28,\"△\"))))","v":"×"},0,"－",3,{"$f":"IF(OR(R28=\"\",T28=\"\"),\"\",IF(R28>T28,\"○\",IF(R28<T28,\"×\",IF(R28=T28,\"△\"))))","v":"△"},1,"－",1,{"$f":"IF(OR(V28=\"\",X28=\"\"),\"\",IF(V28>X28,\"○\",IF(V28<X28,\"×\",IF(V28=X28,\"△\"))))","v":"○"},3,"－",0,{"$f":"IF(OR(Z28=\"\",AB28=\"\"),\"\",IF(Z28>AB28,\"○\",IF(Z28<AB28,\"×\",IF(Z28=AB28,\"△\"))))","v":"△"},1,"－",1,{"$f":"IF(OR(AD28=\"\",AF28=\"\"),\"\",IF(AD28>AF28,\"○\",IF(AD28<AF28,\"×\",IF(AD28=AF28,\"△\"))))","v":"○"},3,"－",1,{"$f":"IF(OR(AH28=\"\",AJ28=\"\"),\"\",IF(AH28>AJ28,\"○\",IF(AH28<AJ28,\"×\",IF(AH28=AJ28,\"△\"))))","v":"×"},0,"－",6,{"$f":"IF(OR(AL28=\"\",AN28=\"\"),\"\",IF(AL28>AN28,\"○\",IF(AL28<AN28,\"×\",IF(AL28=AN28,\"△\"))))","v":"×"},0,"－",6,null,null,null,null,{"$f":"COUNTIF(E28:AN29,\"○\")+COUNTIF(E28:AN29,\"×\")+COUNTIF(E28:AN29,\"△\")","v":8},{"$f":"COUNTIF(E28:AN29,\"○\")*3+COUNTIF(E28:AN29,\"△\")","v":11},{"$f":"IF(AS28=0,0,AT28/(AS28*3))","v":0.45833333333333331},{"$f":"SUM(F26,J26,N26,R26,V26,Z26,AD26,AH26,AL26,AP26)-SUM(H26,L26,P26,T26,X26,AB26,AF26,AJ26,AN26,AR26)","v":-20},12,{"$f":"RANK(AU28,$AU$26:$AU$43)","v":5},{"$f":"RANK(AU28,$AU$4:$AU$65)","v":15}]
[{"$f":"INDIRECT(\"U10組合せ!e\"&(ROW()-1)/2-7)","v":"姿川第一ＦＣ"}]
["B03",null,null,null,{"$f":"IF(OR(F30=\"\",H30=\"\"),\"\",IF(F30>H30,\"○\",IF(F30<H30,\"×\",IF(F30=H30,\"△\"))))","v":"○"},{"$f":"IF(P26=\"\",\"\",P26)","v":3},"－",{"$f":"IF(N26=\"\",\"\",N26)","v":0},{"$f":"IF(OR(J30=\"\",L30=\"\"),\"\",IF(J30>L30,\"○\",IF(J30<L30,\"×\",IF(J30=L30,\"△\"))))","v":"○"},{"$f":"IF(P28=\"\",\"\",P28)","v":3},"－",{"$f":"IF(N28=\"\",\"\",N28)","v":0},null,null,null,null,{"$f":"IF(OR(R30=\"\",T30=\"\"),\"\",IF(R30>T30,\"○\",IF(R30<T30,\"×\",IF(R30=T30,\"△\"))))","v":"×"},1,"－",2,{"$f":"IF(OR(V30=\"\",X30=\"\"),\"\",IF(V30>X30,\"○\",IF(V30<X30,\"×\",IF(V30=X30,\"△\"))))","v":"○"},4,"－",0,{"$f":"IF(OR(Z30=\"\",AB30=\"\"),\"\",IF(Z30>AB30,\"○\",IF(Z30<AB30,\"×\",IF(Z30=AB30,\"△\"))))","v":"×"},0,"－",3,{"$f":"IF(OR(AD30=\"\",AF30=\"\"),\"\",IF(AD30>AF30,\"○\",IF(AD30<AF30,\"×\",IF(AD30=AF30,\"△\"))))","v":"○"},2,"－",0,{"$f":"IF(OR(AH30=\"\",AJ30=\"\"),\"\",IF(AH30>AJ30,\"○\",IF(AH30<AJ30,\"×\",IF(AH30=AJ30,\"△\"))))","v":"×"},0,"－",4,{"$f":"IF(OR(AL30=\"\",AN30=\"\"),\"\",IF(AL30>AN30,\"○\",IF(AL30<AN30,\"×\",IF(AL30=AN30,\"△\"))))","v":"×"},0,"－",1,null,null,null,null,{"$f":"COUNTIF(E30:AN31,\"○\")+COUNTIF(E30:AN31,\"×\")+COUNTIF(E30:AN31,\"△\")","v":8},{"$f":"COUNTIF(E30:AN31,\"○\")*3+COUNTIF(E30:AN31,\"△\")","v":12},{"$f":"IF(AS30=0,0,AT30/(AS30*3))","v":0.5},{"$f":"SUM(F30,J30,N30,R30,V30,Z30,AD30,AH30,AL30,AP30)-SUM(H30,L30,P30,T30,X30,AB30,AF30,AJ30,AN30,AR30)","v":3},13,{"$f":"RANK(AU30,$AU$26:$AU$43)","v":4},{"$f":"RANK(AU30,$AU$4:$AU$65)","v":12}]
[{"$f":"INDIRECT(\"U10組合せ!e\"&(ROW()-1)/2-7)","v":"豊郷ＪＦＣ宇都宮"}]
["B04",null,null,null,{"$f":"IF(OR(F32=\"\",H32=\"\"),\"\",IF(F32>H32,\"○\",IF(F32<H32,\"×\",IF(F32=H32,\"△\"))))","v":"×"},{"$f":"IF(T26=\"\",\"\",T26)","v":1},"－",{"$f":"IF(R26=\"\",\"\",R26)","v":2},{"$f":"IF(OR(J32=\"\",L32=\"\"),\"\",IF(J32>L32,\"○\",IF(J32<L32,\"×\",IF(J32=L32,\"△\"))))","v":"△"},{"$f":"IF(T28=\"\",\"\",T28)","v":1},"－",{"$f":"IF(R28=\"\",\"\",R28)","v":1},{"$f":"IF(OR(N32=\"\",P32=\"\"),\"\",IF(N32>P32,\"○\",IF(N32<P32,\"×\",IF(N32=P32,\"△\"))))","v":"○"},{"$f":"IF(T30=\"\",\"\",T30)","v":2},"－",{"$f":"IF(R30=\"\",\"\",R30)","v":1},null,null,null,null,{"$f":"IF(OR(V32=\"\",X32=\"\"),\"\",IF(V32>X32,\"○\",IF(V32<X32,\"×\",IF(V32=X32,\"△\"))))","v":"○"},2,"－",0,{"$f":"IF(OR(Z32=\"\",AB32=\"\"),\"\",IF(Z32>AB32,\"○\",IF(Z32<AB32,\"×\",IF(Z32=AB32,\"△\"))))","v":"×"},1,"－",3,{"$f":"IF(OR(AD32=\"\",AF32=\"\"),\"\",IF(AD32>AF32,\"○\",IF(AD32<AF32,\"×\",IF(AD32=AF32,\"△\"))))","v":"△"},0,"－",0,{"$f":"IF(OR(AH32=\"\",AJ32=\"\"),\"\",IF(AH32>AJ32,\"○\",IF(AH32<AJ32,\"×\",IF(AH32=AJ32,\"△\"))))","v":"×"},0,"－",6,{"$f":"IF(OR(AL32=\"\",AN32=\"\"),\"\",IF(AL32>AN32,\"○\",IF(AL32<AN32,\"×\",IF(AL32=AN32,\"△\"))))","v":"×"},2,"－",7,null,null,null,null,{"$f":"COUNTIF(E32:AN33,\"○\")+COUNTIF(E32:AN33,\"×\")+COUNTIF(E32:AN33,\"△\")","v":8},{"$f":"COUNTIF(E32:AN33,\"○\")*3+COUNTIF(E32:AN33,\"△\")","v":8},{"$f":"IF(AS32=0,0,AT32/(AS32*3))","v":0.33333333333333331},{"$f":"SUM(F32,J32,N32,R32,V32,Z32,AD32,AH32,AL32,AP32)-SUM(H32,L32,P32,T32,X32,AB32,AF32,AJ32,AN32,AR32)","v":-11},9,{"$f":"RANK(AU32,$AU$26:$AU$43)","v":6},{"$f":"RANK(AU32,$AU$4:$AU$65)","v":19}]
[{"$f":"INDIRECT(\"U10組合せ!e\"&(ROW()-1)/2-7)","v":"石井ＦＣ"}]
["B05",null,null,null,{"$f":"IF(OR(F34=\"\",H34=\"\"),\"\",IF(F34>H34,\"○\",IF(F34<H34,\"×\",IF(F34=H34,\"△\"))))","v":"×"},{"$f":"IF(X26=\"\",\"\",X26)","v":0},"－",{"$f":"IF(V26=\"\",\"\",V26)","v":4},{"$f":"IF(OR(J34=\"\",L34=\"\"),\"\",IF(J34>L34,\"○\",IF(J34<L34,\"×\",IF(J34=L34,\"△\"))))","v":"×"},{"$f":"IF(X28=\"\",\"\",X28)","v":0},"－",{"$f":"IF(V28=\"\",\"\",V28)","v":3},{"$f":"IF(OR(N34=\"\",P34=\"\"),\"\",IF(N34>P34,\"○\",IF(N34<P34,\"×\",IF(N34=P34,\"△\"))))","v":"×"},{"$f":"IF(X30=\"\",\"\",X30)","v":0},"－",{"$f":"IF(V30=\"\",\"\",V30)","v":4},{"$f":"IF(OR(R34=\"\",T34=\"\"),\"\",IF(R34>T34,\"○\",IF(R34<T34,\"×\",IF(R34=T34,\"△\"))))","v":"×"},{"$f":"IF(X32=\"\",\"\",X32)","v":0},"－",{"$f":"IF(V32=\"\",\"\",V32)","v":2},null,null,null,null,{"$f":"IF(OR(Z34=\"\",AB34=\"\"),\"\",IF(Z34>AB34,\"○\",IF(Z34<AB34,\"×\",IF(Z34=AB34,\"△\"))))","v":"×"},0,"－",6,{"$f":"IF(OR(AD34=\"\",AF34=\"\"),\"\",IF(AD34>AF34,\"○\",IF(AD34<AF34,\"×\",IF(AD34=AF34,\"△\"))))","v":"×"},0,"－",1,{"$f":"IF(OR(AH34=\"\",AJ34=\"\"),\"\",IF(AH34>AJ34,\"○\",IF(AH34<AJ34,\"×\",IF(AH34=AJ34,\"△\"))))","v":"×"},0,"－",8,{"$f":"IF(OR(AL34=\"\",AN34=\"\"),\"\",IF(AL34>AN34,\"○\",IF(AL34<AN34,\"×\",IF(AL34=AN34,\"△\"))))","v":"×"},0,"－",5,null,null,null,null,{"$f":"COUNTIF(E34:AN35,\"○\")+COUNTIF(E34:AN35,\"×\")+COUNTIF(E34:AN35,\"△\")","v":8},{"$f":"COUNTIF(E34:AN35,\"○\")*3+COUNTIF(E34:AN35,\"△\")","v":0},{"$f":"IF(AS34=0,0,AT34/(AS34*3))","v":0},{"$f":"SUM(F34,J34,N34,R34,V34,Z34,AD34,AH34,AL34,AP34)-SUM(H34,L34,P34,T34,X34,AB34,AF34,AJ34,AN34,AR34)","v":-33},0,{"$f":"RANK(AU34,$AU$26:$AU$43)","v":9},{"$f":"RANK(AU34,$AU$4:$AU$65)","v":27}]
[{"$f":"INDIRECT(\"U10組合せ!e\"&(ROW()-1)/2-7)","v":"シャルムグランツＳＣ"}]
["B06",null,null,null,{"$f":"IF(OR(F36=\"\",H36=\"\"),\"\",IF(F36>H36,\"○\",IF(F36<H36,\"×\",IF(F36=H36,\"△\"))))","v":"○"},{"$f":"IF(AB26=\"\",\"\",AB26)","v":1},"－",{"$f":"IF(Z26=\"\",\"\",Z26)","v":0},{"$f":"IF(OR(J36=\"\",L36=\"\"),\"\",IF(J36>L36,\"○\",IF(J36<L36,\"×\",IF(J36=L36,\"△\"))))","v":"△"},{"$f":"IF(AB28=\"\",\"\",AB28)","v":1},"－",{"$f":"IF(Z28=\"\",\"\",Z28)","v":1},{"$f":"IF(OR(N36=\"\",P36=\"\"),\"\",IF(N36>P36,\"○\",IF(N36<P36,\"×\",IF(N36=P36,\"△\"))))","v":"○"},{"$f":"IF(AB30=\"\",\"\",AB30)","v":3},"－",{"$f":"IF(Z30=\"\",\"\",Z30)","v":0},{"$f":"IF(OR(R36=\"\",T36=\"\"),\"\",IF(R36>T36,\"○\",IF(R36<T36,\"×\",IF(R36=T36,\"△\"))))","v":"○"},{"$f":"IF(AB32=\"\",\"\",AB32)","v":3},"－",{"$f":"IF(Z32=\"\",\"\",Z32)","v":1},{"$f":"IF(OR(V36=\"\",X36=\"\"),\"\",IF(V36>X36,\"○\",IF(V36<X36,\"×\",IF(V36=X36,\"△\"))))","v":"○"},{"$f":"IF(AB34=\"\",\"\",AB34)","v":6},"－",{"$f":"IF(Z34=\"\",\"\",Z34)","v":0},null,null,null,null,{"$f":"IF(OR(AD36=\"\",AF36=\"\"),\"\",IF(AD36>AF36,\"○\",IF(AD36<AF36,\"×\",IF(AD36=AF36,\"△\"))))","v":"○"},5,"－",0,{"$f":"IF(OR(AH36=\"\",AJ36=\"\"),\"\",IF(AH36>AJ36,\"○\",IF(AH36<AJ36,\"×\",IF(AH36=AJ36,\"△\"))))","v":"×"},0,"－",8,{"$f":"IF(OR(AL36=\"\",AN36=\"\"),\"\",IF(AL36>AN36,\"○\",IF(AL36<AN36,\"×\",IF(AL36=AN36,\"△\"))))","v":"×"},1,"－",2,null,null,null,null,{"$f":"COUNTIF(E36:AN37,\"○\")+COUNTIF(E36:AN37,\"×\")+COUNTIF(E36:AN37,\"△\")","v":8},{"$f":"COUNTIF(E36:AN37,\"○\")*3+COUNTIF(E36:AN37,\"△\")","v":16},{"$f":"IF(AS36=0,0,AT36/(AS36*3))","v":0.66666666666666663},{"$f":"SUM(F36,J36,N36,R36,V36,Z36,AD36,AH36,AL36,AP36)-SUM(H36,L36,P36,T36,X36,AB36,AF36,AJ36,AN36,AR36)","v":8},20,{"$f":"RANK(AU36,$AU$26:$AU$43)","v":3},{"$f":"RANK(AU36,$AU$4:$AU$65)","v":7}]
[{"$f":"INDIRECT(\"U10組合せ!e\"&(ROW()-1)/2-7)","v":"ｕｎｉｏｎ ｓｃ"}]
["B07",null,null,null,{"$f":"IF(OR(F38=\"\",H38=\"\"),\"\",IF(F38>H38,\"○\",IF(F38<H38,\"×\",IF(F38=H38,\"△\"))))","v":"○"},{"$f":"IF(AF26=\"\",\"\",AF26)","v":2},"－",{"$f":"IF(AD26=\"\",\"\",AD26)","v":1},{"$f":"IF(OR(J38=\"\",L38=\"\"),\"\",IF(J38>L38,\"○\",IF(J38<L38,\"×\",IF(J38=L38,\"△\"))))","v":"×"},{"$f":"IF(AF28=\"\",\"\",AF28)","v":1},"－",{"$f":"IF(AD28=\"\",\"\",AD28)","v":3},{"$f":"IF(OR(N38=\"\",P38=\"\"),\"\",IF(N38>P38,\"○\",IF(N38<P38,\"×\",IF(N38=P38,\"△\"))))","v":"×"},{"$f":"IF(AF30=\"\",\"\",AF30)","v":0},"－",{"$f":"IF(AD30=\"\",\"\",AD30)","v":2},{"$f":"IF(OR(R38=\"\",T38=\"\"),\"\",IF(R38>T38,\"○\",IF(R38<T38,\"×\",IF(R38=T38,\"△\"))))","v":"△"},{"$f":"IF(AF32=\"\",\"\",AF32)","v":0},"－",{"$f":"IF(AD32=\"\",\"\",AD32)","v":0},{"$f":"IF(OR(V38=\"\",X38=\"\"),\"\",IF(V38>X38,\"○\",IF(V38<X38,\"×\",IF(V38=X38,\"△\"))))","v":"○"},{"$f":"IF(AF34=\"\",\"\",AF34)","v":1},"－",{"$f":"IF(AD34=\"\",\"\",AD34)","v":0},{"$f":"IF(OR(Z38=\"\",AB38=\"\"),\"\",IF(Z38>AB38,\"○\",IF(Z38<AB38,\"×\",IF(Z38=AB38,\"△\"))))","v":"×"},{"$f":"IF(AF36=\"\",\"\",AF36)","v":0},"－",{"$f":"IF(AD36=\"\",\"\",AD36)","v":5},null,null,null,null,{"$f":"IF(OR(AH38=\"\",AJ38=\"\"),\"\",IF(AH38>AJ38,\"○\",IF(AH38<AJ38,\"×\",IF(AH38=AJ38,\"△\"))))","v":"×"},0,"－",5,{"$f":"IF(OR(AL38=\"\",AN38=\"\"),\"\",IF(AL38>AN38,\"○\",IF(AL38<AN38,\"×\",IF(AL38=AN38,\"△\"))))","v":"×"},0,"－",6,null,null,null,null,{"$f":"COUNTIF(E38:AN39,\"○\")+COUNTIF(E38:AN39,\"×\")+COUNTIF(E38:AN39,\"△\")","v":8},{"$f":"COUNTIF(E38:AN39,\"○\")*3+COUNTIF(E38:AN39,\"△\")","v":7},{"$f":"IF(AS38=0,0,AT38/(AS38*3))","v":0.29166666666666669},{"$f":"SUM(F38,J38,N38,R38,V38,Z38,AD38,AH38,AL38,AP38)-SUM(H38,L38,P38,T38,X38,AB38,AF38,AJ38,AN38,AR38)","v":-18},4,{"$f":"RANK(AU38,$AU$26:$AU$43)","v":7},{"$f":"RANK(AU38,$AU$4:$AU$65)","v":21}]
[{"$f":"INDIRECT(\"U10組合せ!e\"&(ROW()-1)/2-7)","v":"ＦＣブロケード"}]
["B08",null,null,null,{"$f":"IF(OR(F40=\"\",H40=\"\"),\"\",IF(F40>H40,\"○\",IF(F40<H40,\"×\",IF(F40=H40,\"△\"))))","v":"○"},{"$f":"IF(AJ26=\"\",\"\",AJ26)","v":11},"－",{"$f":"IF(AH26=\"\",\"\",AH26)","v":0},{"$f":"IF(OR(J40=\"\",L40=\"\"),\"\",IF(J40>L40,\"○\",IF(J40<L40,\"×\",IF(J40=L40,\"△\"))))","v":"○"},{"$f":"IF(AJ28=\"\",\"\",AJ28)","v":6},"－",{"$f":"IF(AH28=\"\",\"\",AH28)","v":0},{"$f":"IF(OR(N40=\"\",P40=\"\"),\"\",IF(N40>P40,\"○\",IF(N40<P40,\"×\",IF(N40=P40,\"△\"))))","v":"○"},{"$f":"IF(AJ30=\"\",\"\",AJ30)","v":4},"－",{"$f":"IF(AH30=\"\",\"\",AH30)","v":0},{"$f":"IF(OR(R40=\"\",T40=\"\"),\"\",IF(R40>T40,\"○\",IF(R40<T40,\"×\",IF(R40=T40,\"△\"))))","v":"○"},{"$f":"IF(AJ32=\"\",\"\",AJ32)","v":6},"－",{"$f":"IF(AH32=\"\",\"\",AH32)","v":0},{"$f":"IF(OR(V40=\"\",X40=\"\"),\"\",IF(V40>X40,\"○\",IF(V40<X40,\"×\",IF(V40=X40,\"△\"))))","v":"○"},{"$f":"IF(AJ34=\"\",\"\",AJ34)","v":8},"－",{"$f":"IF(AH34=\"\",\"\",AH34)","v":0},{"$f":"IF(OR(Z40=\"\",AB40=\"\"),\"\",IF(Z40>AB40,\"○\",IF(Z40<AB40,\"×\",IF(Z40=AB40,\"△\"))))","v":"○"},{"$f":"IF(AJ36=\"\",\"\",AJ36)","v":8},"－",{"$f":"IF(AH36=\"\",\"\",AH36)","v":0},{"$f":"IF(OR(AD40=\"\",AF40=\"\"),\"\",IF(AD40>AF40,\"○\",IF(AD40<AF40,\"×\",IF(AD40=AF40,\"△\"))))","v":"○"},{"$f":"IF(AJ38=\"\",\"\",AJ38)","v":5},"－",{"$f":"IF(AH38=\"\",\"\",AH38)","v":0},null,null,null,null,{"$f":"IF(OR(AL40=\"\",AN40=\"\"),\"\",IF(AL40>AN40,\"○\",IF(AL40<AN40,\"×\",IF(AL40=AN40,\"△\"))))","v":"△"},1,"－",1,null,null,null,null,{"$f":"COUNTIF(E40:AN41,\"○\")+COUNTIF(E40:AN41,\"×\")+COUNTIF(E40:AN41,\"△\")","v":8},{"$f":"COUNTIF(E40:AN41,\"○\")*3+COUNTIF(E40:AN41,\"△\")","v":22},{"$f":"IF(AS40=0,0,AT40/(AS40*3))","v":0.91666666666666663},{"$f":"SUM(F40,J40,N40,R40,V40,Z40,AD40,AH40,AL40,AP40)-SUM(H40,L40,P40,T40,X40,AB40,AF40,AJ40,AN40,AR40)","v":48},49,{"$f":"RANK(AU40,$AU$26:$AU$43)","v":1},{"$f":"RANK(AU40,$AU$4:$AU$65)","v":2}]
[{"$f":"INDIRECT(\"U10組合せ!e\"&(ROW()-1)/2-7)","v":"栃木ＳＣジュニア"}]
["B09",null,null,null,{"$f":"IF(OR(F42=\"\",H42=\"\"),\"\",IF(F42>H42,\"○\",IF(F42<H42,\"×\",IF(F42=H42,\"△\"))))","v":"○"},{"$f":"IF(AN26=\"\",\"\",AN26)","v":6},"－",{"$f":"IF(AL26=\"\",\"\",AL26)","v":1},{"$f":"IF(OR(J42=\"\",L42=\"\"),\"\",IF(J42>L42,\"○\",IF(J42<L42,\"×\",IF(J42=L42,\"△\"))))","v":"○"},{"$f":"IF(AN28=\"\",\"\",AN28)","v":6},"－",{"$f":"IF(AL28=\"\",\"\",AL28)","v":0},{"$f":"IF(OR(N42=\"\",P42=\"\"),\"\",IF(N42>P42,\"○\",IF(N42<P42,\"×\",IF(N42=P42,\"△\"))))","v":"○"},{"$f":"IF(AN30=\"\",\"\",AN30)","v":1},"－",{"$f":"IF(AL30=\"\",\"\",AL30)","v":0},{"$f":"IF(OR(R42=\"\",T42=\"\"),\"\",IF(R42>T42,\"○\",IF(R42<T42,\"×\",IF(R42=T42,\"△\"))))","v":"○"},{"$f":"IF(AN32=\"\",\"\",AN32)","v":7},"－",{"$f":"IF(AL32=\"\",\"\",AL32)","v":2},{"$f":"IF(OR(V42=\"\",X42=\"\"),\"\",IF(V42>X42,\"○\",IF(V42<X42,\"×\",IF(V42=X42,\"△\"))))","v":"○"},{"$f":"IF(AN34=\"\",\"\",AN34)","v":5},"－",{"$f":"IF(AL34=\"\",\"\",AL34)","v":0},{"$f":"IF(OR(Z42=\"\",AB42=\"\"),\"\",IF(Z42>AB42,\"○\",IF(Z42<AB42,\"×\",IF(Z42=AB42,\"△\"))))","v":"○"},{"$f":"IF(AN36=\"\",\"\",AN36)","v":2},"－",{"$f":"IF(AL36=\"\",\"\",AL36)","v":1},{"$f":"IF(OR(AD42=\"\",AF42=\"\"),\"\",IF(AD42>AF42,\"○\",IF(AD42<AF42,\"×\",IF(AD42=AF42,\"△\"))))","v":"○"},{"$f":"IF(AN38=\"\",\"\",AN38)","v":6},"－",{"$f":"IF(AL38=\"\",\"\",AL38)","v":0},{"$f":"IF(OR(AH42=\"\",AJ42=\"\"),\"\",IF(AH42>AJ42,\"○\",IF(AH42<AJ42,\"×\",IF(AH42=AJ42,\"△\"))))","v":"△"},{"$f":"IF(AN40=\"\",\"\",AN40)","v":1},"－",{"$f":"IF(AL40=\"\",\"\",AL40)","v":1},null,null,null,null,null,null,null,null,{"$f":"COUNTIF(E42:AN43,\"○\")+COUNTIF(E42:AN43,\"×\")+COUNTIF(E42:AN43,\"△\")","v":8},{"$f":"COUNTIF(E42:AN43,\"○\")*3+COUNTIF(E42:AN43,\"△\")","v":22},{"$f":"IF(AS42=0,0,AT42/(AS42*3))","v":0.91666666666666663},{"$f":"SUM(F42,J42,N42,R42,V42,Z42,AD42,AH42,AL42,AP42)-SUM(H42,L42,P42,T42,X42,AB42,AF42,AJ42,AN42,AR42)","v":29},34,{"$f":"RANK(AU42,$AU$26:$AU$43)","v":1},{"$f":"RANK(AU42,$AU$4:$AU$65)","v":2}]
[{"$f":"INDIRECT(\"U10組合せ!e\"&(ROW()-1)/2-7)","v":"国本ＪＳＣ"}]
[]
[{"$f":"A1","v":"ＪＦＡ　U-10サッカーリーグ2018（in栃木） 宇河地域リーグ戦（後期）　星取表"}]
[]
["Ｃブロック",null,null,null,{"$f":"A49","v":"Ｓ４スペランツァ"},null,null,null,{"$f":"A51","v":"みはらＳＣ Ｊｒ"},null,null,null,{"$f":"A53","v":"ＦＣグラシアス"},null,null,null,{"$f":"A55","v":"サウス宇都宮ＳＣ"},null,null,null,{"$f":"A57","v":"ＦＣグランディール宇都宮"},null,null,null,{"$f":"A59","v":"昭和・戸祭ＳＣ"},null,null,null,{"$f":"A61","v":"カテット白沢ＳＳ"},null,null,null,{"$f":"A63","v":"宇都宮北部ＦＣトレ"},null,null,null,{"$f":"A65","v":"ともぞうＳＣ U10"},null,null,null,null,null,null,null,"試合数","勝ち点","勝ち点率","得失差","得点","ブロック\n順位","総合\n順位"]
["C01",null,null,null,null,null,null,null,{"$f":"IF(OR(J48=\"\",L48=\"\"),\"\",IF(J48>L48,\"○\",IF(J48<L48,\"×\",IF(J48=L48,\"△\"))))","v":"○"},4,"－",3,{"$f":"IF(OR(N48=\"\",P48=\"\"),\"\",IF(N48>P48,\"○\",IF(N48<P48,\"×\",IF(N48=P48,\"△\"))))","v":"○"},3,"－",0,{"$f":"IF(OR(R48=\"\",T48=\"\"),\"\",IF(R48>T48,\"○\",IF(R48<T48,\"×\",IF(R48=T48,\"△\"))))","v":"○"},5,"－",0,{"$f":"IF(OR(V48=\"\",X48=\"\"),\"\",IF(V48>X48,\"○\",IF(V48<X48,\"×\",IF(V48=X48,\"△\"))))","v":"×"},0,"－",3,{"$f":"IF(OR(Z48=\"\",AB48=\"\"),\"\",IF(Z48>AB48,\"○\",IF(Z48<AB48,\"×\",IF(Z48=AB48,\"△\"))))","v":"○"},2,"－",0,{"$f":"IF(OR(AD48=\"\",AF48=\"\"),\"\",IF(AD48>AF48,\"○\",IF(AD48<AF48,\"×\",IF(AD48=AF48,\"△\"))))","v":"△"},0,"－",0,{"$f":"IF(OR(AH48=\"\",AJ48=\"\"),\"\",IF(AH48>AJ48,\"○\",IF(AH48<AJ48,\"×\",IF(AH48=AJ48,\"△\"))))","v":"○"},15,"－",0,{"$f":"IF(OR(AL48=\"\",AN48=\"\"),\"\",IF(AL48>AN48,\"○\",IF(AL48<AN48,\"×\",IF(AL48=AN48,\"△\"))))","v":"×"},0,"－",1,null,null,null,null,{"$f":"COUNTIF(E48:AN49,\"○\")+COUNTIF(E48:AN49,\"×\")+COUNTIF(E48:AN49,\"△\")","v":8},{"$f":"COUNTIF(E48:AN49,\"○\")*3+COUNTIF(E48:AN49,\"△\")","v":16},{"$f":"IF(AS48=0,0,AT48/(AS48*3))","v":0.66666666666666663},{"$f":"SUM(F48,J48,N48,R48,V48,Z48,AD48,AH48,AL48,AP48)-SUM(H48,L48,P48,T48,X48,AB48,AF48,AJ48,AN48,AR48)","v":22},{"$f":"SUM(F48,J48,N48,R48,V48,Z48,AD48,AH48,AL48,AP48,)","v":29},{"$f":"RANK(AU48,$AU$48:$AU$65)","v":3},{"$f":"RANK(AU48,$AU$4:$AU$65)","v":7}]
[{"$f":"INDIRECT(\"U10組合せ!g\"&(ROW()-1)/2-18)","v":"Ｓ４スペランツァ"}]
["C02",null,null,null,{"$f":"IF(OR(F50=\"\",H50=\"\"),\"\",IF(F50>H50,\"○\",IF(F50<H50,\"×\",IF(F50=H50,\"△\"))))","v":"×"},{"$f":"IF(L48=\"\",\"\",L48)","v":3},"－",{"$f":"IF(J48=\"\",\"\",J48)","v":4},null,null,null,null,{"$f":"IF(OR(N50=\"\",P50=\"\"),\"\",IF(N50>P50,\"○\",IF(N50<P50,\"×\",IF(N50=P50,\"△\"))))","v":"○"},3,"－",1,{"$f":"IF(OR(R50=\"\",T50=\"\"),\"\",IF(R50>T50,\"○\",IF(R50<T50,\"×\",IF(R50=T50,\"△\"))))","v":"○"},5,"－",0,{"$f":"IF(OR(V50=\"\",X50=\"\"),\"\",IF(V50>X50,\"○\",IF(V50<X50,\"×\",IF(V50=X50,\"△\"))))","v":"×"},1,"－",3,{"$f":"IF(OR(Z50=\"\",AB50=\"\"),\"\",IF(Z50>AB50,\"○\",IF(Z50<AB50,\"×\",IF(Z50=AB50,\"△\"))))","v":"△"},2,"－",2,{"$f":"IF(OR(AD50=\"\",AF50=\"\"),\"\",IF(AD50>AF50,\"○\",IF(AD50<AF50,\"×\",IF(AD50=AF50,\"△\"))))","v":"○"},1,"－",0,{"$f":"IF(OR(AH50=\"\",AJ50=\"\"),\"\",IF(AH50>AJ50,\"○\",IF(AH50<AJ50,\"×\",IF(AH50=AJ50,\"△\"))))","v":"○"},12,"－",0,{"$f":"IF(OR(AL50=\"\",AN50=\"\"),\"\",IF(AL50>AN50,\"○\",IF(AL50<AN50,\"×\",IF(AL50=AN50,\"△\"))))","v":"×"},1,"－",2,null,null,null,null,{"$f":"COUNTIF(E50:AN51,\"○\")+COUNTIF(E50:AN51,\"×\")+COUNTIF(E50:AN51,\"△\")","v":8},{"$f":"COUNTIF(E50:AN51,\"○\")*3+COUNTIF(E50:AN51,\"△\")","v":13},{"$f":"IF(AS50=0,0,AT50/(AS50*3))","v":0.54166666666666663},{"$f":"SUM(F50,J50,N50,R50,V50,Z50,AD50,AH50,AL50,AP50)-SUM(H50,L50,P50,T50,X50,AB50,AF50,AJ50,AN50,AR50)","v":16},28,{"$f":"RANK(AU50,$AU$48:$AU$65)","v":5},{"$f":"RANK(AU50,$AU$4:$AU$65)","v":11}]
[{"$f":"INDIRECT(\"U10組合せ!g\"&(ROW()-1)/2-18)","v":"みはらＳＣ Ｊｒ"}]
["C03",null,null,null,{"$f":"IF(OR(F52=\"\",H52=\"\"),\"\",IF(F52>H52,\"○\",IF(F52<H52,\"×\",IF(F52=H52,\"△\"))))","v":"×"},{"$f":"IF(P48=\"\",\"\",P48)","v":0},"－",{"$f":"IF(N48=\"\",\"\",N48)","v":3},{"$f":"IF(OR(J52=\"\",L52=\"\"),\"\",IF(J52>L52,\"○\",IF(J52<L52,\"×\",IF(J52=L52,\"△\"))))","v":"×"},{"$f":"IF(P50=\"\",\"\",P50)","v":1},"－",{"$f":"IF(N50=\"\",\"\",N50)","v":3},null,null,null,null,{"$f":"IF(OR(R52=\"\",T52=\"\"),\"\",IF(R52>T52,\"○\",IF(R52<T52,\"×\",IF(R52=T52,\"△\"))))","v":"○"},4,"－",1,{"$f":"IF(OR(V52=\"\",X52=\"\"),\"\",IF(V52>X52,\"○\",IF(V52<X52,\"×\",IF(V52=X52,\"△\"))))","v":"×"},0,"－",3,{"$f":"IF(OR(Z52=\"\",AB52=\"\"),\"\",IF(Z52>AB52,\"○\",IF(Z52<AB52,\"×\",IF(Z52=AB52,\"△\"))))","v":"×"},0,"－",2,{"$f":"IF(OR(AD52=\"\",AF52=\"\"),\"\",IF(AD52>AF52,\"○\",IF(AD52<AF52,\"×\",IF(AD52=AF52,\"△\"))))","v":"×"},0,"－",1,{"$f":"IF(OR(AH52=\"\",AJ52=\"\"),\"\",IF(AH52>AJ52,\"○\",IF(AH52<AJ52,\"×\",IF(AH52=AJ52,\"△\"))))","v":"○"},6,"－",0,{"$f":"IF(OR(AL52=\"\",AN52=\"\"),\"\",IF(AL52>AN52,\"○\",IF(AL52<AN52,\"×\",IF(AL52=AN52,\"△\"))))","v":"×"},1,"－",7,null,null,null,null,{"$f":"COUNTIF(E52:AN53,\"○\")+COUNTIF(E52:AN53,\"×\")+COUNTIF(E52:AN53,\"△\")","v":8},{"$f":"COUNTIF(E52:AN53,\"○\")*3+COUNTIF(E52:AN53,\"△\")","v":6},{"$f":"IF(AS52=0,0,AT52/(AS52*3))","v":0.25},{"$f":"SUM(F52,J52,N52,R52,V52,Z52,AD52,AH52,AL52,AP52)-SUM(H52,L52,P52,T52,X52,AB52,AF52,AJ52,AN52,AR52)","v":-8},12,{"$f":"RANK(AU52,$AU$48:$AU$65)","v":7},{"$f":"RANK(AU52,$AU$4:$AU$65)","v":23}]
[{"$f":"INDIRECT(\"U10組合せ!g\"&(ROW()-1)/2-18)","v":"ＦＣグラシアス"}]
["C04",null,null,null,{"$f":"IF(OR(F54=\"\",H54=\"\"),\"\",IF(F54>H54,\"○\",IF(F54<H54,\"×\",IF(F54=H54,\"△\"))))","v":"×"},{"$f":"IF(T48=\"\",\"\",T48)","v":0},"－",{"$f":"IF(R48=\"\",\"\",R48)","v":5},{"$f":"IF(OR(J54=\"\",L54=\"\"),\"\",IF(J54>L54,\"○\",IF(J54<L54,\"×\",IF(J54=L54,\"△\"))))","v":"×"},{"$f":"IF(T50=\"\",\"\",T50)","v":0},"－",{"$f":"IF(R50=\"\",\"\",R50)","v":5},{"$f":"IF(OR(N54=\"\",P54=\"\"),\"\",IF(N54>P54,\"○\",IF(N54<P54,\"×\",IF(N54=P54,\"△\"))))","v":"×"},{"$f":"IF(T52=\"\",\"\",T52)","v":1},"－",{"$f":"IF(R52=\"\",\"\",R52)","v":4},null,null,null,null,{"$f":"IF(OR(V54=\"\",X54=\"\"),\"\",IF(V54>X54,\"○\",IF(V54<X54,\"×\",IF(V54=X54,\"△\"))))","v":"×"},0,"－",6,{"$f":"IF(OR(Z54=\"\",AB54=\"\"),\"\",IF(Z54>AB54,\"○\",IF(Z54<AB54,\"×\",IF(Z54=AB54,\"△\"))))","v":"×"},0,"－",6,{"$f":"IF(OR(AD54=\"\",AF54=\"\"),\"\",IF(AD54>AF54,\"○\",IF(AD54<AF54,\"×\",IF(AD54=AF54,\"△\"))))","v":"×"},0,"－",1,{"$f":"IF(OR(AH54=\"\",AJ54=\"\"),\"\",IF(AH54>AJ54,\"○\",IF(AH54<AJ54,\"×\",IF(AH54=AJ54,\"△\"))))","v":"○"},2,"－",1,{"$f":"IF(OR(AL54=\"\",AN54=\"\"),\"\",IF(AL54>AN54,\"○\",IF(AL54<AN54,\"×\",IF(AL54=AN54,\"△\"))))","v":"×"},0,"－",6,null,null,null,null,{"$f":"COUNTIF(E54:AN55,\"○\")+COUNTIF(E54:AN55,\"×\")+COUNTIF(E54:AN55,\"△\")","v":8},{"$f":"COUNTIF(E54:AN55,\"○\")*3+COUNTIF(E54:AN55,\"△\")","v":3},{"$f":"IF(AS54=0,0,AT54/(AS54*3))","v":0.125},{"$f":"SUM(F54,J54,N54,R54,V54,Z54,AD54,AH54,AL54,AP54)-SUM(H54,L54,P54,T54,X54,AB54,AF54,AJ54,AN54,AR54)","v":-31},3,{"$f":"RANK(AU54,$AU$48:$AU$65)","v":8},{"$f":"RANK(AU54,$AU$4:$AU$65)","v":26}]
[{"$f":"INDIRECT(\"U10組合せ!g\"&(ROW()-1)/2-18)","v":"サウス宇都宮ＳＣ"}]
["C05",null,null,null,{"$f":"IF(OR(F56=\"\",H56=\"\"),\"\",IF(F56>H56,\"○\",IF(F56<H56,\"×\",IF(F56=H56,\"△\"))))","v":"○"},{"$f":"IF(X48=\"\",\"\",X48)","v":3},"－",{"$f":"IF(V48=\"\",\"\",V48)","v":0},{"$f":"IF(OR(J56=\"\",L56=\"\"),\"\",IF(J56>L56,\"○\",IF(J56<L56,\"×\",IF(J56=L56,\"△\"))))","v":"○"},{"$f":"IF(X50=\"\",\"\",X50)","v":3},"－",{"$f":"IF(V50=\"\",\"\",V50)","v":1},{"$f":"IF(OR(N56=\"\",P56=\"\"),\"\",IF(N56>P56,\"○\",IF(N56<P56,\"×\",IF(N56=P56,\"△\"))))","v":"○"},{"$f":"IF(X52=\"\",\"\",X52)","v":3},"－",{"$f":"IF(V52=\"\",\"\",V52)","v":0},{"$f":"IF(OR(R56=\"\",T56=\"\"),\"\",IF(R56>T56,\"○\",IF(R56<T56,\"×\",IF(R56=T56,\"△\"))))","v":"○"},{"$f":"IF(X54=\"\",\"\",X54)","v":6},"－",{"$f":"IF(V54=\"\",\"\",V54)","v":0},null,null,null,null,{"$f":"IF(OR(Z56=\"\",AB56=\"\"),\"\",IF(Z56>AB56,\"○\",IF(Z56<AB56,\"×\",IF(Z56=AB56,\"△\"))))","v":"○"},3,"－",0,{"$f":"IF(OR(AD56=\"\",AF56=\"\"),\"\",IF(AD56>AF56,\"○\",IF(AD56<AF56,\"×\",IF(AD56=AF56,\"△\"))))","v":"○"},3,"－",1,{"$f":"IF(OR(AH56=\"\",AJ56=\"\"),\"\",IF(AH56>AJ56,\"○\",IF(AH56<AJ56,\"×\",IF(AH56=AJ56,\"△\"))))","v":"○"},17,"－",0,{"$f":"IF(OR(AL56=\"\",AN56=\"\"),\"\",IF(AL56>AN56,\"○\",IF(AL56<AN56,\"×\",IF(AL56=AN56,\"△\"))))","v":"△"},0,"－",0,null,null,null,null,{"$f":"COUNTIF(E56:AN57,\"○\")+COUNTIF(E56:AN57,\"×\")+COUNTIF(E56:AN57,\"△\")","v":8},{"$f":"COUNTIF(E56:AN57,\"○\")*3+COUNTIF(E56:AN57,\"△\")","v":22},{"$f":"IF(AS56=0,0,AT56/(AS56*3))","v":0.91666666666666663},{"$f":"SUM(F56,J56,N56,R56,V56,Z56,AD56,AH56,AL56,AP56)-SUM(H56,L56,P56,T56,X56,AB56,AF56,AJ56,AN56,AR56)","v":36},38,{"$f":"RANK(AU56,$AU$48:$AU$65)","v":1},{"$f":"RANK(AU56,$AU$4:$AU$65)","v":2}]
[{"$f":"INDIRECT(\"U10組合せ!g\"&(ROW()-1)/2-18)","v":"ＦＣグランディール宇都宮"}]
["C06",null,null,null,{"$f":"IF(OR(F58=\"\",H58=\"\"),\"\",IF(F58>H58,\"○\",IF(F58<H58,\"×\",IF(F58=H58,\"△\"))))","v":"×"},{"$f":"IF(AB48=\"\",\"\",AB48)","v":0},"－",{"$f":"IF(Z48=\"\",\"\",Z48)","v":2},{"$f":"IF(OR(J58=\"\",L58=\"\"),\"\",IF(J58>L58,\"○\",IF(J58<L58,\"×\",IF(J58=L58,\"△\"))))","v":"△"},{"$f":"IF(AB50=\"\",\"\",AB50)","v":2},"－",{"$f":"IF(Z50=\"\",\"\",Z50)","v":2},{"$f":"IF(OR(N58=\"\",P58=\"\"),\"\",IF(N58>P58,\"○\",IF(N58<P58,\"×\",IF(N58=P58,\"△\"))))","v":"○"},{"$f":"IF(AB52=\"\",\"\",AB52)","v":2},"－",{"$f":"IF(Z52=\"\",\"\",Z52)","v":0},{"$f":"IF(OR(R58=\"\",T58=\"\"),\"\",IF(R58>T58,\"○\",IF(R58<T58,\"×\",IF(R58=T58,\"△\"))))","v":"○"},{"$f":"IF(AB54=\"\",\"\",AB54)","v":6},"－",{"$f":"IF(Z54=\"\",\"\",Z54)","v":0},{"$f":"IF(OR(V58=\"\",X58=\"\"),\"\",IF(V58>X58,\"○\",IF(V58<X58,\"×\",IF(V58=X58,\"△\"))))","v":"×"},{"$f":"IF(AB56=\"\",\"\",AB56)","v":0},"－",{"$f":"IF(Z56=\"\",\"\",Z56)","v":3},null,null,null,null,{"$f":"IF(OR(AD58=\"\",AF58=\"\"),\"\",IF(AD58>AF58,\"○\",IF(AD58<AF58,\"×\",IF(AD58=AF58,\"△\"))))","v":"×"},0,"－",1,{"$f":"IF(OR(AH58=\"\",AJ58=\"\"),\"\",IF(AH58>AJ58,\"○\",IF(AH58<AJ58,\"×\",IF(AH58=AJ58,\"△\"))))","v":"○"},6,"－",0,{"$f":"IF(OR(AL58=\"\",AN58=\"\"),\"\",IF(AL58>AN58,\"○\",IF(AL58<AN58,\"×\",IF(AL58=AN58,\"△\"))))","v":"×"},0,"－",4,null,null,null,null,{"$f":"COUNTIF(E58:AN59,\"○\")+COUNTIF(E58:AN59,\"×\")+COUNTIF(E58:AN59,\"△\")","v":8},{"$f":"COUNTIF(E58:AN59,\"○\")*3+COUNTIF(E58:AN59,\"△\")","v":10},{"$f":"IF(AS58=0,0,AT58/(AS58*3))","v":0.41666666666666669},{"$f":"SUM(F58,J58,N58,R58,V58,Z58,AD58,AH58,AL58,AP58)-SUM(H58,L58,P58,T58,X58,AB58,AF58,AJ58,AN58,AR58)","v":4},16,{"$f":"RANK(AU58,$AU$48:$AU$65)","v":6},{"$f":"RANK(AU58,$AU$4:$AU$65)","v":17}]
[{"$f":"INDIRECT(\"U10組合せ!g\"&(ROW()-1)/2-18)","v":"昭和・戸祭ＳＣ"}]
["C07",null,null,null,{"$f":"IF(OR(F60=\"\",H60=\"\"),\"\",IF(F60>H60,\"○\",IF(F60<H60,\"×\",IF(F60=H60,\"△\"))))","v":"△"},{"$f":"IF(AF48=\"\",\"\",AF48)","v":0},"－",{"$f":"IF(AD48=\"\",\"\",AD48)","v":0},{"$f":"IF(OR(J60=\"\",L60=\"\"),\"\",IF(J60>L60,\"○\",IF(J60<L60,\"×\",IF(J60=L60,\"△\"))))","v":"×"},{"$f":"IF(AF50=\"\",\"\",AF50)","v":0},"－",{"$f":"IF(AD50=\"\",\"\",AD50)","v":1},{"$f":"IF(OR(N60=\"\",P60=\"\"),\"\",IF(N60>P60,\"○\",IF(N60<P60,\"×\",IF(N60=P60,\"△\"))))","v":"○"},{"$f":"IF(AF52=\"\",\"\",AF52)","v":1},"－",{"$f":"IF(AD52=\"\",\"\",AD52)","v":0},{"$f":"IF(OR(R60=\"\",T60=\"\"),\"\",IF(R60>T60,\"○\",IF(R60<T60,\"×\",IF(R60=T60,\"△\"))))","v":"○"},{"$f":"IF(AF54=\"\",\"\",AF54)","v":1},"－",{"$f":"IF(AD54=\"\",\"\",AD54)","v":0},{"$f":"IF(OR(V60=\"\",X60=\"\"),\"\",IF(V60>X60,\"○\",IF(V60<X60,\"×\",IF(V60=X60,\"△\"))))","v":"×"},{"$f":"IF(AF56=\"\",\"\",AF56)","v":1},"－",{"$f":"IF(AD56=\"\",\"\",AD56)","v":3},{"$f":"IF(OR(Z60=\"\",AB60=\"\"),\"\",IF(Z60>AB60,\"○\",IF(Z60<AB60,\"×\",IF(Z60=AB60,\"△\"))))","v":"○"},{"$f":"IF(AF58=\"\",\"\",AF58)","v":1},"－",{"$f":"IF(AD58=\"\",\"\",AD58)","v":0},null,null,null,null,{"$f":"IF(OR(AH60=\"\",AJ60=\"\"),\"\",IF(AH60>AJ60,\"○\",IF(AH60<AJ60,\"×\",IF(AH60=AJ60,\"△\"))))","v":"○"},4,"－",0,{"$f":"IF(OR(AL60=\"\",AN60=\"\"),\"\",IF(AL60>AN60,\"○\",IF(AL60<AN60,\"×\",IF(AL60=AN60,\"△\"))))","v":"△"},0,"－",0,null,null,null,null,{"$f":"COUNTIF(E60:AN61,\"○\")+COUNTIF(E60:AN61,\"×\")+COUNTIF(E60:AN61,\"△\")","v":8},{"$f":"COUNTIF(E60:AN61,\"○\")*3+COUNTIF(E60:AN61,\"△\")","v":14},{"$f":"IF(AS60=0,0,AT60/(AS60*3))","v":0.58333333333333337},{"$f":"SUM(F60,J60,N60,R60,V60,Z60,AD60,AH60,AL60,AP60)-SUM(H60,L60,P60,T60,X60,AB60,AF60,AJ60,AN60,AR60)","v":4},8,{"$f":"RANK(AU60,$AU$48:$AU$65)","v":4},{"$f":"RANK(AU60,$AU$4:$AU$65)","v":10}]
[{"$f":"INDIRECT(\"U10組合せ!g\"&(ROW()-1)/2-18)","v":"カテット白沢ＳＳ"}]
["C08",null,null,null,{"$f":"IF(OR(F62=\"\",H62=\"\"),\"\",IF(F62>H62,\"○\",IF(F62<H62,\"×\",IF(F62=H62,\"△\"))))","v":"×"},{"$f":"IF(AJ48=\"\",\"\",AJ48)","v":0},"－",{"$f":"IF(AH48=\"\",\"\",AH48)","v":15},{"$f":"IF(OR(J62=\"\",L62=\"\"),\"\",IF(J62>L62,\"○\",IF(J62<L62,\"×\",IF(J62=L62,\"△\"))))","v":"×"},{"$f":"IF(AJ50=\"\",\"\",AJ50)","v":0},"－",{"$f":"IF(AH50=\"\",\"\",AH50)","v":12},{"$f":"IF(OR(N62=\"\",P62=\"\"),\"\",IF(N62>P62,\"○\",IF(N62<P62,\"×\",IF(N62=P62,\"△\"))))","v":"×"},{"$f":"IF(AJ52=\"\",\"\",AJ52)","v":0},"－",{"$f":"IF(AH52=\"\",\"\",AH52)","v":6},{"$f":"IF(OR(R62=\"\",T62=\"\"),\"\",IF(R62>T62,\"○\",IF(R62<T62,\"×\",IF(R62=T62,\"△\"))))","v":"×"},{"$f":"IF(AJ54=\"\",\"\",AJ54)","v":1},"－",{"$f":"IF(AH54=\"\",\"\",AH54)","v":2},{"$f":"IF(OR(V62=\"\",X62=\"\"),\"\",IF(V62>X62,\"○\",IF(V62<X62,\"×\",IF(V62=X62,\"△\"))))","v":"×"},{"$f":"IF(AJ56=\"\",\"\",AJ56)","v":0},"－",{"$f":"IF(AH56=\"\",\"\",AH56)","v":17},{"$f":"IF(OR(Z62=\"\",AB62=\"\"),\"\",IF(Z62>AB62,\"○\",IF(Z62<AB62,\"×\",IF(Z62=AB62,\"△\"))))","v":"×"},{"$f":"IF(AJ58=\"\",\"\",AJ58)","v":0},"－",{"$f":"IF(AH58=\"\",\"\",AH58)","v":6},{"$f":"IF(OR(AD62=\"\",AF62=\"\"),\"\",IF(AD62>AF62,\"○\",IF(AD62<AF62,\"×\",IF(AD62=AF62,\"△\"))))","v":"×"},{"$f":"IF(AJ60=\"\",\"\",AJ60)","v":0},"－",{"$f":"IF(AH60=\"\",\"\",AH60)","v":4},null,null,null,null,{"$f":"IF(OR(AL62=\"\",AN62=\"\"),\"\",IF(AL62>AN62,\"○\",IF(AL62<AN62,\"×\",IF(AL62=AN62,\"△\"))))","v":"×"},0,"－",18,null,null,null,null,{"$f":"COUNTIF(E62:AN63,\"○\")+COUNTIF(E62:AN63,\"×\")+COUNTIF(E62:AN63,\"△\")","v":8},{"$f":"COUNTIF(E62:AN63,\"○\")*3+COUNTIF(E62:AN63,\"△\")","v":0},{"$f":"IF(AS62=0,0,AT62/(AS62*3))","v":0},{"$f":"SUM(F62,J62,N62,R62,V62,Z62,AD62,AH62,AL62,AP62)-SUM(H62,L62,P62,T62,X62,AB62,AF62,AJ62,AN62,AR62)","v":-79},1,{"$f":"RANK(AU62,$AU$48:$AU$65)","v":9},{"$f":"RANK(AU62,$AU$4:$AU$65)","v":27}]
[{"$f":"INDIRECT(\"U10組合せ!g\"&(ROW()-1)/2-18)","v":"宇都宮北部ＦＣトレ"}]
["C09",null,null,null,{"$f":"IF(OR(F64=\"\",H64=\"\"),\"\",IF(F64>H64,\"○\",IF(F64<H64,\"×\",IF(F64=H64,\"△\"))))","v":"○"},{"$f":"IF(AN48=\"\",\"\",AN48)","v":1},"－",{"$f":"IF(AL48=\"\",\"\",AL48)","v":0},{"$f":"IF(OR(J64=\"\",L64=\"\"),\"\",IF(J64>L64,\"○\",IF(J64<L64,\"×\",IF(J64=L64,\"△\"))))","v":"○"},{"$f":"IF(AN50=\"\",\"\",AN50)","v":2},"－",{"$f":"IF(AL50=\"\",\"\",AL50)","v":1},{"$f":"IF(OR(N64=\"\",P64=\"\"),\"\",IF(N64>P64,\"○\",IF(N64<P64,\"×\",IF(N64=P64,\"△\"))))","v":"○"},{"$f":"IF(AN52=\"\",\"\",AN52)","v":7},"－",{"$f":"IF(AL52=\"\",\"\",AL52)","v":1},{"$f":"IF(OR(R64=\"\",T64=\"\"),\"\",IF(R64>T64,\"○\",IF(R64<T64,\"×\",IF(R64=T64,\"△\"))))","v":"○"},{"$f":"IF(AN54=\"\",\"\",AN54)","v":6},"－",{"$f":"IF(AL54=\"\",\"\",AL54)","v":0},{"$f":"IF(OR(V64=\"\",X64=\"\"),\"\",IF(V64>X64,\"○\",IF(V64<X64,\"×\",IF(V64=X64,\"△\"))))","v":"△"},{"$f":"IF(AN56=\"\",\"\",AN56)","v":0},"－",{"$f":"IF(AL56=\"\",\"\",AL56)","v":0},{"$f":"IF(OR(Z64=\"\",AB64=\"\"),\"\",IF(Z64>AB64,\"○\",IF(Z64<AB64,\"×\",IF(Z64=AB64,\"△\"))))","v":"○"},{"$f":"IF(AN58=\"\",\"\",AN58)","v":4},"－",{"$f":"IF(AL58=\"\",\"\",AL58)","v":0},{"$f":"IF(OR(AD64=\"\",AF64=\"\"),\"\",IF(AD64>AF64,\"○\",IF(AD64<AF64,\"×\",IF(AD64=AF64,\"△\"))))","v":"△"},{"$f":"IF(AN60=\"\",\"\",AN60)","v":0},"－",{"$f":"IF(AL60=\"\",\"\",AL60)","v":0},{"$f":"IF(OR(AH64=\"\",AJ64=\"\"),\"\",IF(AH64>AJ64,\"○\",IF(AH64<AJ64,\"×\",IF(AH64=AJ64,\"△\"))))","v":"○"},{"$f":"IF(AN62=\"\",\"\",AN62)","v":18},"－",{"$f":"IF(AL62=\"\",\"\",AL62)","v":0},null,null,null,null,null,null,null,null,{"$f":"COUNTIF(E64:AN65,\"○\")+COUNTIF(E64:AN65,\"×\")+COUNTIF(E64:AN65,\"△\")","v":8},{"$f":"COUNTIF(E64:AN65,\"○\")*3+COUNTIF(E64:AN65,\"△\")","v":20},{"$f":"IF(AS64=0,0,AT64/(AS64*3))","v":0.83333333333333337},{"$f":"SUM(F64,J64,N64,R64,V64,Z64,AD64,AH64,AL64,AP64)-SUM(H64,L64,P64,T64,X64,AB64,AF64,AJ64,AN64,AR64)","v":36},38,{"$f":"RANK(AU64,$AU$48:$AU$65)","v":2},{"$f":"RANK(AU64,$AU$4:$AU$65)","v":5}]
[{"$f":"INDIRECT(\"U10組合せ!g\"&(ROW()-1)/2-18)","v":"ともぞうＳＣ U10"}]

{"sheet":"U１０順位 ","index":8,"n_rows":32,"n_cols":7,"rows_kept":32,"cut":false,"hidden":false,"merged":[[0,0,0,7],[1,0,1,7],[2,0,2,6],[3,1,3,2]]}
["ＪＦＡ　U-10サッカーリーグ2018（in栃木） 宇河地域リーグ戦（後期）"]
["順位表　（９／２３　全節終了時）"]
["勝ち点率＝勝ち点÷（試合数×３）"]
[null,"チーム",null,"勝ち点","試合数","勝ち点率","順位"]
[1,"Ａ02","ＦＣアネーロ宇都宮 U10",{"$f":"VLOOKUP($B5,■!$A$2:$D$29,4,FALSE)","v":27},{"$f":"VLOOKUP($B5,■!$A$2:$D$29,3,FALSE)","v":9},{"$f":"IF(E5=0,0,D5/(E5*3))","v":1},{"$f":"RANK(F5,$F$5:$F$32,0)&\"位\"","v":"1位"}]
[2,"Ｂ08","栃木ＳＣジュニア",{"$f":"VLOOKUP($B6,■!$A$2:$D$29,4,FALSE)","v":22},{"$f":"VLOOKUP($B6,■!$A$2:$D$29,3,FALSE)","v":8},{"$f":"IF(E6=0,0,D6/(E6*3))","v":0.91666666666666663},{"$f":"RANK(F6,$F$5:$F$32,0)&\"位\"","v":"2位"}]
[3,"Ｂ09","国本ＪＳＣ",{"$f":"VLOOKUP($B7,■!$A$2:$D$29,4,FALSE)","v":22},{"$f":"VLOOKUP($B7,■!$A$2:$D$29,3,FALSE)","v":8},{"$f":"IF(E7=0,0,D7/(E7*3))","v":0.91666666666666663},{"$f":"RANK(F7,$F$5:$F$32,0)&\"位\"","v":"2位"}]
[4,"Ｃ05","ＦＣグランディール宇都宮",{"$f":"VLOOKUP($B8,■!$A$2:$D$29,4,FALSE)","v":22},{"$f":"VLOOKUP($B8,■!$A$2:$D$29,3,FALSE)","v":8},{"$f":"IF(E8=0,0,D8/(E8*3))","v":0.91666666666666663},{"$f":"RANK(F8,$F$5:$F$32,0)&\"位\"","v":"2位"}]
[5,"Ｃ09","ともぞうＳＣ U10",{"$f":"VLOOKUP($B9,■!$A$2:$D$29,4,FALSE)","v":20},{"$f":"VLOOKUP($B9,■!$A$2:$D$29,3,FALSE)","v":8},{"$f":"IF(E9=0,0,D9/(E9*3))","v":0.83333333333333337},{"$f":"RANK(F9,$F$5:$F$32,0)&\"位\"","v":"5位"}]
[6,"Ａ08","緑が丘ＹＦＣ",{"$f":"VLOOKUP($B10,■!$A$2:$D$29,4,FALSE)","v":19},{"$f":"VLOOKUP($B10,■!$A$2:$D$29,3,FALSE)","v":9},{"$f":"IF(E10=0,0,D10/(E10*3))","v":0.70370370370370372},{"$f":"RANK(F10,$F$5:$F$32,0)&\"位\"","v":"6位"}]
[7,"Ｂ06","ｕｎｉｏｎ ｓｃ",{"$f":"VLOOKUP($B11,■!$A$2:$D$29,4,FALSE)","v":16},{"$f":"VLOOKUP($B11,■!$A$2:$D$29,3,FALSE)","v":8},{"$f":"IF(E11=0,0,D11/(E11*3))","v":0.66666666666666663},{"$f":"RANK(F11,$F$5:$F$32,0)&\"位\"","v":"7位"}]
[8,"Ｃ01","Ｓ４スペランツァ",{"$f":"VLOOKUP($B12,■!$A$2:$D$29,4,FALSE)","v":16},{"$f":"VLOOKUP($B12,■!$A$2:$D$29,3,FALSE)","v":8},{"$f":"IF(E12=0,0,D12/(E12*3))","v":0.66666666666666663},{"$f":"RANK(F12,$F$5:$F$32,0)&\"位\"","v":"7位"}]
[9,"Ａ04","雀宮ＦＣ",{"$f":"VLOOKUP($B13,■!$A$2:$D$29,4,FALSE)","v":16},{"$f":"VLOOKUP($B13,■!$A$2:$D$29,3,FALSE)","v":9},{"$f":"IF(E13=0,0,D13/(E13*3))","v":0.59259259259259256},{"$f":"RANK(F13,$F$5:$F$32,0)&\"位\"","v":"9位"}]
[10,"Ｃ07","カテット白沢ＳＳ",{"$f":"VLOOKUP($B14,■!$A$2:$D$29,4,FALSE)","v":14},{"$f":"VLOOKUP($B14,■!$A$2:$D$29,3,FALSE)","v":8},{"$f":"IF(E14=0,0,D14/(E14*3))","v":0.58333333333333337},{"$f":"RANK(F14,$F$5:$F$32,0)&\"位\"","v":"10位"}]
[11,"Ｃ02","みはらＳＣ Ｊｒ",{"$f":"VLOOKUP($B15,■!$A$2:$D$29,4,FALSE)","v":13},{"$f":"VLOOKUP($B15,■!$A$2:$D$29,3,FALSE)","v":8},{"$f":"IF(E15=0,0,D15/(E15*3))","v":0.54166666666666663},{"$f":"RANK(F15,$F$5:$F$32,0)&\"位\"","v":"11位"}]
[12,"Ｂ03","豊郷ＪＦＣ宇都宮",{"$f":"VLOOKUP($B16,■!$A$2:$D$29,4,FALSE)","v":12},{"$f":"VLOOKUP($B16,■!$A$2:$D$29,3,FALSE)","v":8},{"$f":"IF(E16=0,0,D16/(E16*3))","v":0.5},{"$f":"RANK(F16,$F$5:$F$32,0)&\"位\"","v":"12位"}]
[13,"Ａ06","上河内ＪＳＣ",{"$f":"VLOOKUP($B17,■!$A$2:$D$29,4,FALSE)","v":13},{"$f":"VLOOKUP($B17,■!$A$2:$D$29,3,FALSE)","v":9},{"$f":"IF(E17=0,0,D17/(E17*3))","v":0.48148148148148145},{"$f":"RANK(F17,$F$5:$F$32,0)&\"位\"","v":"13位"}]
[14,"Ａ07","清原ＳＳＳ",{"$f":"VLOOKUP($B18,■!$A$2:$D$29,4,FALSE)","v":13},{"$f":"VLOOKUP($B18,■!$A$2:$D$29,3,FALSE)","v":9},{"$f":"IF(E18=0,0,D18/(E18*3))","v":0.48148148148148145},{"$f":"RANK(F18,$F$5:$F$32,0)&\"位\"","v":"13位"}]
[15,"Ｂ02","姿川第一ＦＣ",{"$f":"VLOOKUP($B19,■!$A$2:$D$29,4,FALSE)","v":11},{"$f":"VLOOKUP($B19,■!$A$2:$D$29,3,FALSE)","v":8},{"$f":"IF(E19=0,0,D19/(E19*3))","v":0.45833333333333331},{"$f":"RANK(F19,$F$5:$F$32,0)&\"位\"","v":"15位"}]
[16,"Ａ01","ＳＵＧＡＯ ＳＣ",{"$f":"VLOOKUP($B20,■!$A$2:$D$29,4,FALSE)","v":12},{"$f":"VLOOKUP($B20,■!$A$2:$D$29,3,FALSE)","v":9},{"$f":"IF(E20=0,0,D20/(E20*3))","v":0.44444444444444442},{"$f":"RANK(F20,$F$5:$F$32,0)&\"位\"","v":"16位"}]
[17,"Ｃ06","昭和・戸祭ＳＣ",{"$f":"VLOOKUP($B21,■!$A$2:$D$29,4,FALSE)","v":10},{"$f":"VLOOKUP($B21,■!$A$2:$D$29,3,FALSE)","v":8},{"$f":"IF(E21=0,0,D21/(E21*3))","v":0.41666666666666669},{"$f":"RANK(F21,$F$5:$F$32,0)&\"位\"","v":"17位"}]
[18,"Ａ09","ＦＣペンサーレ",{"$f":"VLOOKUP($B22,■!$A$2:$D$29,4,FALSE)","v":10},{"$f":"VLOOKUP($B22,■!$A$2:$D$29,3,FALSE)","v":9},{"$f":"IF(E22=0,0,D22/(E22*3))","v":0.37037037037037035},{"$f":"RANK(F22,$F$5:$F$32,0)&\"位\"","v":"18位"}]
[19,"Ｂ04","石井ＦＣ",{"$f":"VLOOKUP($B23,■!$A$2:$D$29,4,FALSE)","v":8},{"$f":"VLOOKUP($B23,■!$A$2:$D$29,3,FALSE)","v":8},{"$f":"IF(E23=0,0,D23/(E23*3))","v":0.33333333333333331},{"$f":"RANK(F23,$F$5:$F$32,0)&\"位\"","v":"19位"}]
[20,"Ａ10","富士見ＳＳＳ",{"$f":"VLOOKUP($B24,■!$A$2:$D$29,4,FALSE)","v":8},{"$f":"VLOOKUP($B24,■!$A$2:$D$29,3,FALSE)","v":9},{"$f":"IF(E24=0,0,D24/(E24*3))","v":0.29629629629629628},{"$f":"RANK(F24,$F$5:$F$32,0)&\"位\"","v":"20位"}]
[21,"Ｂ07","ＦＣブロケード",{"$f":"VLOOKUP($B25,■!$A$2:$D$29,4,FALSE)","v":7},{"$f":"VLOOKUP($B25,■!$A$2:$D$29,3,FALSE)","v":8},{"$f":"IF(E25=0,0,D25/(E25*3))","v":0.29166666666666669},{"$f":"RANK(F25,$F$5:$F$32,0)&\"位\"","v":"21位"}]
[22,"Ａ03","ＦＣアリーバ",{"$f":"VLOOKUP($B26,■!$A$2:$D$29,4,FALSE)","v":7},{"$f":"VLOOKUP($B26,■!$A$2:$D$29,3,FALSE)","v":9},{"$f":"IF(E26=0,0,D26/(E26*3))","v":0.25925925925925924},{"$f":"RANK(F26,$F$5:$F$32,0)&\"位\"","v":"22位"}]
[23,"Ｂ01","陽東ＳＳＳ",{"$f":"VLOOKUP($B27,■!$A$2:$D$29,4,FALSE)","v":6},{"$f":"VLOOKUP($B27,■!$A$2:$D$29,3,FALSE)","v":8},{"$f":"IF(E27=0,0,D27/(E27*3))","v":0.25},{"$f":"RANK(F27,$F$5:$F$32,0)&\"位\"","v":"23位"}]
[24,"Ｃ03","ＦＣグラシアス",{"$f":"VLOOKUP($B28,■!$A$2:$D$29,4,FALSE)","v":6},{"$f":"VLOOKUP($B28,■!$A$2:$D$29,3,FALSE)","v":8},{"$f":"IF(E28=0,0,D28/(E28*3))","v":0.25},{"$f":"RANK(F28,$F$5:$F$32,0)&\"位\"","v":"23位"}]
[25,"Ａ05","ブラッドレスＳＳ",{"$f":"VLOOKUP($B29,■!$A$2:$D$29,4,FALSE)","v":5},{"$f":"VLOOKUP($B29,■!$A$2:$D$29,3,FALSE)","v":9},{"$f":"IF(E29=0,0,D29/(E29*3))","v":0.18518518518518517},{"$f":"RANK(F29,$F$5:$F$32,0)&\"位\"","v":"25位"}]
[26,"Ｃ04","サウス宇都宮ＳＣ",{"$f":"VLOOKUP($B30,■!$A$2:$D$29,4,FALSE)","v":3},{"$f":"VLOOKUP($B30,■!$A$2:$D$29,3,FALSE)","v":8},{"$f":"IF(E30=0,0,D30/(E30*3))","v":0.125},{"$f":"RANK(F30,$F$5:$F$32,0)&\"位\"","v":"26位"}]
[27,"Ｂ05","シャルムグランツＳＣ",{"$f":"VLOOKUP($B31,■!$A$2:$D$29,4,FALSE)","v":0},{"$f":"VLOOKUP($B31,■!$A$2:$D$29,3,FALSE)","v":8},{"$f":"IF(E31=0,0,D31/(E31*3))","v":0},{"$f":"RANK(F31,$F$5:$F$32,0)&\"位\"","v":"27位"}]
[28,"Ｃ08","宇都宮北部ＦＣトレ",{"$f":"VLOOKUP($B32,■!$A$2:$D$29,4,FALSE)","v":0},{"$f":"VLOOKUP($B32,■!$A$2:$D$29,3,FALSE)","v":8},{"$f":"IF(E32=0,0,D32/(E32*3))","v":0},{"$f":"RANK(F32,$F$5:$F$32,0)&\"位\"","v":"27位"}]