{"text_format":"1","workbook":"xlsx","n_sheets":10,"sheets":["U12組合せ","U12対戦スケジュール","●","Ａブロック対戦表","Ｂブロック対戦表","Ｃブロック対戦表","Ｄブロック対戦表","■","Ａ～Dブロック星取表","U１2順位 "],"not_rendered":{"charts":0,"images":0,"macros":1,"external_links":0,"defined_names":8,"comments":0,"pivot_tables":0},"unopened":[],"bounds":{"document_bytes":16777216,"sheet_cells":100000,"rows_first":2000,"rows_last":500,"rows_between":2000,"halvings":0,"cell_chars":16384,"cell_head_chars":4096},"cells_cut":0,"cells_raw":0,"read":"whole","date_system":"1900"}

{"sheet":"U12組合せ","index":0,"n_rows":49,"n_cols":12,"rows_kept":49,"cut":false,"hidden":false,"merged":[[47,1,49,2],[47,3,49,5],[47,6,49,9],[47,10,47,11],[48,10,49,11],[41,1,43,2],[41,3,43,5],[41,6,43,9],[41,10,41,11],[42,10,43,11],[44,1,46,2],[44,3,46,5],[44,6,46,9],[44,10,44,11],[45,10,46,11],[35,11,36,11],[36,6,36,8],[37,1,37,11],[38,1,40,2],[38,3,40,5],[38,6,40,9],[38,10,38,11],[39,10,40,11],[31,9,34,9],[35,1,36,1],[35,2,36,2],[35,3,36,3],[35,5,36,5],[35,6,35,8],[35,9,36,10],[31,1,34,1],[31,2,34,2],[31,3,34,3],[31,5,34,5],[31,7,34,7],[31,8,34,8],[27,1,30,1],[27,2,30,2],[27,3,30,3],[27,5,30,5],[27,7,30,7],[27,9,30,9],[19,9,22,9],[23,1,26,1],[23,2,26,2],[23,3,26,3],[23,5,26,5],[23,6,26,6],[23,7,26,7],[23,9,26,9],[18,1,18,2],[18,3,18,4],[18,5,18,6],[18,7,18,8],[18,9,18,10],[19,1,22,1],[19,2,22,2],[19,3,22,3],[19,5,22,5],[19,7,22,7],[16,1,16,2],[16,3,16,4],[16,5,16,6],[16,7,16,8],[16,9,16,10],[17,1,17,2],[17,3,17,4],[17,5,17,6],[17,7,17,8],[17,9,17,10],[14,1,14,2],[14,3,14,4],[14,5,14,6],[14,7,14,8],[14,9,14,10],[15,1,15,2],[15,3,15,4],[15,5,15,6],[15,7,15,8],[15,9,15,10],[12,1,12,2],[12,3,12,4],[12,5,12,6],[12,7,12,8],[12,9,12,10],[13,1,13,2],[13,3,13,4],[13,5,13,6],[13,7,13,8],[13,9,13,10],[10,1,10,2],[10,3,10,4],[10,5,10,6],[10,7,10,8],[10,9,10,10],[11,1,11,2],[11,3,11,4],[11,5,11,6],[11,7,11,8],[11,9,11,10],[9,1,9,2],[9,3,9,4],[9,5,9,6],[9,7,9,8],[9,9,9,10],[3,7,3,8],[3,9,3,10],[4,3,4,10],[5,3,5,10],[6,3,6,10],[7,3,7,10],[0,1,0,11],[1,1,1,11],[2,1,8,2],[2,3,2,4],[2,5,2,6],[2,7,2,8],[2,9,2,10],[2,11,3,11],[3,3,3,4],[3,5,3,6],[8,3,8,10]]}
[null,"ＪＦＡ　Ｕ-１２サッカーリーグ2018（in栃木） 宇河地域リーグ戦（後期）"]
[null,"ブロック別　組合せ・日程 ・ 会場一覧"]
[null,null,null,"Ａ ブロック",null,"Ｂ ブロック",null,"Ｃ ブロック",null,"Ｄ ブロック",null,"備　考"]
[null,null,null,"（10チーム）",null,"（９チーム）",null,"（９チーム）",null,"（９チーム）"]
[null,null,null,null,null,null,null,null,null,null,null,"ﾌﾞﾛｯｸ責任者チーム"]
[null,null,null,null,null,null,null,null,null,null,null,"会場チーム"]
[null,null,null,null,null,null,null,null,null,null,null,"シード１"]
[null,null,null,null,null,null,null,null,null,null,null,"シード２"]
[null,null,null,null,null,null,null,null,null,null,null,"複数ｴﾝﾄﾘｰ\nチーム"]
[null,1,null,"石井ＦＣ",null,"姿川第一ＦＣ",null,"清原ＳＳＳ",null,"上河内ＪＳＣ"]
[null,"2",null,"細谷ＳＣ",null,"宝木キッカーズ",null,"ＦＣみらい Ｐ",null,"上三川ＳＣ"]
[null,"3",null,"ＦＣみらい Ｖ",null,"ｕｎｉｏｎ ｓｃ",null,"雀宮ＦＣ",null,"緑が丘ＹＦＣ"]
[null,"4",null,"岡西ＦＣ",null,"河内ＳＣジュベニール",null,"ＳＵＧＡＯ ＳＣ",null,"泉ＦＣ宇都宮"]
[null,"5",null,"ＦＣグランディール宇都宮",null,"昭和・戸祭ＳＣ",null,"Ｓ４スペランツァ",null,"国本ＪＳＣ"]
[null,"6",null,"ＦＣグラシアス",null,"サウス宇都宮ＳＣ",null,"宇都宮北部ＦＣトレ",null,"本郷北ＦＣ"]
[null,"7",null,"岡本ＦＣ",null,"ＦＣ Ｒｉｓｏ",null,"上三川ＦＣ",null,"ＦＣペンサーレ"]
[null,"8",null,"シャルムグランツＳＣ",null,"富士見ＳＳＳ",null,"クラブチェルビアット",null,"ブラッドレスＳＳ"]
[null,"9",null,"カテット白沢ＳＳ",null,"豊郷ＪＦＣ宇都宮",null,"ＦＣブロケード",null,"ともぞうＳＣ・Ｂ"]
[null,"10",null,"ＦＣアリーバ"]
[null,"2018-09-02","日","１節","白沢Ａ","１節","石井５","１節","清原南小","１節","本郷北小"]
[null,null,null,null,"A",null,"B123＋B456",null,"C123＋C456",null,"D123＋D456"]
[null,null,null,null,"白沢Ｂ",null,"白沢Ｂ",null,"石井６",null,"石井６"]
[null,null,null,null,"A＋B789",null,"A＋B789",null,"C789＋D789",null,"C789＋D789"]
[null,"2018-09-08","土","２節","石井１","２節","石井３\nB147＋B369","２節","石井４","２節","石井６"]
[null,null,null,null,"A",null,null,null,"C147＋C369",null,"D147＋D369"]
[null,null,null,null,"石井２",null,null,null,"石井５",null,"石井５"]
[null,null,null,null,"A",null,null,null,"C258＋D258",null,"C258＋D258"]
[null,"2018-09-09","日","３節","白沢Ａ","３節","新田小","３節","石井５","３節","石井６"]
[null,null,null,null,"A",null,"B159＋B267",null,"C159＋C267",null,"D159＋D267"]
[null,null,null,null,"白沢Ｂ",null,"白沢Ｂ",null,"陽南小",null,"陽南小"]
[null,null,null,null,"A＋B348",null,"A＋B348",null,"C348＋D348",null,"C348＋D348"]
[null,"2018-09-16","日","４節","白沢Ａ","４節","姿川第一小","４節","横川東小\nC249＋C357","４節","石井５"]
[null,null,null,null,"A",null,"B168＋B249",null,null,null,"D"]
[null,null,null,null,"白沢Ｂ",null,"白沢Ｂ",null,null,null,"石井６"]
[null,null,null,null,"A＋B357",null,"A＋B357",null,null,null,"D"]
[null,"2018-09-17","祝：月","５節","平出Ａ","未\n消化","平出Ｂ"]
[null,null,null,null,"A",null,"B258＋C168またはA＋B258＋C168"]
[]
[null,"Ａ　ブロック\n運営責任者",null,"長谷川　洋\n（中部地区副代表）\n岡西ＦＣ",null,null," 〒３２９－１１０５\n 宇都宮市中岡本町3713－239\n　ham-hase@pa2.so-net.ne.jp",null,null,null,"連絡先"]
[null,null,null,null,null,null,null,null,null,null,"０９０-８８４６-９３１２"]
[]
[null,"Ｂ　ブロック\n運営責任者",null,"渡部　広信\n（西部地区副代表）\n姿一ＦＣ",null,null," 〒３２１－０１５８\n 宇都宮市西川田本町４－１０－６\n　sugaichifc@gmail.com",null,null,null,"連絡先"]
[null,null,null,null,null,null,null,null,null,null,"０９０-３３１３-７０４７"]
[]
[null,"Ｃ　ブロック\n運営責任者",null,"氷室　康一\n（東部地区代表）\n清原ＳＳＳ",null,null," 〒３２１－３２３２\n 宇都宮市氷室町１７８８－２\n　k.himuro.128@xrj.biglobe.ne.jp",null,null,null,"連絡先"]
[null,null,null,null,null,null,null,null,null,null,"０９０-１４５７-２０６５"]
[]
[null,"Ｄ　ブロック\n運営責任者",null,"鈴木　義則\n（上三川地区代表）\n本郷北ＦＣ",null,null," 〒329－0607\n 河内郡上三川町西汗 1746-67\n　spw66ny9@arrow.ocn.ne.jp",null,null,null,"連絡先"]
[null,null,null,null,null,null,null,null,null,null,"０９０-２４７９-３７５９"]

{"sheet":"U12対戦スケジュール","index":1,"n_rows":102,"n_cols":7,"rows_kept":102,"cut":false,"hidden":false,"merged":[[94,1,94,2],[94,3,94,4],[94,5,94,6],[91,0,91,6],[92,1,92,2],[92,3,92,4],[93,1,93,2],[93,3,93,4],[93,5,93,6],[79,10,79,11],[81,1,81,2],[81,3,81,6],[83,1,83,2],[83,3,83,4],[83,5,83,6],[82,1,82,2],[82,3,82,4],[82,5,82,6],[79,3,79,4],[79,5,79,6],[71,1,71,2],[71,3,71,4],[71,5,71,6],[72,1,72,2],[72,3,72,4],[72,5,72,6],[60,1,60,2],[60,3,60,4],[60,5,60,6],[68,0,68,6],[70,1,70,2],[70,3,70,4],[70,5,70,6],[69,0,69,6],[59,1,59,2],[59,3,59,4],[59,5,59,6],[48,1,48,2],[48,3,48,4],[48,5,48,6],[49,1,49,2],[49,3,49,4],[49,5,49,6],[56,3,56,4],[56,5,56,6],[58,1,58,2],[58,3,58,4],[58,5,58,6],[38,1,38,2],[38,3,38,4],[38,5,38,6],[46,0,46,6],[47,1,47,2],[47,3,47,4],[47,5,47,6],[36,1,36,2],[36,3,36,4],[36,5,36,6],[37,1,37,2],[37,3,37,4],[37,5,37,6],[27,1,27,2],[27,3,27,4],[27,5,27,6],[28,1,28,2],[28,3,28,4],[28,5,28,6],[17,1,17,2],[17,3,17,4],[17,5,17,6],[25,0,25,6],[26,1,26,4],[26,5,26,6],[16,1,16,2],[16,3,16,4],[16,5,16,6],[5,1,5,2],[5,3,5,4],[5,5,5,6],[6,1,6,2],[6,3,6,4],[6,5,6,6],[13,3,13,4],[13,5,13,6],[15,1,15,2],[15,3,15,4],[15,5,15,6],[0,0,0,6],[1,0,1,6],[3,0,3,6],[4,1,4,2],[4,3,4,4],[4,5,4,6]]}
["ＪＦＡ　U-12サッカーリーグ2018（in栃木） 宇河地域リーグ戦（後期）"]
["対戦スケジュール"]
[]
["【　第１節　】　９／２（日）"]
["ブロック","Ａ",null,"Ａ ＋ Ｂ（７８９）",null,"Ｂ(１２３) ＋ Ｂ(４５６)"]
["会　場","白沢Ａ",null,"白沢Ｂ",null,"石井５"]
["会場担当","岡西ＦＣ",null,"カテット白沢ＳＳ",null,"姿川第一ＦＣ"]
["① 9:00","1-2","5/6/6/5","A3-A4","B7/B8/B8/B7","1-2","4/5/5/4"]
["② 9:50","5-6","1/2/2/1","B7-B8","A3/A4/A3/A3","4-5","1/2/2/1"]
["③10:40","7-8","2/3/3/2","A9-A10","B9/B7/B7/B9","3-1","6/4/4/6"]
["④11:30","2-3","7/8/8/7","B9-B7","A9/A10/A10/A9","6-4","3/1/1/3"]
["⑤12:20","10-1","4/5/5/4","A6-A7","B8/B9/B9/B8","2-3","5/6/6/5"]
["⑥13:10","4-5","8/9/9/8","B8-B9","A6/A7/A7/A6","5-6","2/3/3/2"]
["⑦14:00","8-9","10/1/1/10"]
[]
["ブロック","Ｃ(１２３) ＋ Ｃ(４５６)",null,"Ｃ(７８９) ＋ Ｄ(７８９)",null,"Ｄ(１２３) ＋ Ｄ(４５６)"]
["会　場","清原南小",null,"石井６",null,"本郷北小"]
["会場担当","清原ＳＳＳ",null,"ＦＣブロケード",null,"本郷北ＦＣ"]
["① 9:00","1-2","4/5/5/4","C7-C8","D7/D8/D8/D7","1-2","4/5/5/4"]
["② 9:50","4-5","1/2/2/1","D7-D8","C7/C8/C8/C7","4-5","1/2/2/1"]
["③10:40","3-1","6/4/4/6","C9-C7","D9/D7/D7/D9","3-1","6/4/4/6"]
["④11:30","6-4","3/1/1/3","D9-D7","C9/C7/C7/C9","6-4","3/1/1/3"]
["⑤12:20","2-3","5/6/6/5","C8-C9","D8/D9/D9/D8","2-3","5/6/6/5"]
["⑥13:10","5-6","2/3/3/2","D8-D9","C8/C9/C9/C8","5-6","2/3/3/2"]
[]
["【　第２節　】　９／８（土）　富士見ＳＳＳ(B8)は不参加"]
["ブロック","Ａ",null,null,null,"Ｂ(１４７) ＋ Ｂ(３６９)"]
["会　場","石井１",null,"石井２",null,"石井３"]
["会場担当","ＦＣアリーバ",null,"石井ＦＣ",null,"豊郷ＪＦＣ宇都宮"]
["① 9:00","2-4","8/10/10/8","5-7","1/3/3/1","9-3","7/1/1/7"]
["② 9:50","8-10","4/6/6/4","1-3","7/9/9/7","7-1","9/3/3/9"]
["③10:40","4-6","10/2/2/10","7-9","3/5/5/3","6-9","4/7/7/4"]
["④11:30","10-2","6/8/8/6","3-5","9/1/1/9","4-7","6/9/9/6"]
["⑤12:20","6-8","2/4/4/2","9-1","5/7/7/5","3-6","1/4/4/1"]
["⑥13:10",null,null,null,null,"1-4","3/6/6/3"]
[]
["ブロック","Ｃ(１４７) ＋ Ｃ(３６９)",null,"Ｃ(２５８) ＋ Ｄ(２５８)",null,"Ｄ(１４７) ＋ Ｄ(３６９)"]
["会　場","石井４",null,"石井５",null,"石井６"]
["会場担当","宇都宮北部ＦＣトレ",null,"Ｓ４スペランツァ",null,"上河内ＪＳＣ"]
["① 9:00","9-3","7/1/1/7","C8-C2","D8/D2/D2/D8","9-3","7/1/1/7"]
["② 9:50","7-1","9/3/3/9","D8-D2","C8/C2/C2/C8","7-1","9/3/3/9"]
["③10:40","6-9","4/7/7/4","C5-C8","D5/D8/D8/D5","6-9","4/7/7/4"]
["④11:30","4-7","6/9/9/6","D5-D8","C5/C8/C8/C5","4-7","6/9/9/6"]
["⑤12:20","3-6","1/4/4/1","C2-C5","D2/D5/D5/D2","3-6","1/4/4/1"]
["⑥13:10","1-4","3/6/6/3","D2-D5","C2/C5/C5/C2","1-4","3/6/6/3"]
[]
["【　第３節　】　９／９（日）"]
["ブロック","Ａ",null,"Ａ ＋ Ｂ（３４８）",null,"Ｂ(１５９) ＋ Ｂ(２６７)"]
["会　場","白沢Ａ",null,"白沢Ｂ",null,"新田小"]
["会場担当","細谷ＳＣ",null,"ＦＣグランディール宇都宮",null,"サウス宇都宮ＳＣ"]
["① 9:00","2-5","10/3/3/10","A6-A9","B4/B8/B8/B4","6-7","5/9/9/5"]
["② 9:50","10-3","2/5/5/2","B4-B8","A6/A9/A9/A6","5-9","6/7/7/6"]
["③10:40","4-7","9/2/2/9","A8-A1","B3/B4/B4/B3","2-6","1/5/5/1"]
["④11:30","9-2","4/7/7/4","B3-B4","A8/A1/A1/A8","1-5","2/6/6/2"]
["⑤12:20","7-10","3/6/6/3","A5-A8","B8/B3/B3/B8","7-2","9/1/1/9"]
["⑥13:10","3-6","1/4/4/1","B8-B3","A5/A8/A8/A5","9-1","7/2/2/7"]
["⑦14:00","1-4","7/10/10/7"]
[]
["ブロック","Ｃ(１５９) ＋ Ｃ(２６７)",null,"Ｃ(３４８) ＋ Ｄ(３４８)",null,"Ｄ(１５９) ＋ Ｄ(２６７)"]
["会　場","石井５",null,"陽南小",null,"石井６"]
["会場担当","清原ＳＳＳ",null,"緑が丘ＹＦＣ",null,"国本ＪＳＣ"]
["① 9:00","6-7","5/9/9/5","C4-C8","D4/D8/D8/D4","6-7","5/9/9/5"]
["② 9:50","5-9","6/7/7/6","D4-D8","C4/C8/C8/C4","5-9","6/7/7/6"]
["③10:40","2-6","1/5/5/1","C3-C4","D3/D4/D4/D3","2-6","1/5/5/1"]
["④11:30","1-5","2/6/6/2","D3-D4","C3/C4/C4/C3","1-5","2/6/6/2"]
["⑤12:20","7-2","9/1/1/9","C8-C3","D8/D3/D3/D8","7-2","9/1/1/9"]
["⑥13:10","9-1","7/2/2/7","D8-D3","C8/C3/C3/C8","9-1","7/2/2/7"]
[]
["【　第４節　】　９／１６（日）　シャルムグランツＳＣ(A8)と"]
["　　　　　　　　　　　　　　　　 北部ＦＣトレ(C6)は不参加"]
["ブロック","Ａ",null,"Ａ ＋ Ｂ（３５７）",null,"Ｂ(１６８) ＋ Ｂ(２４９)"]
["会　場","白沢Ａ",null,"白沢Ｂ",null,"姿川第一小"]
["会場担当","岡本ＦＣ",null,"ＦＣみらいＶ",null,"姿川第一ＦＣ"]
["① 9:00","2-6","4/1/1/4","A3-A7","B3/B5/B5/B3","1-6","2/4/4/2"]
["② 9:50","4-8","2/6/6/2","B3-B5","A3/A7/A7/A3","2-4","1/6/6/1"]
["③10:40","6-10","7/1/1/7","A5-A9","B7/B3/B3/B7","8-1","9/2/2/9"]
["④11:30","7-1","6/10/10/6","B7-B3","A5/A9/A9/A5","9-2","8/1/1/8"]
["⑤12:20","8-2","10/4/4/10","A9-A3","B5/B7/B7/B5","6-8","4/9/9/4"]
["⑥13:10","10-4","1/5/5/1","B5-B7","A9/A3/A3/A9","4-9","6/8/8/6"]
["⑦14:00","1-5","10/2/2/10"]
[]
["ブロック","Ｃ(２４９) ＋ Ｃ(３５７)",null,"Ｄ"]
["会　場","横川東小",null,"石井５",null,"石井６"]
["会場担当","ＦＣみらい Ｐ",null,"ＦＣペンサーレ",null,"上三川ＳＣ"]
["① 9:00","2-4","3/5/5/3","3-5","8/2/2/8","1-6","9/7/7/9"]
["② 9:50","3-5","2/4/4/2",null,null,"2-4","3/1/1/3"]
["③10:40","9-2","7/3/3/7","7-3","6/4/4/6","8-1","2/5/5/2"]
["④11:30","7-3","9/2/2/9",null,null,"9-2","7/8/8/7"]
["⑤12:20","4-9","5/7/7/5","5-7","1/9/9/1","6-8","4/3/3/4"]
["⑥13:10","5-7","4/9/9/4",null,null,"4-9","5/6/6/5"]
[]
["【　第５節　】　９／１７（祝：月）"]
["ブロック","Ａ",null,"B(２５８) ＋ Ｃ(１６８)"]
["会　場","平出Ａ",null,"平出Ｂ"]
["会場担当","シャルムグランツＳＣ",null,"昭和戸祭SC"]
["① 9:00","2-7","3/8/8/3","B8-B2","C1/C6/C6/C1"]
["② 9:50","3-8","2/7/7/2","C1-C6","B8/B2/B2/B8"]
["③10:40","4-9","5/10/10/5","B5-B8","C8/C1/C1/C8"]
["④11:30","8-2","10/4/4/10","C8-C1","B5/B8/B8/B5"]
["⑤12:20","5-10","1/6/6/1","B2-B5","C6/C8/C8/C6"]
["⑥13:10","1-6","4/9/9/4","C6-C8","B2/B5/B5/B2"]
["⑦14:00","4-8","2/6/6/2"]

{"sheet":"●","index":2,"n_rows":0,"n_cols":0,"rows_kept":0,"cut":false,"hidden":false,"merged":[]}

{"sheet":"Ａブロック対戦表","index":3,"n_rows":155,"n_cols":78,"rows_kept":155,"cut":false,"hidden":false,"merged":[[153,3,153,8],[153,9,153,16],[153,17,153,25],[153,26,153,28],[153,29,153,38],[154,3,154,8],[154,9,154,16],[154,17,154,25],[154,26,154,28],[154,29,154,38],[151,3,151,8],[151,9,151,16],[151,17,151,25],[151,26,151,28],[151,29,151,38],[152,3,152,8],[152,9,152,16],[152,17,152,25],[152,26,152,28],[152,29,152,38],[148,1,149,1],[148,2,149,4],[148,5,149,8],[148,9,149,15],[148,16,149,17],[148,21,149,22],[148,23,149,29],[148,30,149,33],[148,34,149,41],[146,1,147,1],[146,2,147,4],[146,5,147,8],[146,9,147,15],[146,16,147,17],[146,21,147,22],[146,23,147,29],[146,30,147,33],[146,34,147,41],[144,1,145,1],[144,2,145,4],[144,5,145,8],[144,9,145,15],[144,16,145,17],[144,21,145,22],[144,23,145,29],[144,30,145,33],[144,34,145,41],[142,1,143,1],[142,2,143,4],[142,5,143,8],[142,9,143,15],[142,16,143,17],[142,21,143,22],[142,23,143,29],[142,30,143,33],[142,34,143,41],[140,1,141,1],[140,2,141,4],[140,5,141,8],[140,9,141,15],[140,16,141,17],[140,21,141,22],[140,23,141,29],[140,30,141,33],[140,34,141,41],[138,1,139,1],[138,2,139,4],[138,5,139,8],[138,9,139,15],[138,16,139,17],[138,21,139,22],[138,23,139,29],[138,30,139,33],[138,34,139,41],[136,1,137,1],[136,2,137,4],[136,5,137,8],[136,9,137,15],[136,16,137,17],[136,21,137,22],[136,23,137,29],[136,30,137,33],[136,34,137,41],[132,2,132,3],[132,4,132,13],[132,16,132,17],[132,18,132,27],[132,30,132,31],[132,32,132,41],[135,2,135,4],[135,5,135,8],[135,9,135,15],[135,16,135,22],[135,23,135,29],[135,30,135,33],[135,34,135,41],[130,2,130,3],[130,4,130,13],[130,16,130,17],[130,18,130,27],[130,30,130,31],[130,32,130,41],[131,2,131,3],[131,4,131,13],[131,16,131,17],[131,18,131,27],[131,30,131,31],[131,32,131,41],[128,2,128,3],[128,4,128,13],[128,16,128,17],[128,18,128,27],[128,30,128,31],[128,32,128,41],[129,2,129,3],[129,4,129,13],[129,16,129,17],[129,18,129,27],[129,30,129,31],[129,32,129,41],[109,77,110,84],[111,77,112,84],[113,77,114,84],[115,77,116,84],[117,77,118,84],[124,0,125,42],[126,2,126,5],[126,6,126,14],[126,15,126,18],[126,19,126,27],[126,28,126,31],[126,32,126,40],[107,73,108,76],[107,44,108,44],[107,45,108,47],[107,48,108,51],[107,52,108,58],[107,59,108,60],[109,1,110,1],[109,2,110,4],[109,5,110,8],[109,9,110,15],[109,16,110,17],[109,21,110,22],[109,23,110,29],[109,30,110,33],[109,44,110,44],[109,45,110,47],[109,48,110,51],[117,16,118,17],[117,21,118,22],[117,23,118,29],[74,77,75,84],[76,77,77,84],[78,77,79,84],[80,77,81,84],[82,77,83,84],[84,77,85,84],[86,77,87,84],[104,34,104,41],[105,34,106,41],[107,34,108,41],[78,66,79,72],[78,73,79,76],[82,66,83,72],[82,73,83,76],[92,52,92,59],[92,60,92,68],[92,69,92,71],[92,72,92,81],[104,45,104,47],[104,48,104,51],[104,52,104,58],[104,59,104,65],[104,66,104,72],[104,73,104,76],[107,66,108,72],[104,77,104,84],[105,77,106,84],[107,77,108,84],[80,73,81,76],[84,66,85,72],[84,73,85,76],[97,73,97,74],[42,77,42,84],[43,77,44,84],[45,77,46,84],[47,77,48,84],[49,77,50,84],[51,77,52,84],[53,77,54,84],[55,77,56,84],[12,34,13,41],[14,34,15,41],[16,34,17,41],[18,34,19,41],[20,34,21,41],[22,34,23,41],[24,34,25,41],[43,34,44,41],[24,64,25,65],[24,66,25,72],[24,73,25,76],[16,66,17,72],[16,73,17,76],[20,66,21,72],[20,73,21,76],[39,73,39,74],[39,75,39,84],[31,0,32,42],[14,77,15,84],[16,77,17,84],[18,77,19,84],[20,77,21,84],[42,34,42,41],[45,34,46,41],[55,48,56,51],[117,30,118,33],[117,44,118,44],[117,45,118,47],[117,48,118,51],[117,52,118,58],[117,59,118,60],[117,64,118,65],[117,66,118,72],[117,73,118,76],[109,34,110,41],[86,1,87,1],[86,2,87,4],[89,3,89,8],[89,9,89,16],[89,17,89,25],[89,26,89,28],[99,16,99,17],[99,18,99,27],[90,3,90,8],[90,9,90,16],[90,17,90,25],[90,26,90,28],[86,34,87,41],[98,47,98,56],[100,2,100,3],[100,4,100,13],[100,16,100,17],[100,18,100,27],[97,45,97,46],[97,47,97,56],[97,59,97,60],[98,45,98,46],[53,34,54,41],[55,34,56,41],[98,59,98,60],[98,61,98,70],[98,73,98,74],[98,75,98,84],[99,45,99,46],[99,47,99,56],[99,59,99,60],[99,61,99,70],[99,73,99,74],[99,75,99,84],[89,29,89,38],[89,46,89,51],[89,52,89,59],[89,60,89,68],[89,69,89,71],[89,72,89,81],[99,30,99,31],[99,32,99,41],[90,29,90,38],[90,46,90,51],[90,52,90,59],[90,60,90,68],[55,44,56,44],[55,45,56,47],[86,64,87,65],[86,66,87,72],[86,73,87,76],[76,34,77,41],[78,34,79,41],[55,2,56,4],[55,5,56,8],[36,30,36,31],[36,32,36,41],[37,2,37,3],[37,4,37,13],[37,16,37,17],[37,18,37,27],[37,30,37,31],[37,32,37,41],[38,30,38,31],[55,52,56,58],[55,59,56,60],[55,64,56,65],[55,66,56,72],[55,73,56,76],[98,2,98,3],[98,4,98,13],[98,16,98,17],[98,18,98,27],[98,30,98,31],[98,32,98,41],[67,75,67,84],[68,45,68,46],[68,47,68,56],[68,59,68,60],[68,61,68,70],[68,73,68,74],[68,75,68,84],[59,3,59,8],[59,9,59,16],[59,17,59,25],[67,2,67,3],[67,4,67,13],[67,16,67,17],[67,18,67,27],[67,30,67,31],[67,32,67,41],[68,2,68,3],[68,4,68,13],[68,16,68,17],[68,18,68,27],[68,30,68,31],[68,32,68,41],[67,45,67,46],[67,47,67,56],[67,59,67,60],[67,61,67,70],[67,73,67,74],[36,2,36,3],[36,4,36,13],[36,16,36,17],[36,18,36,27],[24,23,25,29],[24,30,25,33],[24,44,25,44],[24,45,25,47],[24,48,25,51],[24,52,25,58],[24,59,25,60],[27,3,27,8],[27,9,27,16],[27,17,27,25],[27,26,27,28],[27,29,27,38],[27,46,27,51],[27,52,27,59],[27,60,27,68],[29,3,29,8],[29,9,29,16],[29,17,29,25],[28,3,28,8],[28,9,28,16],[28,29,28,38],[28,46,28,51],[28,52,28,59],[28,60,28,68],[31,43,32,85],[33,2,33,5],[33,6,33,14],[33,15,33,18],[4,18,4,27],[4,30,4,31],[4,32,4,41],[4,45,4,46],[4,47,4,56],[4,59,4,60],[4,61,4,70],[4,73,4,74],[4,75,4,84],[38,32,38,41],[36,45,36,46],[36,47,36,56],[36,59,36,60],[36,61,36,70],[37,45,37,46],[37,47,37,56],[37,59,37,60],[37,61,37,70],[27,69,27,71],[36,73,36,74],[36,75,36,84],[37,73,37,74],[37,75,37,84],[7,30,7,31],[7,32,7,41],[18,66,19,72],[18,73,19,76],[14,73,15,76],[22,66,23,72],[22,73,23,76],[28,17,28,25],[28,26,28,28],[8,2,8,3],[8,4,8,13],[8,16,8,17],[8,18,8,27],[8,30,8,31],[8,32,8,41],[8,45,8,46],[8,47,8,56],[8,59,8,60],[8,61,8,70],[8,73,8,74],[7,73,7,74],[7,75,7,84],[0,0,1,42],[0,43,1,85],[2,2,2,5],[2,6,2,14],[2,15,2,18],[2,19,2,27],[2,28,2,31],[2,32,2,40],[2,45,2,48],[2,49,2,57],[2,58,2,61],[2,62,2,70],[2,71,2,74],[2,75,2,83],[4,2,4,3],[4,4,4,13],[4,16,4,17],[6,75,6,84],[7,45,7,46],[12,1,13,1],[12,2,13,4],[12,5,13,8],[12,9,13,15],[12,16,13,17],[12,21,13,22],[12,23,13,29],[12,30,13,33],[12,44,13,44],[12,45,13,47],[12,48,13,51],[12,52,13,58],[12,59,13,60],[8,75,8,84],[11,2,11,4],[11,5,11,8],[11,9,11,15],[11,16,11,22],[11,23,11,29],[11,30,11,33],[11,45,11,47],[11,48,11,51],[11,52,11,58],[11,59,11,65],[11,66,11,72],[12,64,13,65],[12,66,13,72],[11,73,11,76],[12,73,13,76],[11,34,11,41],[11,77,11,84],[12,77,13,84],[16,1,17,1],[16,2,17,4],[14,1,15,1],[14,2,15,4],[14,5,15,8],[14,9,15,15],[14,16,15,17],[14,21,15,22],[14,23,15,29],[14,30,15,33],[14,44,15,44],[14,45,15,47],[14,48,15,51],[14,52,15,58],[14,59,15,60],[14,64,15,65],[14,66,15,72],[16,64,17,65],[16,5,17,8],[16,9,17,15],[16,16,17,17],[16,21,17,22],[16,23,17,29],[16,30,17,33],[16,44,17,44],[16,45,17,47],[16,48,17,51],[16,52,17,58],[16,59,17,60],[18,1,19,1],[18,2,19,4],[18,5,19,8],[18,9,19,15],[18,16,19,17],[18,21,19,22],[18,23,19,29],[18,30,19,33],[18,44,19,44],[18,45,19,47],[18,48,19,51],[18,52,19,58],[18,59,19,60],[18,64,19,65],[22,1,23,1],[22,2,23,4],[22,5,23,8],[22,9,23,15],[22,16,23,17],[22,21,23,22],[22,23,23,29],[22,30,23,33],[22,44,23,44],[22,45,23,47],[22,48,23,51],[22,52,23,58],[22,59,23,60],[22,64,23,65],[20,1,21,1],[20,2,21,4],[20,5,21,8],[20,9,21,15],[20,16,21,17],[20,21,21,22],[20,23,21,29],[20,30,21,33],[20,44,21,44],[20,45,21,47],[20,48,21,51],[20,52,21,58],[20,59,21,60],[27,72,27,81],[20,64,21,65],[24,1,25,1],[24,2,25,4],[24,5,25,8],[24,9,25,15],[24,16,25,17],[24,21,25,22],[28,69,28,71],[28,72,28,81],[22,77,23,84],[24,77,25,84],[29,26,29,28],[29,29,29,38],[29,46,29,51],[29,52,29,59],[29,60,29,68],[29,69,29,71],[29,72,29,81],[30,3,30,8],[30,9,30,16],[30,17,30,25],[30,26,30,28],[30,29,30,38],[30,46,30,51],[30,52,30,59],[30,60,30,68],[30,69,30,71],[30,72,30,81],[33,19,33,27],[33,28,33,31],[33,32,33,40],[33,45,33,48],[33,49,33,57],[33,58,33,61],[33,62,33,70],[33,71,33,74],[33,75,33,83],[35,2,35,3],[35,4,35,13],[35,16,35,17],[35,18,35,27],[35,30,35,31],[35,32,35,41],[35,45,35,46],[35,47,35,56],[35,59,35,60],[35,61,35,70],[35,73,35,74],[35,75,35,84],[42,2,42,4],[42,5,42,8],[42,9,42,15],[42,16,42,22],[42,23,42,29],[42,30,42,33],[42,45,42,47],[42,48,42,51],[42,52,42,58],[42,59,42,65],[42,66,42,72],[42,73,42,76],[38,2,38,3],[38,4,38,13],[38,16,38,17],[38,18,38,27],[38,45,38,46],[38,47,38,56],[38,59,38,60],[38,61,38,70],[38,73,38,74],[38,75,38,84],[39,2,39,3],[39,4,39,13],[39,16,39,17],[39,18,39,27],[39,30,39,31],[39,32,39,41],[39,45,39,46],[39,47,39,56],[39,59,39,60],[39,61,39,70],[49,66,50,72],[49,73,50,76],[47,34,48,41],[45,2,46,4],[43,1,44,1],[43,2,44,4],[43,5,44,8],[43,9,44,15],[43,16,44,17],[43,21,44,22],[43,23,44,29],[43,30,44,33],[43,44,44,44],[43,45,44,47],[43,48,44,51],[43,52,44,58],[43,59,44,60],[43,64,44,65],[43,66,44,72],[43,73,44,76],[45,64,46,65],[45,5,46,8],[45,9,46,15],[45,16,46,17],[45,21,46,22],[45,23,46,29],[45,30,46,33],[45,44,46,44],[45,45,46,47],[45,48,46,51],[45,52,46,58],[45,59,46,60],[45,66,46,72],[45,73,46,76],[47,1,48,1],[47,2,48,4],[47,5,48,8],[47,9,48,15],[47,16,48,17],[47,21,48,22],[47,23,48,29],[47,30,48,33],[47,44,48,44],[47,45,48,47],[47,48,48,51],[47,52,48,58],[47,59,48,60],[47,64,48,65],[47,66,48,72],[47,73,48,76],[45,1,46,1],[51,1,52,1],[51,2,52,4],[51,5,52,8],[51,9,52,15],[51,16,52,17],[51,21,52,22],[51,23,52,29],[51,30,52,33],[51,44,52,44],[51,45,52,47],[51,48,52,51],[51,52,52,58],[51,59,52,60],[51,64,52,65],[51,66,52,72],[51,73,52,76],[49,1,50,1],[49,2,50,4],[49,5,50,8],[49,9,50,15],[49,16,50,17],[49,21,50,22],[49,23,50,29],[49,30,50,33],[49,44,50,44],[49,45,50,47],[49,48,50,51],[49,52,50,58],[49,59,50,60],[51,34,52,41],[49,34,50,41],[49,64,50,65],[53,1,54,1],[53,2,54,4],[53,5,54,8],[53,9,54,15],[53,16,54,17],[53,21,54,22],[53,23,54,29],[53,30,54,33],[53,44,54,44],[53,45,54,47],[53,48,54,51],[53,52,54,58],[53,59,54,60],[53,64,54,65],[53,66,54,72],[53,73,54,76],[58,3,58,8],[58,9,58,16],[58,17,58,25],[58,26,58,28],[58,29,58,38],[58,46,58,51],[58,52,58,59],[58,60,58,68],[58,69,58,71],[58,72,58,81],[55,1,56,1],[55,9,56,15],[55,16,56,17],[55,21,56,22],[55,23,56,29],[55,30,56,33],[59,46,59,51],[59,52,59,59],[59,60,59,68],[59,69,59,71],[59,72,59,81],[60,3,60,8],[60,9,60,16],[60,17,60,25],[60,26,60,28],[60,29,60,38],[60,46,60,51],[60,52,60,59],[60,60,60,68],[60,69,60,71],[60,72,60,81],[61,3,61,8],[61,9,61,16],[61,17,61,25],[61,26,61,28],[61,29,61,38],[61,46,61,51],[61,52,61,59],[61,60,61,68],[61,69,61,71],[61,72,61,81],[59,26,59,28],[59,29,59,38],[62,0,63,42],[62,43,63,85],[64,2,64,5],[64,6,64,14],[64,15,64,18],[64,19,64,27],[64,28,64,31],[64,32,64,40],[64,45,64,48],[64,49,64,57],[64,58,64,61],[64,62,64,70],[64,71,64,74],[64,75,64,83],[66,2,66,3],[66,4,66,13],[66,16,66,17],[66,18,66,27],[66,30,66,31],[66,32,66,41],[66,45,66,46],[66,47,66,56],[66,59,66,60],[66,61,66,70],[66,73,66,74],[66,75,66,84],[69,2,69,3],[69,4,69,13],[69,16,69,17],[69,18,69,27],[69,30,69,31],[69,32,69,41],[69,45,69,46],[69,47,69,56],[69,59,69,60],[69,61,69,70],[69,73,69,74],[69,75,69,84],[70,75,70,84],[73,2,73,4],[73,5,73,8],[73,9,73,15],[73,16,73,22],[73,23,73,29],[73,30,73,33],[73,45,73,47],[73,48,73,51],[73,52,73,58],[73,59,73,65],[73,66,73,72],[73,73,73,76],[73,34,73,41],[73,77,73,84],[74,5,75,8],[74,9,75,15],[74,16,75,17],[74,21,75,22],[74,23,75,29],[74,30,75,33],[74,44,75,44],[74,45,75,47],[74,48,75,51],[74,52,75,58],[74,59,75,60],[70,2,70,3],[70,4,70,13],[70,16,70,17],[70,18,70,27],[80,66,81,72],[78,5,79,8],[78,9,79,15],[78,16,79,17],[78,21,79,22],[78,23,79,29],[78,30,79,33],[78,44,79,44],[78,45,79,47],[78,48,79,51],[78,52,79,58],[78,59,79,60],[80,34,81,41],[78,1,79,1],[78,2,79,4],[70,30,70,31],[70,32,70,41],[70,45,70,46],[70,47,70,56],[70,59,70,60],[74,34,75,41],[74,64,75,65],[74,66,75,72],[74,73,75,76],[76,1,77,1],[76,2,77,4],[76,5,77,8],[76,9,77,15],[76,16,77,17],[76,21,77,22],[76,23,77,29],[76,30,77,33],[76,44,77,44],[76,45,77,47],[76,48,77,51],[76,52,77,58],[76,59,77,60],[76,64,77,65],[76,66,77,72],[76,73,77,76],[74,1,75,1],[70,61,70,70],[70,73,70,74],[78,64,79,65],[74,2,75,4],[80,1,81,1],[80,2,81,4],[80,5,81,8],[80,9,81,15],[80,16,81,17],[80,21,81,22],[80,23,81,29],[80,30,81,33],[80,44,81,44],[80,45,81,47],[80,48,81,51],[80,52,81,58],[80,59,81,60],[80,64,81,65],[84,1,85,1],[84,2,85,4],[84,5,85,8],[84,9,85,15],[84,16,85,17],[84,21,85,22],[84,23,85,29],[84,30,85,33],[84,44,85,44],[84,45,85,47],[84,48,85,51],[84,52,85,58],[84,59,85,60],[84,64,85,65],[82,34,83,41],[84,34,85,41],[82,1,83,1],[82,2,83,4],[82,5,83,8],[82,9,83,15],[82,16,83,17],[82,21,83,22],[82,23,83,29],[82,30,83,33],[82,44,83,44],[82,45,83,47],[82,48,83,51],[82,52,83,58],[82,59,83,60],[90,69,90,71],[90,72,90,81],[82,64,83,65],[86,48,87,51],[86,52,87,58],[86,59,87,60],[86,5,87,8],[86,9,87,15],[86,16,87,17],[86,21,87,22],[86,23,87,29],[86,30,87,33],[86,44,87,44],[86,45,87,47],[97,75,97,84],[91,3,91,8],[91,9,91,16],[91,17,91,25],[91,26,91,28],[91,29,91,38],[91,46,91,51],[91,52,91,59],[91,60,91,68],[91,69,91,71],[91,72,91,81],[92,3,92,8],[92,9,92,16],[92,17,92,25],[92,26,92,28],[92,29,92,38],[92,46,92,51],[97,61,97,70],[101,16,101,17],[101,18,101,27],[101,30,101,31],[101,32,101,41],[101,45,101,46],[101,47,101,56],[101,59,101,60],[101,61,101,70],[101,73,101,74],[101,75,101,84],[93,0,94,42],[93,43,94,85],[95,2,95,5],[95,6,95,14],[95,15,95,18],[95,19,95,27],[95,28,95,31],[95,32,95,40],[95,45,95,48],[95,49,95,57],[95,58,95,61],[95,62,95,70],[95,71,95,74],[95,75,95,83],[97,2,97,3],[97,4,97,13],[97,16,97,17],[97,18,97,27],[97,30,97,31],[97,32,97,41],[99,2,99,3],[99,4,99,13],[100,30,100,31],[100,32,100,41],[100,45,100,46],[100,47,100,56],[100,59,100,60],[100,61,100,70],[100,73,100,74],[100,75,100,84],[105,1,106,1],[105,2,106,4],[105,5,106,8],[105,9,106,15],[105,16,106,17],[105,21,106,22],[105,23,106,29],[105,30,106,33],[105,44,106,44],[105,45,106,47],[105,48,106,51],[105,52,106,58],[105,59,106,60],[105,64,106,65],[105,66,106,72],[105,73,106,76],[104,2,104,4],[104,5,104,8],[104,9,104,15],[104,16,104,22],[104,23,104,29]],"merged_total":1143,"flags":["merged_cut"]}
["ＪＦＡ　U-12サッカーリーグ2018（in栃木） 宇河地域リーグ戦（後期）　　　　Ａブロック",null,null,null,null,null,null,null,null,null,null,null,null,null,null,null,null,null,null,null,null,null,null,null,null,null,null,null,null,null,null,null,null,null,null,null,null,null,null,null,null,null,null,"ＪＦＡ　U-12サッカーリーグ2018（in栃木） 宇河地域リーグ戦（後期）　　　　Ａ・Ｂブロック"]
[]
[null,null,"会場",null,null,null,{"$f":"U12対戦スケジュール!B6","v":"白沢Ａ"},null,null,null,null,null,null,null,null,"会場担当",null,null,null,{"$f":"U12対戦スケジュール!B7","v":"岡西ＦＣ"},null,null,null,null,null,null,null,null,"開催日",null,null,null,"2018-09-02",null,null,null,null,null,null,null,null,null,null,null,null,"会場",null,null,null,{"$f":"U12対戦スケジュール!D6","v":"白沢Ｂ"},null,null,null,null,null,null,null,null,"会場担当",null,null,null,{"$f":"U12対戦スケジュール!D7","v":"カテット白沢ＳＳ"},null,null,null,null,null,null,null,null,"開催日",null,null,null,"2018-09-02"]
[]
[null,null,1,null,{"$f":"U12組合せ!$D10","v":"石井ＦＣ"},null,null,null,null,null,null,null,null,null,null,null,6,null,{"$f":"U12組合せ!$D15","v":"ＦＣグラシアス"},null,null,null,null,null,null,null,null,null,null,null,null,null,null,null,null,null,null,null,null,null,null,null,null,null,null,"A1",null,{"$f":"U12組合せ!$D10","v":"石井ＦＣ"},null,null,null,null,null,null,null,null,null,null,null,"A6",null,{"$f":"U12組合せ!$D15","v":"ＦＣグラシアス"},null,null,null,null,null,null,null,null,null,null,null,"B7",null,{"$f":"U12組合せ!F16","v":"ＦＣ Ｒｉｓｏ"}]
[null,null,2,null,{"$f":"U12組合せ!$D11","v":"細谷ＳＣ"},null,null,null,null,null,null,null,null,null,null,null,7,null,{"$f":"U12組合せ!$D16","v":"岡本ＦＣ"},null,null,null,null,null,null,null,null,null,null,null,null,null,null,null,null,null,null,null,null,null,null,null,null,null,null,"A2",null,{"$f":"U12組合せ!$D11","v":"細谷ＳＣ"},null,null,null,null,null,null,null,null,null,null,null,"A7",null,{"$f":"U12組合せ!$D16","v":"岡本ＦＣ"},null,null,null,null,null,null,null,null,null,null,null,"B8",null,{"$f":"U12組合せ!F17","v":"富士見ＳＳＳ"}]
[null,null,3,null,{"$f":"U12組合せ!$D12","v":"ＦＣみらい Ｖ"},null,null,null,null,null,null,null,null,null,null,null,8,null,{"$f":"U12組合せ!$D17","v":"シャルムグランツＳＣ"},null,null,null,null,null,null,null,null,null,null,null,null,null,null,null,null,null,null,null,null,null,null,null,null,null,null,"A3",null,{"$f":"U12組合せ!$D12","v":"ＦＣみらい Ｖ"},null,null,null,null,null,null,null,null,null,null,null,"A8",null,{"$f":"U12組合せ!$D17","v":"シャルムグランツＳＣ"},null,null,null,null,null,null,null,null,null,null,null,"B9",null,{"$f":"U12組合せ!F18","v":"豊郷ＪＦＣ宇都宮"}]
[null,null,4,null,{"$f":"U12組合せ!$D13","v":"岡西ＦＣ"},null,null,null,null,null,null,null,null,null,null,null,9,null,{"$f":"U12組合せ!$D18","v":"カテット白沢ＳＳ"},null,null,null,null,null,null,null,null,null,null,null,null,null,null,null,null,null,null,null,null,null,null,null,null,null,null,"A4",null,{"$f":"U12組合せ!$D13","v":"岡西ＦＣ"},null,null,null,null,null,null,null,null,null,null,null,"A9",null,{"$f":"U12組合せ!$D18","v":"カテット白沢ＳＳ"}]
[null,null,5,null,{"$f":"U12組合せ!$D14","v":"ＦＣグランディール宇都宮"},null,null,null,null,null,null,null,null,null,null,null,10,null,{"$f":"U12組合せ!$D19","v":"ＦＣアリーバ"},null,null,null,null,null,null,null,null,null,null,null,null,null,null,null,null,null,null,null,null,null,null,null,null,null,null,"A5",null,{"$f":"U12組合せ!$D14","v":"ＦＣグランディール宇都宮"},null,null,null,null,null,null,null,null,null,null,null,"A10",null,{"$f":"U12組合せ!$D19","v":"ＦＣアリーバ"}]
[]
[null,"【試合時間：２０分-５分-２０分】",null,null,null,null,null,null,null,null,null,null,null,null,null,null,null,null,null,null,null,null,null,null,null,null,null,null,null,null,null,null,null,null,null,null,null,null,null,null,null,null,null,null,"【試合時間：２０分-５分-２０分】"]
[null,null,"試合開始",null,null,"監督サイン",null,null,null,"チーム名",null,null,null,null,null,null,"得点",null,null,null,null,null,null,"チーム名",null,null,null,null,null,null,"監督サイン",null,null,null,"主審／副審／副審／４審",null,null,null,null,null,null,null,null,null,null,"試合開始",null,null,"監督サイン",null,null,null,"チーム名",null,null,null,null,null,null,"得点",null,null,null,null,null,null,"チーム名",null,null,null,null,null,null,"監督サイン",null,null,null,"主審／副審／副審／４審"]
[null,1,"09:00:00",null,null,null,null,null,null,{"$f":"E5","v":"石井ＦＣ"},null,null,null,null,null,null,{"$f":"IF(OR(S13=\"\",S14=\"\"),\"\",S13+S14)","v":2},null,0,"－",1,{"$f":"IF(OR(U13=\"\",U14=\"\"),\"\",U13+U14)","v":2},null,{"$f":"E6","v":"細谷ＳＣ"},null,null,null,null,null,null,null,null,null,null,{"$f":"DBCS(INDIRECT(\"U12対戦スケジュール!C\"&(ROW()-1)/2+2))","v":"５／６／６／５"},null,null,null,null,null,null,null,null,null,1,"09:00:00",null,null,null,null,null,null,{"$f":"AV7","v":"ＦＣみらい Ｖ"},null,null,null,null,null,null,{"$f":"IF(OR(BJ13=\"\",BJ14=\"\"),\"\",BJ13+BJ14)","v":1},null,1,"－",1,{"$f":"IF(OR(BL13=\"\",BL14=\"\"),\"\",BL13+BL14)","v":3},null,{"$f":"AV8","v":"岡西ＦＣ"},null,null,null,null,null,null,null,null,null,null,{"$f":"DBCS(INDIRECT(\"U12対戦スケジュール!e\"&(ROW()-1)/2+2))","v":"Ｂ７／Ｂ８／Ｂ８／Ｂ７"}]
[null,null,null,null,null,null,null,null,null,null,null,null,null,null,null,null,null,null,2,"－",1,null,null,null,null,null,null,null,null,null,null,null,null,null,null,null,null,null,null,null,null,null,null,null,null,null,null,null,null,null,null,null,null,null,null,null,null,null,null,null,null,0,"－",2]
[null,2,"09:50:00","10:30:00",null,null,null,null,null,{"$f":"E9","v":"ＦＣグランディール宇都宮"},null,null,null,null,null,null,{"$f":"IF(OR(S15=\"\",S16=\"\"),\"\",S15+S16)","v":1},null,1,"－",2,{"$f":"IF(OR(U15=\"\",U16=\"\"),\"\",U15+U16)","v":4},null,{"$f":"S5","v":"ＦＣグラシアス"},null,null,null,null,null,null,null,null,null,null,{"$f":"DBCS(INDIRECT(\"U12対戦スケジュール!C\"&(ROW()-1)/2+2))","v":"１／２／２／１"},null,null,null,null,null,null,null,null,null,2,"09:50:00","10:30:00",null,null,null,null,null,{"$f":"BX5","v":"ＦＣ Ｒｉｓｏ"},null,null,null,null,null,null,{"$f":"IF(OR(BJ15=\"\",BJ16=\"\"),\"\",BJ15+BJ16)","v":6},null,4,"－",0,{"$f":"IF(OR(BL15=\"\",BL16=\"\"),\"\",BL15+BL16)","v":0},null,{"$f":"BX6","v":"富士見ＳＳＳ"},null,null,null,null,null,null,null,null,null,null,{"$f":"DBCS(INDIRECT(\"U12対戦スケジュール!e\"&(ROW()-1)/2+2))","v":"Ａ３／Ａ４／Ａ３／Ａ３"}]
[null,null,null,null,null,null,null,null,null,null,null,null,null,null,null,null,null,null,0,"－",2,null,null,null,null,null,null,null,null,null,null,null,null,null,null,null,null,null,null,null,null,null,null,null,null,null,null,null,null,null,null,null,null,null,null,null,null,null,null,null,null,2,"－",0]
[null,3,"10:40:00",null,null,null,null,null,null,{"$f":"S6","v":"岡本ＦＣ"},null,null,null,null,null,null,{"$f":"IF(OR(S17=\"\",S18=\"\"),\"\",S17+S18)","v":1},null,1,"－",1,{"$f":"IF(OR(U17=\"\",U18=\"\"),\"\",U17+U18)","v":3},null,{"$f":"S7","v":"シャルムグランツＳＣ"},null,null,null,null,null,null,null,null,null,null,{"$f":"DBCS(INDIRECT(\"U12対戦スケジュール!C\"&(ROW()-1)/2+2))","v":"２／３／３／２"},null,null,null,null,null,null,null,null,null,3,"10:40:00",null,null,null,null,null,null,{"$f":"BJ8","v":"カテット白沢ＳＳ"},null,null,null,null,null,null,{"$f":"IF(OR(BJ17=\"\",BJ18=\"\"),\"\",BJ17+BJ18)","v":1},null,1,"－",0,{"$f":"IF(OR(BL17=\"\",BL18=\"\"),\"\",BL17+BL18)","v":0},null,{"$f":"BJ9","v":"ＦＣアリーバ"},null,null,null,null,null,null,null,null,null,null,{"$f":"DBCS(INDIRECT(\"U12対戦スケジュール!e\"&(ROW()-1)/2+2))","v":"Ｂ９／Ｂ７／Ｂ７／Ｂ９"}]
[null,null,null,null,null,null,null,null,null,null,null,null,null,null,null,null,null,null,0,"－",2,null,null,null,null,null,null,null,null,null,null,null,null,null,null,null,null,null,null,null,null,null,null,null,null,null,null,null,null,null,null,null,null,null,null,null,null,null,null,null,null,0,"－",0]
[null,4,"11:30:00","10:30:00",null,null,null,null,null,{"$f":"E6","v":"細谷ＳＣ"},null,null,null,null,null,null,{"$f":"IF(OR(S19=\"\",S20=\"\"),\"\",S19+S20)","v":5},null,2,"－",0,{"$f":"IF(OR(U19=\"\",U20=\"\"),\"\",U19+U20)","v":0},null,{"$f":"E7","v":"ＦＣみらい Ｖ"},null,null,null,null,null,null,null,null,null,null,{"$f":"DBCS(INDIRECT(\"U12対戦スケジュール!C\"&(ROW()-1)/2+2))","v":"７／８／８／７"},null,null,null,null,null,null,null,null,null,4,"11:30:00","10:30:00",null,null,null,null,null,{"$f":"BX7","v":"豊郷ＪＦＣ宇都宮"},null,null,null,null,null,null,{"$f":"IF(OR(BJ19=\"\",BJ20=\"\"),\"\",BJ19+BJ20)","v":2},null,1,"－",0,{"$f":"IF(OR(BL19=\"\",BL20=\"\"),\"\",BL19+BL20)","v":0},null,{"$f":"BX5","v":"ＦＣ Ｒｉｓｏ"},null,null,null,null,null,null,null,null,null,null,{"$f":"DBCS(INDIRECT(\"U12対戦スケジュール!e\"&(ROW()-1)/2+2))","v":"Ａ９／Ａ１０／Ａ１０／Ａ９"}]
[null,null,null,null,null,null,null,null,null,null,null,null,null,null,null,null,null,null,3,"－",0,null,null,null,null,null,null,null,null,null,null,null,null,null,null,null,null,null,null,null,null,null,null,null,null,null,null,null,null,null,null,null,null,null,null,null,null,null,null,null,null,1,"－",0]
[null,5,"12:20:00",null,null,null,null,null,null,{"$f":"S9","v":"ＦＣアリーバ"},null,null,null,null,null,null,{"$f":"IF(OR(S21=\"\",S22=\"\"),\"\",S21+S22)","v":0},null,0,"－",0,{"$f":"IF(OR(U21=\"\",U22=\"\"),\"\",U21+U22)","v":1},null,{"$f":"E5","v":"石井ＦＣ"},null,null,null,null,null,null,null,null,null,null,{"$f":"DBCS(INDIRECT(\"U12対戦スケジュール!C\"&(ROW()-1)/2+2))","v":"４／５／５／４"},null,null,null,null,null,null,null,null,null,5,"12:20:00",null,null,null,null,null,null,{"$f":"BJ5","v":"ＦＣグラシアス"},null,null,null,null,null,null,{"$f":"IF(OR(BJ21=\"\",BJ22=\"\"),\"\",BJ21+BJ22)","v":4},null,2,"－",0,{"$f":"IF(OR(BL21=\"\",BL22=\"\"),\"\",BL21+BL22)","v":1},null,{"$f":"BJ6","v":"岡本ＦＣ"},null,null,null,null,null,null,null,null,null,null,{"$f":"DBCS(INDIRECT(\"U12対戦スケジュール!e\"&(ROW()-1)/2+2))","v":"Ｂ８／Ｂ９／Ｂ９／Ｂ８"}]
[null,null,null,null,null,null,null,null,null,null,null,null,null,null,null,null,null,null,0,"－",1,null,null,null,null,null,null,null,null,null,null,null,null,null,null,null,null,null,null,null,null,null,null,null,null,null,null,null,null,null,null,null,null,null,null,null,null,null,null,null,null,2,"－",1]
[null,6,"13:10:00","10:30:00",null,null,null,null,null,{"$f":"E8","v":"岡西ＦＣ"},null,null,null,null,null,null,{"$f":"IF(OR(S23=\"\",S24=\"\"),\"\",S23+S24)","v":1},null,1,"－",2,{"$f":"IF(OR(U23=\"\",U24=\"\"),\"\",U23+U24)","v":7},null,{"$f":"E9","v":"ＦＣグランディール宇都宮"},null,null,null,null,null,null,null,null,null,null,{"$f":"DBCS(INDIRECT(\"U12対戦スケジュール!C\"&(ROW()-1)/2+2))","v":"８／９／９／８"},null,null,null,null,null,null,null,null,null,6,"13:10:00","10:30:00",null,null,null,null,null,{"$f":"BX6","v":"富士見ＳＳＳ"},null,null,null,null,null,null,{"$f":"IF(OR(BJ23=\"\",BJ24=\"\"),\"\",BJ23+BJ24)","v":0},null,0,"－",3,{"$f":"IF(OR(BL23=\"\",BL24=\"\"),\"\",BL23+BL24)","v":5},null,{"$f":"BX7","v":"豊郷ＪＦＣ宇都宮"},null,null,null,null,null,null,null,null,null,null,{"$f":"DBCS(INDIRECT(\"U12対戦スケジュール!e\"&(ROW()-1)/2+2))","v":"Ａ６／Ａ７／Ａ７／Ａ６"}]
[null,null,null,null,null,null,null,null,null,null,null,null,null,null,null,null,null,null,0,"－",5,null,null,null,null,null,null,null,null,null,null,null,null,null,null,null,null,null,null,null,null,null,null,null,null,null,null,null,null,null,null,null,null,null,null,null,null,null,null,null,null,0,"－",2]
[null,7,"14:00:00","10:30:00",null,null,null,null,null,{"$f":"S7","v":"シャルムグランツＳＣ"},null,null,null,null,null,null,{"$f":"IF(OR(S25=\"\",S26=\"\"),\"\",S25+S26)","v":0},null,0,"－",1,{"$f":"IF(OR(U25=\"\",U26=\"\"),\"\",U25+U26)","v":6},null,{"$f":"S8","v":"カテット白沢ＳＳ"},null,null,null,null,null,null,null,null,null,null,{"$f":"DBCS(INDIRECT(\"U12対戦スケジュール!C\"&(ROW()-1)/2+2))","v":"１０／１／１／１０"},null,null,null,null,null,null,null,null,null,7,"14:00:00","10:30:00",null,null,null,null,null,null,null,null,null,null,null,null,{"$f":"IF(OR(BJ25=\"\",BJ26=\"\"),\"\",BJ25+BJ26)","v":""},null,null,"－",null,{"$f":"IF(OR(BL25=\"\",BL26=\"\"),\"\",BL25+BL26)","v":""},null,null,null,null,null,null,null,null,null,null,null,null,{"$f":"DBCS(INDIRECT(\"U12対戦スケジュール!e\"&(ROW()-1)/2+2))","v":""}]
[null,null,null,null,null,null,null,null,null,null,null,null,null,null,null,null,null,null,0,"－",5,null,null,null,null,null,null,null,null,null,null,null,null,null,null,null,null,null,null,null,null,null,null,null,null,null,null,null,null,null,null,null,null,null,null,null,null,null,null,null,null,null,"－"]
[]
[null,null,null,"警告／退場",null,null,null,null,null,"チーム名",null,null,null,null,null,null,null,"氏名",null,null,null,null,null,null,null,null,"番号",null,null,"理由",null,null,null,null,null,null,null,null,null,null,null,null,null,null,null,null,"警告／退場",null,null,null,null,null,"チーム名",null,null,null,null,null,null,null,"氏名",null,null,null,null,null,null,null,null,"番号",null,null,"理由"]
[null,null,null,"警告　　退場",null,null,null,null,null,null,null,null,null,null,null,null,null,null,null,null,null,null,null,null,null,null,null,null,null,null,null,null,null,null,null,null,null,null,null,null,null,null,null,null,null,null,"警告　　退場"]
[null,null,null,"警告　　退場",null,null,null,null,null,null,null,null,null,null,null,null,null,null,null,null,null,null,null,null,null,null,null,null,null,null,null,null,null,null,null,null,null,null,null,null,null,null,null,null,null,null,"警告　　退場"]
[null,null,null,"警告　　退場",null,null,null,null,null,null,null,null,null,null,null,null,null,null,null,null,null,null,null,null,null,null,null,null,null,null,null,null,null,null,null,null,null,null,null,null,null,null,null,null,null,null,"警告　　退場"]
["ＪＦＡ　U-12サッカーリーグ2018（in栃木） 宇河地域リーグ戦（後期）　　　　Ａブロック",null,null,null,null,null,null,null,null,null,null,null,null,null,null,null,null,null,null,null,null,null,null,null,null,null,null,null,null,null,null,null,null,null,null,null,null,null,null,null,null,null,null,"ＪＦＡ　U-12サッカーリーグ2018（in栃木） 宇河地域リーグ戦（後期）　　　　Ａブロック"]
[]
[null,null,"会場",null,null,null,{"$f":"U12対戦スケジュール!B28","v":"石井１"},null,null,null,null,null,null,null,null,"会場担当",null,null,null,{"$f":"U12対戦スケジュール!B29","v":"ＦＣアリーバ"},null,null,null,null,null,null,null,null,"開催日",null,null,null,"2018-09-08",null,null,null,null,null,null,null,null,null,null,null,null,"会場",null,null,null,{"$f":"U12対戦スケジュール!D28","v":"石井２"},null,null,null,null,null,null,null,null,"会場担当",null,null,null,{"$f":"U12対戦スケジュール!D29","v":"石井ＦＣ"},null,null,null,null,null,null,null,null,"開催日",null,null,null,"2018-09-08"]
[]
[null,null,1,null,{"$f":"U12組合せ!$D10","v":"石井ＦＣ"},null,null,null,null,null,null,null,null,null,null,null,6,null,{"$f":"U12組合せ!$D15","v":"ＦＣグラシアス"},null,null,null,null,null,null,null,null,null,null,null,null,null,null,null,null,null,null,null,null,null,null,null,null,null,null,1,null,{"$f":"U12組合せ!$D10","v":"石井ＦＣ"},null,null,null,null,null,null,null,null,null,null,null,6,null,{"$f":"U12組合せ!$D15","v":"ＦＣグラシアス"}]
[null,null,2,null,{"$f":"U12組合せ!$D11","v":"細谷ＳＣ"},null,null,null,null,null,null,null,null,null,null,null,7,null,{"$f":"U12組合せ!$D16","v":"岡本ＦＣ"},null,null,null,null,null,null,null,null,null,null,null,null,null,null,null,null,null,null,null,null,null,null,null,null,null,null,2,null,{"$f":"U12組合せ!$D11","v":"細谷ＳＣ"},null,null,null,null,null,null,null,null,null,null,null,7,null,{"$f":"U12組合せ!$D16","v":"岡本ＦＣ"}]
[null,null,3,null,{"$f":"U12組合せ!$D12","v":"ＦＣみらい Ｖ"},null,null,null,null,null,null,null,null,null,null,null,8,null,{"$f":"U12組合せ!$D17","v":"シャルムグランツＳＣ"},null,null,null,null,null,null,null,null,null,null,null,null,null,null,null,null,null,null,null,null,null,null,null,null,null,null,3,null,{"$f":"U12組合せ!$D12","v":"ＦＣみらい Ｖ"},null,null,null,null,null,null,null,null,null,null,null,8,null,{"$f":"U12組合せ!$D17","v":"シャルムグランツＳＣ"}]
[null,null,4,null,{"$f":"U12組合せ!$D13","v":"岡西ＦＣ"},null,null,null,null,null,null,null,null,null,null,null,9,null,{"$f":"U12組合せ!$D18","v":"カテット白沢ＳＳ"},null,null,null,null,null,null,null,null,null,null,null,null,null,null,null,null,null,null,null,null,null,null,null,null,null,null,4,null,{"$f":"U12組合せ!$D13","v":"岡西ＦＣ"},null,null,null,null,null,null,null,null,null,null,null,9,null,{"$f":"U12組合せ!$D18","v":"カテット白沢ＳＳ"}]
[null,null,5,null,{"$f":"U12組合せ!$D14","v":"ＦＣグランディール宇都宮"},null,null,null,null,null,null,null,null,null,null,null,10,null,{"$f":"U12組合せ!$D19","v":"ＦＣアリーバ"},null,null,null,null,null,null,null,null,null,null,null,null,null,null,null,null,null,null,null,null,null,null,null,null,null,null,5,null,{"$f":"U12組合せ!$D14","v":"ＦＣグランディール宇都宮"},null,null,null,null,null,null,null,null,null,null,null,10,null,{"$f":"U12組合せ!$D19","v":"ＦＣアリーバ"}]
[]
[null,"【試合時間：２０分-５分-２０分】",null,null,null,null,null,null,null,null,null,null,null,null,null,null,null,null,null,null,null,null,null,null,null,null,null,null,null,null,null,null,null,null,null,null,null,null,null,null,null,null,null,null,"【試合時間：２０分-５分-２０分】"]
[null,null,"試合開始",null,null,"監督サイン",null,null,null,"チーム名",null,null,null,null,null,null,"得点",null,null,null,null,null,null,"チーム名",null,null,null,null,null,null,"監督サイン",null,null,null,"主審／副審／副審／４審",null,null,null,null,null,null,null,null,null,null,"試合開始",null,null,"監督サイン",null,null,null,"チーム名",null,null,null,null,null,null,"得点",null,null,null,null,null,null,"チーム名",null,null,null,null,null,null,"監督サイン",null,null,null,"主審／副審／副審／４審"]
[null,1,"09:00:00",null,null,null,null,null,null,{"$f":"E37","v":"細谷ＳＣ"},null,null,null,null,null,null,{"$f":"IF(OR(S44=\"\",S45=\"\"),\"\",S44+S45)","v":13},null,7,"－",1,{"$f":"IF(OR(U44=\"\",U45=\"\"),\"\",U44+U45)","v":1},null,{"$f":"E39","v":"岡西ＦＣ"},null,null,null,null,null,null,null,null,null,null,{"$f":"DBCS(INDIRECT(\"U12対戦スケジュール!C\"&(ROW()/2+8)))","v":"８／１０／１０／８"},null,null,null,null,null,null,null,null,null,1,"09:00:00",null,null,null,null,null,null,{"$f":"AV40","v":"ＦＣグランディール宇都宮"},null,null,null,null,null,null,{"$f":"IF(OR(BJ44=\"\",BJ45=\"\"),\"\",BJ44+BJ45)","v":2},null,0,"－",0,{"$f":"IF(OR(BL44=\"\",BL45=\"\"),\"\",BL44+BL45)","v":0},null,{"$f":"BJ37","v":"岡本ＦＣ"},null,null,null,null,null,null,null,null,null,null,{"$f":"DBCS(INDIRECT(\"U12対戦スケジュール!e\"&(ROW()/2+8)))","v":"１／３／３／１"}]
[null,null,null,null,null,null,null,null,null,null,null,null,null,null,null,null,null,null,6,"－",0,null,null,null,null,null,null,null,null,null,null,null,null,null,null,null,null,null,null,null,null,null,null,null,null,null,null,null,null,null,null,null,null,null,null,null,null,null,null,null,null,2,"－",0]
[null,2,"09:50:00","10:30:00",null,null,null,null,null,{"$f":"S38","v":"シャルムグランツＳＣ"},null,null,null,null,null,null,{"$f":"IF(OR(S46=\"\",S47=\"\"),\"\",S46+S47)","v":0},null,0,"－",3,{"$f":"IF(OR(U46=\"\",U47=\"\"),\"\",U46+U47)","v":4},null,{"$f":"S40","v":"ＦＣアリーバ"},null,null,null,null,null,null,null,null,null,null,{"$f":"DBCS(INDIRECT(\"U12対戦スケジュール!C\"&(ROW()/2+8)))","v":"４／６／６／４"},null,null,null,null,null,null,null,null,null,2,"09:50:00","10:30:00",null,null,null,null,null,{"$f":"AV36","v":"石井ＦＣ"},null,null,null,null,null,null,{"$f":"IF(OR(BJ46=\"\",BJ47=\"\"),\"\",BJ46+BJ47)","v":7},null,6,"－",0,{"$f":"IF(OR(BL46=\"\",BL47=\"\"),\"\",BL46+BL47)","v":0},null,{"$f":"AV38","v":"ＦＣみらい Ｖ"},null,null,null,null,null,null,null,null,null,null,{"$f":"DBCS(INDIRECT(\"U12対戦スケジュール!e\"&(ROW()/2+8)))","v":"７／９／９／７"}]
[null,null,null,null,null,null,null,null,null,null,null,null,null,null,null,null,null,null,0,"－",1,null,null,null,null,null,null,null,null,null,null,null,null,null,null,null,null,null,null,null,null,null,null,null,null,null,null,null,null,null,null,null,null,null,null,null,null,null,null,null,null,1,"－",0]
[null,3,"10:40:00",null,null,null,null,null,null,{"$f":"E39","v":"岡西ＦＣ"},null,null,null,null,null,null,{"$f":"IF(OR(S48=\"\",S49=\"\"),\"\",S48+S49)","v":0},null,0,"－",3,{"$f":"IF(OR(U48=\"\",U49=\"\"),\"\",U48+U49)","v":8},null,{"$f":"S36","v":"ＦＣグラシアス"},null,null,null,null,null,null,null,null,null,null,{"$f":"DBCS(INDIRECT(\"U12対戦スケジュール!C\"&(ROW()/2+8)))","v":"１０／２／２／１０"},null,null,null,null,null,null,null,null,null,3,"10:40:00",null,null,null,null,null,null,{"$f":"BJ37","v":"岡本ＦＣ"},null,null,null,null,null,null,{"$f":"IF(OR(BJ48=\"\",BJ49=\"\"),\"\",BJ48+BJ49)","v":0},null,0,"－",5,{"$f":"IF(OR(BL48=\"\",BL49=\"\"),\"\",BL48+BL49)","v":5},null,{"$f":"BJ39","v":"カテット白沢ＳＳ"},null,null,null,null,null,null,null,null,null,null,{"$f":"DBCS(INDIRECT(\"U12対戦スケジュール!e\"&(ROW()/2+8)))","v":"３／５／５／３"}]
[null,null,null,null,null,null,null,null,null,null,null,null,null,null,null,null,null,null,0,"－",5,null,null,null,null,null,null,null,null,null,null,null,null,null,null,null,null,null,null,null,null,null,null,null,null,null,null,null,null,null,null,null,null,null,null,null,null,null,null,null,null,0,"－",0]
[null,4,"11:30:00","10:30:00",null,null,null,null,null,{"$f":"S40","v":"ＦＣアリーバ"},null,null,null,null,null,null,{"$f":"IF(OR(S50=\"\",S51=\"\"),\"\",S50+S51)","v":0},null,0,"－",1,{"$f":"IF(OR(U50=\"\",U51=\"\"),\"\",U50+U51)","v":3},null,{"$f":"E37","v":"細谷ＳＣ"},null,null,null,null,null,null,null,null,null,null,{"$f":"DBCS(INDIRECT(\"U12対戦スケジュール!C\"&(ROW()/2+8)))","v":"６／８／８／６"},null,null,null,null,null,null,null,null,null,4,"11:30:00","10:30:00",null,null,null,null,null,{"$f":"AV38","v":"ＦＣみらい Ｖ"},null,null,null,null,null,null,{"$f":"IF(OR(BJ50=\"\",BJ51=\"\"),\"\",BJ50+BJ51)","v":0},null,0,"－",2,{"$f":"IF(OR(BL50=\"\",BL51=\"\"),\"\",BL50+BL51)","v":5},null,{"$f":"AV40","v":"ＦＣグランディール宇都宮"},null,null,null,null,null,null,null,null,null,null,{"$f":"DBCS(INDIRECT(\"U12対戦スケジュール!e\"&(ROW()/2+8)))","v":"９／１／１／９"}]
[null,null,null,null,null,null,null,null,null,null,null,null,null,null,null,null,null,null,0,"－",2,null,null,null,null,null,null,null,null,null,null,null,null,null,null,null,null,null,null,null,null,null,null,null,null,null,null,null,null,null,null,null,null,null,null,null,null,null,null,null,null,0,"－",3]
[null,5,"12:20:00",null,null,null,null,null,null,{"$f":"S36","v":"ＦＣグラシアス"},null,null,null,null,null,null,{"$f":"IF(OR(S52=\"\",S53=\"\"),\"\",S52+S53)","v":4},null,2,"－",1,{"$f":"IF(OR(U52=\"\",U53=\"\"),\"\",U52+U53)","v":2},null,{"$f":"S38","v":"シャルムグランツＳＣ"},null,null,null,null,null,null,null,null,null,null,{"$f":"DBCS(INDIRECT(\"U12対戦スケジュール!C\"&(ROW()/2+8)))","v":"２／４／４／２"},null,null,null,null,null,null,null,null,null,5,"12:20:00",null,null,null,null,null,null,{"$f":"BJ39","v":"カテット白沢ＳＳ"},null,null,null,null,null,null,{"$f":"IF(OR(BJ52=\"\",BJ53=\"\"),\"\",BJ52+BJ53)","v":0},null,0,"－",1,{"$f":"IF(OR(BL52=\"\",BL53=\"\"),\"\",BL52+BL53)","v":2},null,{"$f":"AV36","v":"石井ＦＣ"},null,null,null,null,null,null,null,null,null,null,{"$f":"DBCS(INDIRECT(\"U12対戦スケジュール!e\"&(ROW()/2+8)))","v":"５／７／７／５"}]
[null,null,null,null,null,null,null,null,null,null,null,null,null,null,null,null,null,null,2,"－",1,null,null,null,null,null,null,null,null,null,null,null,null,null,null,null,null,null,null,null,null,null,null,null,null,null,null,null,null,null,null,null,null,null,null,null,null,null,null,null,null,0,"－",1]
[null,6,"13:10:00","10:30:00",null,null,null,null,null,null,null,null,null,null,null,null,{"$f":"IF(OR(S54=\"\",S55=\"\"),\"\",S54+S55)","v":""},null,null,"－",null,{"$f":"IF(OR(U54=\"\",U55=\"\"),\"\",U54+U55)","v":""},null,null,null,null,null,null,null,null,null,null,null,null,null,null,null,null,null,null,null,null,null,null,6,"13:10:00","10:30:00",null,null,null,null,null,null,null,null,null,null,null,null,{"$f":"IF(OR(BJ54=\"\",BJ55=\"\"),\"\",BJ54+BJ55)","v":""},null,null,"－",null,{"$f":"IF(OR(BL54=\"\",BL55=\"\"),\"\",BL54+BL55)","v":""}]
[null,null,null,null,null,null,null,null,null,null,null,null,null,null,null,null,null,null,null,"－",null,null,null,null,null,null,null,null,null,null,null,null,null,null,null,null,null,null,null,null,null,null,null,null,null,null,null,null,null,null,null,null,null,null,null,null,null,null,null,null,null,null,"－"]
[null,7,"14:00:00","10:30:00",null,null,null,null,null,null,null,null,null,null,null,null,{"$f":"IF(OR(S56=\"\",S57=\"\"),\"\",S56+S57)","v":""},null,null,"－",null,{"$f":"IF(OR(U56=\"\",U57=\"\"),\"\",U56+U57)","v":""},null,null,null,null,null,null,null,null,null,null,null,null,null,null,null,null,null,null,null,null,null,null,7,"14:00:00","10:30:00",null,null,null,null,null,null,null,null,null,null,null,null,{"$f":"IF(OR(BJ56=\"\",BJ57=\"\"),\"\",BJ56+BJ57)","v":""},null,null,"－",null,{"$f":"IF(OR(BL56=\"\",BL57=\"\"),\"\",BL56+BL57)","v":""}]
[null,null,null,null,null,null,null,null,null,null,null,null,null,null,null,null,null,null,null,"－",null,null,null,null,null,null,null,null,null,null,null,null,null,null,null,null,null,null,null,null,null,null,null,null,null,null,null,null,null,null,null,null,null,null,null,null,null,null,null,null,null,null,"－"]
[]
[null,null,null,"警告／退場",null,null,null,null,null,"チーム名",null,null,null,null,null,null,null,"氏名",null,null,null,null,null,null,null,null,"番号",null,null,"理由",null,null,null,null,null,null,null,null,null,null,null,null,null,null,null,null,"警告／退場",null,null,null,null,null,"チーム名",null,null,null,null,null,null,null,"氏名",null,null,null,null,null,null,null,null,"番号",null,null,"理由"]
[null,null,null,"警告　　退場",null,null,null,null,null,null,null,null,null,null,null,null,null,null,null,null,null,null,null,null,null,null,null,null,null,null,null,null,null,null,null,null,null,null,null,null,null,null,null,null,null,null,"警告　　退場"]
[null,null,null,"警告　　退場",null,null,null,null,null,null,null,null,null,null,null,null,null,null,null,null,null,null,null,null,null,null,null,null,null,null,null,null,null,null,null,null,null,null,null,null,null,null,null,null,null,null,"警告　　退場"]
[null,null,null,"警告　　退場",null,null,null,null,null,null,null,null,null,null,null,null,null,null,null,null,null,null,null,null,null,null,null,null,null,null,null,null,null,null,null,null,null,null,null,null,null,null,null,null,null,null,"警告　　退場"]
["ＪＦＡ　U-12サッカーリーグ2018（in栃木） 宇河地域リーグ戦（後期）　　　　Ａブロック",null,null,null,null,null,null,null,null,null,null,null,null,null,null,null,null,null,null,null,null,null,null,null,null,null,null,null,null,null,null,null,null,null,null,null,null,null,null,null,null,null,null,"ＪＦＡ　U-12サッカーリーグ2018（in栃木） 宇河地域リーグ戦（後期）　　　　Ａ・Ｂブロック"]
[]
[null,null,"会場",null,null,null,{"$f":"U12対戦スケジュール!B49","v":"白沢Ａ"},null,null,null,null,null,null,null,null,"会場担当",null,null,null,{"$f":"U12対戦スケジュール!B50","v":"細谷ＳＣ"},null,null,null,null,null,null,null,null,"開催日",null,null,null,"2018-09-09",null,null,null,null,null,null,null,null,null,null,"B",null,"会場",null,null,null,{"$f":"U12対戦スケジュール!D49","v":"白沢Ｂ"},null,null,null,null,null,null,null,null,"会場担当",null,null,null,{"$f":"U12対戦スケジュール!D50","v":"ＦＣグランディール宇都宮"},null,null,null,null,null,null,null,null,"開催日",null,null,null,"2018-09-09"]
[]
[null,null,1,null,{"$f":"U12組合せ!$D10","v":"石井ＦＣ"},null,null,null,null,null,null,null,null,null,null,null,6,null,{"$f":"U12組合せ!$D15","v":"ＦＣグラシアス"},null,null,null,null,null,null,null,null,null,null,null,null,null,null,null,null,null,null,null,null,null,null,null,null,null,null,1,null,{"$f":"U12組合せ!$D10","v":"石井ＦＣ"},null,null,null,null,null,null,null,null,null,null,null,6,null,{"$f":"U12組合せ!$D15","v":"ＦＣグラシアス"},null,null,null,null,null,null,null,null,null,null,null,"B3",null,{"$f":"U12組合せ!F12","v":"ｕｎｉｏｎ ｓｃ"}]
[null,null,2,null,{"$f":"U12組合せ!$D11","v":"細谷ＳＣ"},null,null,null,null,null,null,null,null,null,null,null,7,null,{"$f":"U12組合せ!$D16","v":"岡本ＦＣ"},null,null,null,null,null,null,null,null,null,null,null,null,null,null,null,null,null,null,null,null,null,null,null,null,null,null,2,null,{"$f":"U12組合せ!$D11","v":"細谷ＳＣ"},null,null,null,null,null,null,null,null,null,null,null,7,null,{"$f":"U12組合せ!$D16","v":"岡本ＦＣ"},null,null,null,null,null,null,null,null,null,null,null,"B4",null,{"$f":"U12組合せ!F13","v":"河内ＳＣジュベニール"}]
[null,null,3,null,{"$f":"U12組合せ!$D12","v":"ＦＣみらい Ｖ"},null,null,null,null,null,null,null,null,null,null,null,8,null,{"$f":"U12組合せ!$D17","v":"シャルムグランツＳＣ"},null,null,null,null,null,null,null,null,null,null,null,null,null,null,null,null,null,null,null,null,null,null,null,null,null,null,3,null,{"$f":"U12組合せ!$D12","v":"ＦＣみらい Ｖ"},null,null,null,null,null,null,null,null,null,null,null,8,null,{"$f":"U12組合せ!$D17","v":"シャルムグランツＳＣ"},null,null,null,null,null,null,null,null,null,null,null,"B8",null,{"$f":"U12組合せ!F17","v":"富士見ＳＳＳ"}]
[null,null,4,null,{"$f":"U12組合せ!$D13","v":"岡西ＦＣ"},null,null,null,null,null,null,null,null,null,null,null,9,null,{"$f":"U12組合せ!$D18","v":"カテット白沢ＳＳ"},null,null,null,null,null,null,null,null,null,null,null,null,null,null,null,null,null,null,null,null,null,null,null,null,null,null,4,null,{"$f":"U12組合せ!$D13","v":"岡西ＦＣ"},null,null,null,null,null,null,null,null,null,null,null,9,null,{"$f":"U12組合せ!$D18","v":"カテット白沢ＳＳ"}]
[null,null,5,null,{"$f":"U12組合せ!$D14","v":"ＦＣグランディール宇都宮"},null,null,null,null,null,null,null,null,null,null,null,10,null,{"$f":"U12組合せ!$D19","v":"ＦＣアリーバ"},null,null,null,null,null,null,null,null,null,null,null,null,null,null,null,null,null,null,null,null,null,null,null,null,null,null,5,null,{"$f":"U12組合せ!$D14","v":"ＦＣグランディール宇都宮"},null,null,null,null,null,null,null,null,null,null,null,10,null,{"$f":"U12組合せ!$D19","v":"ＦＣアリーバ"}]
[]
[null,"【試合時間：２０分-５分-２０分】",null,null,null,null,null,null,null,null,null,null,null,null,null,null,null,null,null,null,null,null,null,null,null,null,null,null,null,null,null,null,null,null,null,null,null,null,null,null,null,null,null,null,"【試合時間：２０分-５分-２０分】"]
[null,null,"試合開始",null,null,"監督サイン",null,null,null,"チーム名",null,null,null,null,null,null,"得点",null,null,null,null,null,null,"チーム名",null,null,null,null,null,null,"監督サイン",null,null,null,"主審／副審／副審／４審",null,null,null,null,null,null,null,null,null,null,"試合開始",null,null,"監督サイン",null,null,null,"チーム名",null,null,null,null,null,null,"得点",null,null,null,null,null,null,"チーム名",null,null,null,null,null,null,"監督サイン",null,null,null,"主審／副審／副審／４審"]
[null,1,"09:00:00",null,null,null,null,null,null,{"$f":"E68","v":"細谷ＳＣ"},null,null,null,null,null,null,{"$f":"IF(OR(S75=\"\",S76=\"\"),\"\",S75+S76)","v":6},null,2,"－",0,{"$f":"IF(OR(U75=\"\",U76=\"\"),\"\",U75+U76)","v":1},null,{"$f":"E71","v":"ＦＣグランディール宇都宮"},null,null,null,null,null,null,null,null,null,null,{"$f":"DBCS(INDIRECT(\"U12対戦スケジュール!C\"&(ROW()-1)/2+14))","v":"１０／３／３／１０"},null,null,null,null,null,null,null,null,null,1,"09:00:00",null,null,null,null,null,null,{"$f":"BJ67","v":"ＦＣグラシアス"},null,null,null,null,null,null,{"$f":"IF(OR(BJ75=\"\",BJ76=\"\"),\"\",BJ75+BJ76)","v":1},null,0,"－",3,{"$f":"IF(OR(BL75=\"\",BL76=\"\"),\"\",BL75+BL76)","v":5},null,{"$f":"BJ70","v":"カテット白沢ＳＳ"},null,null,null,null,null,null,null,null,null,null,{"$f":"DBCS(INDIRECT(\"U12対戦スケジュール!e\"&(ROW()-1)/2+14))","v":"Ｂ４／Ｂ８／Ｂ８／Ｂ４"}]
[null,null,null,null,null,null,null,null,null,null,null,null,null,null,null,null,null,null,4,"－",1,null,null,null,null,null,null,null,null,null,null,null,null,null,null,null,null,null,null,null,null,null,null,null,null,null,null,null,null,null,null,null,null,null,null,null,null,null,null,null,null,1,"－",2]
[null,2,"09:50:00","10:30:00",null,null,null,null,null,{"$f":"S71","v":"ＦＣアリーバ"},null,null,null,null,null,null,{"$f":"IF(OR(S77=\"\",S78=\"\"),\"\",S77+S78)","v":5},null,2,"－",0,{"$f":"IF(OR(U77=\"\",U78=\"\"),\"\",U77+U78)","v":0},null,{"$f":"E69","v":"ＦＣみらい Ｖ"},null,null,null,null,null,null,null,null,null,null,{"$f":"DBCS(INDIRECT(\"U12対戦スケジュール!C\"&(ROW()-1)/2+14))","v":"２／５／５／２"},null,null,null,null,null,null,null,null,null,2,"09:50:00","10:30:00",null,null,null,null,null,{"$f":"BX68","v":"河内ＳＣジュベニール"},null,null,null,null,null,null,{"$f":"IF(OR(BJ77=\"\",BJ78=\"\"),\"\",BJ77+BJ78)","v":0},null,0,"－",0,{"$f":"IF(OR(BL77=\"\",BL78=\"\"),\"\",BL77+BL78)","v":0},null,{"$f":"BX69","v":"富士見ＳＳＳ"},null,null,null,null,null,null,null,null,null,null,{"$f":"DBCS(INDIRECT(\"U12対戦スケジュール!e\"&(ROW()-1)/2+14))","v":"Ａ６／Ａ９／Ａ９／Ａ６"}]
[null,null,null,null,null,null,null,null,null,null,null,null,null,null,null,null,null,null,3,"－",0,null,null,null,null,null,null,null,null,null,null,null,null,null,null,null,null,null,null,null,null,null,null,null,null,null,null,null,null,null,null,null,null,null,null,null,null,null,null,null,null,0,"－",0]
[null,3,"10:40:00",null,null,null,null,null,null,{"$f":"E70","v":"岡西ＦＣ"},null,null,null,null,null,null,{"$f":"IF(OR(S79=\"\",S80=\"\"),\"\",S79+S80)","v":2},null,1,"－",2,{"$f":"IF(OR(U79=\"\",U80=\"\"),\"\",U79+U80)","v":2},null,{"$f":"S68","v":"岡本ＦＣ"},null,null,null,null,null,null,null,null,null,null,{"$f":"DBCS(INDIRECT(\"U12対戦スケジュール!C\"&(ROW()-1)/2+14))","v":"９／２／２／９"},null,null,null,null,null,null,null,null,null,3,"10:40:00",null,null,null,null,null,null,{"$f":"BJ69","v":"シャルムグランツＳＣ"},null,null,null,null,null,null,{"$f":"IF(OR(BJ79=\"\",BJ80=\"\"),\"\",BJ79+BJ80)","v":2},null,0,"－",3,{"$f":"IF(OR(BL79=\"\",BL80=\"\"),\"\",BL79+BL80)","v":4},null,{"$f":"AV67","v":"石井ＦＣ"},null,null,null,null,null,null,null,null,null,null,{"$f":"DBCS(INDIRECT(\"U12対戦スケジュール!e\"&(ROW()-1)/2+14))","v":"Ｂ３／Ｂ４／Ｂ４／Ｂ３"}]
[null,null,null,null,null,null,null,null,null,null,null,null,null,null,null,null,null,null,1,"－",0,null,null,null,null,null,null,null,null,null,null,null,null,null,null,null,null,null,null,null,null,null,null,null,null,null,null,null,null,null,null,null,null,null,null,null,null,null,null,null,null,2,"－",1]
[null,4,"11:30:00","10:30:00",null,null,null,null,null,{"$f":"S70","v":"カテット白沢ＳＳ"},null,null,null,null,null,null,{"$f":"IF(OR(S81=\"\",S82=\"\"),\"\",S81+S82)","v":3},null,1,"－",1,{"$f":"IF(OR(U81=\"\",U82=\"\"),\"\",U81+U82)","v":1},null,{"$f":"E68","v":"細谷ＳＣ"},null,null,null,null,null,null,null,null,null,null,{"$f":"DBCS(INDIRECT(\"U12対戦スケジュール!C\"&(ROW()-1)/2+14))","v":"４／７／７／４"},null,null,null,null,null,null,null,null,null,4,"11:30:00","10:30:00",null,null,null,null,null,{"$f":"BX67","v":"ｕｎｉｏｎ ｓｃ"},null,null,null,null,null,null,{"$f":"IF(OR(BJ81=\"\",BJ82=\"\"),\"\",BJ81+BJ82)","v":3},null,3,"－",0,{"$f":"IF(OR(BL81=\"\",BL82=\"\"),\"\",BL81+BL82)","v":1},null,{"$f":"BX68","v":"河内ＳＣジュベニール"},null,null,null,null,null,null,null,null,null,null,{"$f":"DBCS(INDIRECT(\"U12対戦スケジュール!e\"&(ROW()-1)/2+14))","v":"Ａ８／Ａ１／Ａ１／Ａ８"}]
[null,null,null,null,null,null,null,null,null,null,null,null,null,null,null,null,null,null,2,"－",0,null,null,null,null,null,null,null,null,null,null,null,null,null,null,null,null,null,null,null,null,null,null,null,null,null,null,null,null,null,null,null,null,null,null,null,null,null,null,null,null,0,"－",1]
[null,5,"12:20:00",null,null,null,null,null,null,{"$f":"S68","v":"岡本ＦＣ"},null,null,null,null,null,null,{"$f":"IF(OR(S83=\"\",S84=\"\"),\"\",S83+S84)","v":1},null,1,"－",3,{"$f":"IF(OR(U83=\"\",U84=\"\"),\"\",U83+U84)","v":3},null,{"$f":"S71","v":"ＦＣアリーバ"},null,null,null,null,null,null,null,null,null,null,{"$f":"DBCS(INDIRECT(\"U12対戦スケジュール!C\"&(ROW()-1)/2+14))","v":"３／６／６／３"},null,null,null,null,null,null,null,null,null,5,"12:20:00",null,null,null,null,null,null,{"$f":"AV71","v":"ＦＣグランディール宇都宮"},null,null,null,null,null,null,{"$f":"IF(OR(BJ83=\"\",BJ84=\"\"),\"\",BJ83+BJ84)","v":1},null,0,"－",0,{"$f":"IF(OR(BL83=\"\",BL84=\"\"),\"\",BL83+BL84)","v":0},null,{"$f":"BJ69","v":"シャルムグランツＳＣ"},null,null,null,null,null,null,null,null,null,null,{"$f":"DBCS(INDIRECT(\"U12対戦スケジュール!e\"&(ROW()-1)/2+14))","v":"Ｂ８／Ｂ３／Ｂ３／Ｂ８"}]
[null,null,null,null,null,null,null,null,null,null,null,null,null,null,null,null,null,null,0,"－",0,null,null,null,null,null,null,null,null,null,null,null,null,null,null,null,null,null,null,null,null,null,null,null,null,null,null,null,null,null,null,null,null,null,null,null,null,null,null,null,null,1,"－",0]
[null,6,"13:10:00","10:30:00",null,null,null,null,null,{"$f":"E69","v":"ＦＣみらい Ｖ"},null,null,null,null,null,null,{"$f":"IF(OR(S85=\"\",S86=\"\"),\"\",S85+S86)","v":0},null,0,"－",4,{"$f":"IF(OR(U85=\"\",U86=\"\"),\"\",U85+U86)","v":8},null,{"$f":"S67","v":"ＦＣグラシアス"},null,null,null,null,null,null,null,null,null,null,{"$f":"DBCS(INDIRECT(\"U12対戦スケジュール!C\"&(ROW()-1)/2+14))","v":"１／４／４／１"},null,null,null,null,null,null,null,null,null,6,"13:10:00","10:30:00",null,null,null,null,null,{"$f":"BX69","v":"富士見ＳＳＳ"},null,null,null,null,null,null,{"$f":"IF(OR(BJ85=\"\",BJ86=\"\"),\"\",BJ85+BJ86)","v":0},null,0,"－",0,{"$f":"IF(OR(BL85=\"\",BL86=\"\"),\"\",BL85+BL86)","v":4},null,{"$f":"BX67","v":"ｕｎｉｏｎ ｓｃ"},null,null,null,null,null,null,null,null,null,null,{"$f":"DBCS(INDIRECT(\"U12対戦スケジュール!e\"&(ROW()-1)/2+14))","v":"Ａ５／Ａ８／Ａ８／Ａ５"}]
[null,null,null,null,null,null,null,null,null,null,null,null,null,null,null,null,null,null,0,"－",4,null,null,null,null,null,null,null,null,null,null,null,null,null,null,null,null,null,null,null,null,null,null,null,null,null,null,null,null,null,null,null,null,null,null,null,null,null,null,null,null,0,"－",4]
[null,7,"14:00:00","10:30:00",null,null,null,null,null,{"$f":"E67","v":"石井ＦＣ"},null,null,null,null,null,null,{"$f":"IF(OR(S87=\"\",S88=\"\"),\"\",S87+S88)","v":10},null,7,"－",0,{"$f":"IF(OR(U87=\"\",U88=\"\"),\"\",U87+U88)","v":0},null,{"$f":"E70","v":"岡西ＦＣ"},null,null,null,null,null,null,null,null,null,null,{"$f":"DBCS(INDIRECT(\"U12対戦スケジュール!C\"&(ROW()-1)/2+14))","v":"７／１０／１０／７"},null,null,null,null,null,null,null,null,null,7,"14:00:00","10:30:00",null,null,null,null,null,null,null,null,null,null,null,null,{"$f":"IF(OR(BJ87=\"\",BJ88=\"\"),\"\",BJ87+BJ88)","v":""},null,null,"－",null,{"$f":"IF(OR(BL87=\"\",BL88=\"\"),\"\",BL87+BL88)","v":""},null,null,null,null,null,null,null,null,null,null,null,null,{"$f":"DBCS(INDIRECT(\"U12対戦スケジュール!e\"&(ROW()-1)/2+14))","v":""}]
[null,null,null,null,null,null,null,null,null,null,null,null,null,null,null,null,null,null,3,"－",0,null,null,null,null,null,null,null,null,null,null,null,null,null,null,null,null,null,null,null,null,null,null,null,null,null,null,null,null,null,null,null,null,null,null,null,null,null,null,null,null,null,"－"]
[]
[null,null,null,"警告／退場",null,null,null,null,null,"チーム名",null,null,null,null,null,null,null,"氏名",null,null,null,null,null,null,null,null,"番号",null,null,"理由",null,null,null,null,null,null,null,null,null,null,null,null,null,null,null,null,"警告／退場",null,null,null,null,null,"チーム名",null,null,null,null,null,null,null,"氏名",null,null,null,null,null,null,null,null,"番号",null,null,"理由"]
[null,null,null,"警告　　退場",null,null,null,null,null,{"$f":"E71","v":"ＦＣグランディール宇都宮"},null,null,null,null,null,null,null,"西坂　知紋",null,null,null,null,null,null,null,null,4,null,null,"ＧＫのﾊﾟﾝﾄｷｯｸの前に立ち遅らせた",null,null,null,null,null,null,null,null,null,null,null,null,null,null,null,null,"警告　　退場"]
[null,null,null,"警告　　退場",null,null,null,null,null,{"$f":"S68","v":"岡本ＦＣ"},null,null,null,null,null,null,null,"石川　真士",null,null,null,null,null,null,null,null,11,null,null,"相手に対しての肘打ち",null,null,null,null,null,null,null,null,null,null,null,null,null,null,null,null,"警告　　退場"]
[null,null,null,"警告　　退場",null,null,null,null,null,{"$f":"S70","v":"カテット白沢ＳＳ"},null,null,null,null,null,null,null,"辻元　陽",null,null,null,null,null,null,null,null,33,null,null,"故意のハンドリング",null,null,null,null,null,null,null,null,null,null,null,null,null,null,null,null,"警告　　退場"]
["ＪＦＡ　U-12サッカーリーグ2018（in栃木） 宇河地域リーグ戦（後期）　　　　Ａブロック",null,null,null,null,null,null,null,null,null,null,null,null,null,null,null,null,null,null,null,null,null,null,null,null,null,null,null,null,null,null,null,null,null,null,null,null,null,null,null,null,null,null,"ＪＦＡ　U-12サッカーリーグ2018（in栃木） 宇河地域リーグ戦（後期）　　　　Ａ・Ｂブロック"]
[]
[null,null,"会場",null,null,null,{"$f":"U12対戦スケジュール!B72","v":"白沢Ａ"},null,null,null,null,null,null,null,null,"会場担当",null,null,null,{"$f":"U12対戦スケジュール!B73","v":"岡本ＦＣ"},null,null,null,null,null,null,null,null,"開催日",null,null,null,"2018-09-16",null,null,null,null,null,null,null,null,null,null,null,null,"会場",null,null,null,{"$f":"U12対戦スケジュール!D72","v":"白沢Ｂ"},null,null,null,null,null,null,null,null,"会場担当",null,null,null,{"$f":"U12対戦スケジュール!D73","v":"ＦＣみらいＶ"},null,null,null,null,null,null,null,null,"開催日",null,null,null,"2018-09-16"]
[]
[null,null,1,null,{"$f":"U12組合せ!$D10","v":"石井ＦＣ"},null,null,null,null,null,null,null,null,null,null,null,6,null,{"$f":"U12組合せ!$D15","v":"ＦＣグラシアス"},null,null,null,null,null,null,null,null,null,null,null,null,null,null,null,null,null,null,null,null,null,null,null,null,null,null,1,null,{"$f":"U12組合せ!$D10","v":"石井ＦＣ"},null,null,null,null,null,null,null,null,null,null,null,6,null,{"$f":"U12組合せ!$D15","v":"ＦＣグラシアス"},null,null,null,null,null,null,null,null,null,null,null,"B3",null,{"$f":"U12組合せ!F12","v":"ｕｎｉｏｎ ｓｃ"}]
[null,null,2,null,{"$f":"U12組合せ!$D11","v":"細谷ＳＣ"},null,null,null,null,null,null,null,null,null,null,null,7,null,{"$f":"U12組合せ!$D16","v":"岡本ＦＣ"},null,null,null,null,null,null,null,null,null,null,null,null,null,null,null,null,null,null,null,null,null,null,null,null,null,null,2,null,{"$f":"U12組合せ!$D11","v":"細谷ＳＣ"},null,null,null,null,null,null,null,null,null,null,null,7,null,{"$f":"U12組合せ!$D16","v":"岡本ＦＣ"},null,null,null,null,null,null,null,null,null,null,null,"B5",null,{"$f":"U12組合せ!F14","v":"昭和・戸祭ＳＣ"}]
[null,null,3,null,{"$f":"U12組合せ!$D12","v":"ＦＣみらい Ｖ"},null,null,null,null,null,null,null,null,null,null,null,8,null,{"$f":"U12組合せ!$D17","v":"シャルムグランツＳＣ"},null,null,null,null,null,null,null,null,null,null,null,null,null,null,null,null,null,null,null,null,null,null,null,null,null,null,3,null,{"$f":"U12組合せ!$D12","v":"ＦＣみらい Ｖ"},null,null,null,null,null,null,null,null,null,null,null,8,null,{"$f":"U12組合せ!$D17","v":"シャルムグランツＳＣ"},null,null,null,null,null,null,null,null,null,null,null,"B7",null,{"$f":"U12組合せ!F16","v":"ＦＣ Ｒｉｓｏ"}]
[null,null,4,null,{"$f":"U12組合せ!$D13","v":"岡西ＦＣ"},null,null,null,null,null,null,null,null,null,null,null,9,null,{"$f":"U12組合せ!$D18","v":"カテット白沢ＳＳ"},null,null,null,null,null,null,null,null,null,null,null,null,null,null,null,null,null,null,null,null,null,null,null,null,null,null,4,null,{"$f":"U12組合せ!$D13","v":"岡西ＦＣ"},null,null,null,null,null,null,null,null,null,null,null,9,null,{"$f":"U12組合せ!$D18","v":"カテット白沢ＳＳ"}]
[null,null,5,null,{"$f":"U12組合せ!$D14","v":"ＦＣグランディール宇都宮"},null,null,null,null,null,null,null,null,null,null,null,10,null,{"$f":"U12組合せ!$D19","v":"ＦＣアリーバ"},null,null,null,null,null,null,null,null,null,null,null,null,null,null,null,null,null,null,null,null,null,null,null,null,null,null,5,null,{"$f":"U12組合せ!$D14","v":"ＦＣグランディール宇都宮"},null,null,null,null,null,null,null,null,null,null,null,10,null,{"$f":"U12組合せ!$D19","v":"ＦＣアリーバ"}]
[]
[null,"【試合時間：２０分-５分-２０分】",null,null,null,null,null,null,null,null,null,null,null,null,null,null,null,null,null,null,null,null,null,null,null,null,null,null,null,null,null,null,null,null,null,null,null,null,null,null,null,null,null,null,"【試合時間：２０分-５分-２０分】"]
[null,null,"試合開始",null,null,"監督サイン",null,null,null,"チーム名",null,null,null,null,null,null,"得点",null,null,null,null,null,null,"チーム名",null,null,null,null,null,null,"監督サイン",null,null,null,"主審／副審／副審／４審",null,null,null,null,null,null,null,null,null,null,"試合開始",null,null,"監督サイン",null,null,null,"チーム名",null,null,null,null,null,null,"得点",null,null,null,null,null,null,"チーム名",null,null,null,null,null,null,"監督サイン",null,null,null,"主審／副審／副審／４審"]
[null,1,"09:00:00",null,null,null,null,null,null,{"$f":"E99","v":"細谷ＳＣ"},null,null,null,null,null,null,{"$f":"IF(OR(S106=\"\",S107=\"\"),\"\",S106+S107)","v":2},null,0,"－",0,{"$f":"IF(OR(U106=\"\",U107=\"\"),\"\",U106+U107)","v":0},null,{"$f":"S98","v":"ＦＣグラシアス"},null,null,null,null,null,null,null,null,null,null,{"$f":"DBCS(INDIRECT(\"U12対戦スケジュール!ｃ\"&(ROW()/2+21)))","v":"４／１／１／４"},null,null,null,null,null,null,null,null,null,1,"09:00:00",null,null,null,null,null,null,{"$f":"AV100","v":"ＦＣみらい Ｖ"},null,null,null,null,null,null,{"$f":"IF(OR(BJ106=\"\",BJ107=\"\"),\"\",BJ106+BJ107)","v":0},null,0,"－",2,{"$f":"IF(OR(BL106=\"\",BL107=\"\"),\"\",BL106+BL107)","v":2},null,{"$f":"BJ99","v":"岡本ＦＣ"},null,null,null,null,null,null,null,null,null,null,{"$f":"DBCS(INDIRECT(\"U12対戦スケジュール!e\"&(ROW()/2+21)))","v":"Ｂ３／Ｂ５／Ｂ５／Ｂ３"}]
[null,null,null,null,null,null,null,null,null,null,null,null,null,null,null,null,null,null,2,"－",0,null,null,null,null,null,null,null,null,null,null,null,null,null,null,null,null,null,null,null,null,null,null,null,null,null,null,null,null,null,null,null,null,null,null,null,null,null,null,null,null,0,"－",0]
[null,2,"09:50:00","10:30:00",null,null,null,null,null,{"$f":"E101","v":"岡西ＦＣ"},null,null,null,null,null,null,{"$f":"IF(OR(S108=\"\",S109=\"\"),\"\",S108+S109)","v":""},null,null,"－",null,{"$f":"IF(OR(U108=\"\",U109=\"\"),\"\",U108+U109)","v":""},null,{"$f":"S100","v":"シャルムグランツＳＣ"},null,null,null,null,null,null,null,null,null,null,{"$f":"DBCS(INDIRECT(\"U12対戦スケジュール!ｃ\"&(ROW()/2+21)))","v":"２／６／６／２"},null,null,null,null,null,null,null,null,null,2,"09:50:00","10:30:00",null,null,null,null,null,{"$f":"BX98","v":"ｕｎｉｏｎ ｓｃ"},null,null,null,null,null,null,{"$f":"IF(OR(BJ108=\"\",BJ109=\"\"),\"\",BJ108+BJ109)","v":1},null,0,"－",1,{"$f":"IF(OR(BL108=\"\",BL109=\"\"),\"\",BL108+BL109)","v":2},null,{"$f":"BX99","v":"昭和・戸祭ＳＣ"},null,null,null,null,null,null,null,null,null,null,{"$f":"DBCS(INDIRECT(\"U12対戦スケジュール!e\"&(ROW()/2+21)))","v":"Ａ３／Ａ７／Ａ７／Ａ３"}]
[null,null,null,null,null,null,null,null,null,null,null,null,null,null,null,null,null,null,null,"－",null,null,null,null,null,null,null,null,null,null,null,null,null,null,null,null,null,null,null,null,null,null,null,null,null,null,null,null,null,null,null,null,null,null,null,null,null,null,null,null,null,1,"－",1]
[null,3,"10:40:00",null,null,null,null,null,null,{"$f":"S98","v":"ＦＣグラシアス"},null,null,null,null,null,null,{"$f":"IF(OR(S110=\"\",S111=\"\"),\"\",S110+S111)","v":2},null,1,"－",1,{"$f":"IF(OR(U110=\"\",U111=\"\"),\"\",U110+U111)","v":5},null,{"$f":"S102","v":"ＦＣアリーバ"},null,null,null,null,null,null,null,null,null,null,{"$f":"DBCS(INDIRECT(\"U12対戦スケジュール!ｃ\"&(ROW()/2+21)))","v":"７／１／１／７"},null,null,null,null,null,null,null,null,null,3,"10:40:00",null,null,null,null,null,null,{"$f":"AV102","v":"ＦＣグランディール宇都宮"},null,null,null,null,null,null,{"$f":"IF(OR(BJ110=\"\",BJ111=\"\"),\"\",BJ110+BJ111)","v":0},null,0,"－",2,{"$f":"IF(OR(BL110=\"\",BL111=\"\"),\"\",BL110+BL111)","v":3},null,{"$f":"BJ101","v":"カテット白沢ＳＳ"},null,null,null,null,null,null,null,null,null,null,{"$f":"DBCS(INDIRECT(\"U12対戦スケジュール!e\"&(ROW()/2+21)))","v":"Ｂ７／Ｂ３／Ｂ３／Ｂ７"}]
[null,null,null,null,null,null,null,null,null,null,null,null,null,null,null,null,null,null,1,"－",4,null,null,null,null,null,null,null,null,null,null,null,null,null,null,null,null,null,null,null,null,null,null,null,null,null,null,null,null,null,null,null,null,null,null,null,null,null,null,null,null,0,"－",1]
[null,4,"11:30:00","10:30:00",null,null,null,null,null,{"$f":"S99","v":"岡本ＦＣ"},null,null,null,null,null,null,{"$f":"IF(OR(S112=\"\",S113=\"\"),\"\",S112+S113)","v":0},null,0,"－",0,{"$f":"IF(OR(U112=\"\",U113=\"\"),\"\",U112+U113)","v":2},null,{"$f":"E98","v":"石井ＦＣ"},null,null,null,null,null,null,null,null,null,null,{"$f":"DBCS(INDIRECT(\"U12対戦スケジュール!ｃ\"&(ROW()/2+21)))","v":"６／１０／１０／６"},null,null,null,null,null,null,null,null,null,4,"11:30:00","10:30:00",null,null,null,null,null,{"$f":"BX100","v":"ＦＣ Ｒｉｓｏ"},null,null,null,null,null,null,{"$f":"IF(OR(BJ112=\"\",BJ113=\"\"),\"\",BJ112+BJ113)","v":3},null,2,"－",0,{"$f":"IF(OR(BL112=\"\",BL113=\"\"),\"\",BL112+BL113)","v":0},null,{"$f":"BX98","v":"ｕｎｉｏｎ ｓｃ"},null,null,null,null,null,null,null,null,null,null,{"$f":"DBCS(INDIRECT(\"U12対戦スケジュール!e\"&(ROW()/2+21)))","v":"Ａ５／Ａ９／Ａ９／Ａ５"}]
[null,null,null,null,null,null,null,null,null,null,null,null,null,null,null,null,null,null,0,"－",2,null,null,null,null,null,null,null,null,null,null,null,null,null,null,null,null,null,null,null,null,null,null,null,null,null,null,null,null,null,null,null,null,null,null,null,null,null,null,null,null,1,"－",0]
[null,5,"12:20:00",null,null,null,null,null,null,{"$f":"S100","v":"シャルムグランツＳＣ"},null,null,null,null,null,null,{"$f":"IF(OR(S114=\"\",S115=\"\"),\"\",S114+S115)","v":""},null,null,"－",null,{"$f":"IF(OR(U114=\"\",U115=\"\"),\"\",U114+U115)","v":""},null,{"$f":"E99","v":"細谷ＳＣ"},null,null,null,null,null,null,null,null,null,null,{"$f":"DBCS(INDIRECT(\"U12対戦スケジュール!ｃ\"&(ROW()/2+21)))","v":"１０／４／４／１０"},null,null,null,null,null,null,null,null,null,5,"12:20:00",null,null,null,null,null,null,{"$f":"BJ101","v":"カテット白沢ＳＳ"},null,null,null,null,null,null,{"$f":"IF(OR(BJ114=\"\",BJ115=\"\"),\"\",BJ114+BJ115)","v":7},null,3,"－",0,{"$f":"IF(OR(BL114=\"\",BL115=\"\"),\"\",BL114+BL115)","v":1},null,{"$f":"AV100","v":"ＦＣみらい Ｖ"},null,null,null,null,null,null,null,null,null,null,{"$f":"DBCS(INDIRECT(\"U12対戦スケジュール!e\"&(ROW()/2+21)))","v":"Ｂ５／Ｂ７／Ｂ７／Ｂ５"}]
[null,null,null,null,null,null,null,null,null,null,null,null,null,null,null,null,null,null,null,"－",null,null,null,null,null,null,null,null,null,null,null,null,null,null,null,null,null,null,null,null,null,null,null,null,null,null,null,null,null,null,null,null,null,null,null,null,null,null,null,null,null,4,"－",1]
[null,6,"13:10:00","10:30:00",null,null,null,null,null,{"$f":"S102","v":"ＦＣアリーバ"},null,null,null,null,null,null,{"$f":"IF(OR(S116=\"\",S117=\"\"),\"\",S116+S117)","v":8},null,2,"－",0,{"$f":"IF(OR(U116=\"\",U117=\"\"),\"\",U116+U117)","v":0},null,{"$f":"E101","v":"岡西ＦＣ"},null,null,null,null,null,null,null,null,null,null,{"$f":"DBCS(INDIRECT(\"U12対戦スケジュール!ｃ\"&(ROW()/2+21)))","v":"１／５／５／１"},null,null,null,null,null,null,null,null,null,6,"13:10:00","10:30:00",null,null,null,null,null,{"$f":"BX99","v":"昭和・戸祭ＳＣ"},null,null,null,null,null,null,{"$f":"IF(OR(BJ116=\"\",BJ117=\"\"),\"\",BJ116+BJ117)","v":0},null,0,"－",3,{"$f":"IF(OR(BL116=\"\",BL117=\"\"),\"\",BL116+BL117)","v":3},null,{"$f":"BX100","v":"ＦＣ Ｒｉｓｏ"},null,null,null,null,null,null,null,null,null,null,{"$f":"DBCS(INDIRECT(\"U12対戦スケジュール!e\"&(ROW()/2+21)))","v":"Ａ９／Ａ３／Ａ３／Ａ９"}]
[null,null,null,null,null,null,null,null,null,null,null,null,null,null,null,null,null,null,6,"－",0,null,null,null,null,null,null,null,null,null,null,null,null,null,null,null,null,null,null,null,null,null,null,null,null,null,null,null,null,null,null,null,null,null,null,null,null,null,null,null,null,0,"－",0]
[null,7,"14:00:00","10:30:00",null,null,null,null,null,{"$f":"E98","v":"石井ＦＣ"},null,null,null,null,null,null,{"$f":"IF(OR(S118=\"\",S119=\"\"),\"\",S118+S119)","v":2},null,0,"－",0,{"$f":"IF(OR(U118=\"\",U119=\"\"),\"\",U118+U119)","v":0},null,{"$f":"E102","v":"ＦＣグランディール宇都宮"},null,null,null,null,null,null,null,null,null,null,{"$f":"DBCS(INDIRECT(\"U12対戦スケジュール!ｃ\"&(ROW()/2+21)))","v":"１０／２／２／１０"},null,null,null,null,null,null,null,null,null,7,"14:00:00","10:30:00",null,null,null,null,null,null,null,null,null,null,null,null,{"$f":"IF(OR(BJ118=\"\",BJ119=\"\"),\"\",BJ118+BJ119)","v":""},null,null,"－",null,{"$f":"IF(OR(BL118=\"\",BL119=\"\"),\"\",BL118+BL119)","v":""}]
[null,null,null,null,null,null,null,null,null,null,null,null,null,null,null,null,null,null,2,"－",0,null,null,null,null,null,null,null,null,null,null,null,null,null,null,null,null,null,null,null,null,null,null,null,null,null,null,null,null,null,null,null,null,null,null,null,null,null,null,null,null,null,"－"]
[]
[null,null,null,"警告／退場",null,null,null,null,null,"チーム名",null,null,null,null,null,null,null,"氏名",null,null,null,null,null,null,null,null,"番号",null,null,"理由",null,null,null,null,null,null,null,null,null,null,null,null,null,null,null,null,"警告／退場",null,null,null,null,null,"チーム名",null,null,null,null,null,null,null,"氏名",null,null,null,null,null,null,null,null,"番号",null,null,"理由"]
[null,null,null,"警告　　退場",null,null,null,null,null,null,null,null,null,null,null,null,null,null,null,null,null,null,null,null,null,null,null,null,null,null,null,null,null,null,null,null,null,null,null,null,null,null,null,null,null,null,"警告　　退場"]
[null,null,null,"警告　　退場",null,null,null,null,null,null,null,null,null,null,null,null,null,null,null,null,null,null,null,null,null,null,null,null,null,null,null,null,null,null,null,null,null,null,null,null,null,null,null,null,null,null,"警告　　退場"]
[null,null,null,"警告　　退場",null,null,null,null,null,null,null,null,null,null,null,null,null,null,null,null,null,null,null,null,null,null,null,null,null,null,null,null,null,null,null,null,null,null,null,null,null,null,null,null,null,null,"警告　　退場"]
["ＪＦＡ　U-12サッカーリーグ2018（in栃木） 宇河地域リーグ戦（後期）　　　　Ａブロック"]
[]
[null,null,"会場",null,null,null,{"$f":"U12対戦スケジュール!B94","v":"平出Ａ"},null,null,null,null,null,null,null,null,"会場担当",null,null,null,"シャルムグランツＳＣ",null,null,null,null,null,null,null,null,"開催日",null,null,null,"2018-09-17"]
[]
[null,null,1,null,{"$f":"U12組合せ!$D10","v":"石井ＦＣ"},null,null,null,null,null,null,null,null,null,null,null,6,null,{"$f":"U12組合せ!$D15","v":"ＦＣグラシアス"}]
[null,null,2,null,{"$f":"U12組合せ!$D11","v":"細谷ＳＣ"},null,null,null,null,null,null,null,null,null,null,null,7,null,{"$f":"U12組合せ!$D16","v":"岡本ＦＣ"}]
[null,null,3,null,{"$f":"U12組合せ!$D12","v":"ＦＣみらい Ｖ"},null,null,null,null,null,null,null,null,null,null,null,8,null,{"$f":"U12組合せ!$D17","v":"シャルムグランツＳＣ"}]
[null,null,4,null,{"$f":"U12組合せ!$D13","v":"岡西ＦＣ"},null,null,null,null,null,null,null,null,null,null,null,9,null,{"$f":"U12組合せ!$D18","v":"カテット白沢ＳＳ"}]
[null,null,5,null,{"$f":"U12組合せ!$D14","v":"ＦＣグランディール宇都宮"},null,null,null,null,null,null,null,null,null,null,null,10,null,{"$f":"U12組合せ!$D19","v":"ＦＣアリーバ"}]
[]
[null,"【試合時間：２０分-５分-２０分】"]
[null,null,"試合開始",null,null,"監督サイン",null,null,null,"チーム名",null,null,null,null,null,null,"得点",null,null,null,null,null,null,"チーム名",null,null,null,null,null,null,"監督サイン",null,null,null,"主審／副審／副審／４審"]
[null,1,"09:00:00",null,null,null,null,null,null,{"$f":"E130","v":"細谷ＳＣ"},null,null,null,null,null,null,{"$f":"IF(OR(S137=\"\",S138=\"\"),\"\",S137+S138)","v":8},null,2,"－",0,{"$f":"IF(OR(U137=\"\",U138=\"\"),\"\",U137+U138)","v":0},null,{"$f":"S130","v":"岡本ＦＣ"},null,null,null,null,null,null,null,null,null,null,{"$f":"DBCS(INDIRECT(\"U12対戦スケジュール!C\"&(ROW()-1)/2+28))","v":"３／８／８／３"}]
[null,null,null,null,null,null,null,null,null,null,null,null,null,null,null,null,null,null,6,"－",0]
[null,2,"09:50:00","10:30:00",null,null,null,null,null,{"$f":"E131","v":"ＦＣみらい Ｖ"},null,null,null,null,null,null,{"$f":"IF(OR(S139=\"\",S140=\"\"),\"\",S139+S140)","v":0},null,0,"－",1,{"$f":"IF(OR(U139=\"\",U140=\"\"),\"\",U139+U140)","v":3},null,{"$f":"S131","v":"シャルムグランツＳＣ"},null,null,null,null,null,null,null,null,null,null,{"$f":"DBCS(INDIRECT(\"U12対戦スケジュール!C\"&(ROW()-1)/2+28))","v":"２／７／７／２"}]
[null,null,null,null,null,null,null,null,null,null,null,null,null,null,null,null,null,null,0,"－",2]
[null,3,"10:40:00",null,null,null,null,null,null,{"$f":"E132","v":"岡西ＦＣ"},null,null,null,null,null,null,{"$f":"IF(OR(S141=\"\",S142=\"\"),\"\",S141+S142)","v":0},null,0,"－",5,{"$f":"IF(OR(U141=\"\",U142=\"\"),\"\",U141+U142)","v":9},null,{"$f":"S132","v":"カテット白沢ＳＳ"},null,null,null,null,null,null,null,null,null,null,{"$f":"DBCS(INDIRECT(\"U12対戦スケジュール!C\"&(ROW()-1)/2+28))","v":"５／１０／１０／５"}]
[null,null,null,null,null,null,null,null,null,null,null,null,null,null,null,null,null,null,0,"－",4]
[null,4,"11:30:00","10:30:00",null,null,null,null,null,{"$f":"S131","v":"シャルムグランツＳＣ"},null,null,null,null,null,null,{"$f":"IF(OR(S143=\"\",S144=\"\"),\"\",S143+S144)","v":0},null,0,"－",4,{"$f":"IF(OR(U143=\"\",U144=\"\"),\"\",U143+U144)","v":10},null,{"$f":"E130","v":"細谷ＳＣ"},null,null,null,null,null,null,null,null,null,null,{"$f":"DBCS(INDIRECT(\"U12対戦スケジュール!C\"&(ROW()-1)/2+28))","v":"１０／４／４／１０"}]
[null,null,null,null,null,null,null,null,null,null,null,null,null,null,null,null,null,null,0,"－",6]
[null,5,"12:20:00",null,null,null,null,null,null,{"$f":"E133","v":"ＦＣグランディール宇都宮"},null,null,null,null,null,null,{"$f":"IF(OR(S145=\"\",S146=\"\"),\"\",S145+S146)","v":2},null,2,"－",2,{"$f":"IF(OR(U145=\"\",U146=\"\"),\"\",U145+U146)","v":2},null,{"$f":"S133","v":"ＦＣアリーバ"},null,null,null,null,null,null,null,null,null,null,{"$f":"DBCS(INDIRECT(\"U12対戦スケジュール!C\"&(ROW()-1)/2+28))","v":"１／６／６／１"}]
[null,null,null,null,null,null,null,null,null,null,null,null,null,null,null,null,null,null,0,"－",0]
[null,6,"13:10:00","10:30:00",null,null,null,null,null,{"$f":"E129","v":"石井ＦＣ"},null,null,null,null,null,null,{"$f":"IF(OR(S147=\"\",S148=\"\"),\"\",S147+S148)","v":1},null,0,"－",0,{"$f":"IF(OR(U147=\"\",U148=\"\"),\"\",U147+U148)","v":2},null,{"$f":"S129","v":"ＦＣグラシアス"},null,null,null,null,null,null,null,null,null,null,{"$f":"DBCS(INDIRECT(\"U12対戦スケジュール!C\"&(ROW()-1)/2+28))","v":"４／９／９／４"}]
[null,null,null,null,null,null,null,null,null,null,null,null,null,null,null,null,null,null,1,"－",2]
[null,7,"14:00:00","10:30:00",null,null,null,null,null,{"$f":"E132","v":"岡西ＦＣ"},null,null,null,null,null,null,{"$f":"IF(OR(S149=\"\",S150=\"\"),\"\",S149+S150)","v":2},null,1,"－",3,{"$f":"IF(OR(U149=\"\",U150=\"\"),\"\",U149+U150)","v":4},null,{"$f":"S131","v":"シャルムグランツＳＣ"},null,null,null,null,null,null,null,null,null,null,{"$f":"DBCS(INDIRECT(\"U12対戦スケジュール!C\"&(ROW()-1)/2+28))","v":"２／６／６／２"}]
[null,null,null,null,null,null,null,null,null,null,null,null,null,null,null,null,null,null,1,"－",1]
[]
[null,null,null,"警告／退場",null,null,null,null,null,"チーム名",null,null,null,null,null,null,null,"氏名",null,null,null,null,null,null,null,null,"番号",null,null,"理由"]
[null,null,null,"警告　　退場"]
[null,null,null,"警告　　退場"]
[null,null,null,"警告　　退場"]

{"sheet":"Ｂブロック対戦表","index":4,"n_rows":155,"n_cols":35,"rows_kept":155,"cut":false,"hidden":false,"merged":[[113,34,114,41],[115,34,116,41],[100,30,100,31],[100,32,100,41],[101,30,101,31],[101,32,101,41],[117,1,118,1],[117,2,118,4],[117,5,118,8],[117,9,118,15],[117,16,118,17],[117,21,118,22],[117,23,118,29],[117,30,118,33],[117,34,118,41],[104,2,104,4],[104,5,104,8],[104,9,104,15],[104,16,104,22],[104,23,104,29],[104,30,104,33],[105,30,106,33],[107,1,108,1],[100,2,100,3],[73,2,73,4],[73,5,73,8],[73,9,73,15],[73,16,73,22],[73,23,73,29],[73,30,73,33],[89,3,89,8],[89,9,89,16],[111,34,112,41],[104,34,104,41],[105,34,106,41],[107,34,108,41],[109,34,110,41],[82,34,83,41],[84,34,85,41],[89,17,89,25],[89,26,89,28],[89,29,89,38],[90,3,90,8],[90,9,90,16],[90,17,90,25],[90,26,90,28],[90,29,90,38],[91,3,91,8],[70,16,70,17],[70,18,70,27],[70,30,70,31],[70,32,70,41],[73,34,73,41],[74,34,75,41],[76,34,77,41],[78,34,79,41],[80,34,81,41],[86,1,87,1],[86,2,87,4],[86,5,87,8],[86,9,87,15],[86,16,87,17],[86,21,87,22],[86,23,87,29],[86,30,87,33],[86,34,87,41],[42,34,42,41],[43,34,44,41],[45,34,46,41],[47,34,48,41],[49,34,50,41],[51,34,52,41],[53,34,54,41],[55,1,56,1],[55,2,56,4],[55,5,56,8],[55,9,56,15],[55,16,56,17],[55,21,56,22],[55,23,56,29],[55,30,56,33],[55,34,56,41],[42,2,42,4],[42,5,42,8],[42,9,42,15],[42,16,42,22],[42,23,42,29],[42,30,42,33],[43,1,44,1],[43,2,44,4],[153,3,153,8],[153,9,153,16],[153,17,153,25],[153,26,153,28],[153,29,153,38],[154,3,154,8],[154,9,154,16],[154,17,154,25],[154,26,154,28],[154,29,154,38],[36,30,36,31],[36,32,36,41],[38,2,38,3],[38,4,38,13],[38,16,38,17],[38,18,38,27],[38,30,38,31],[38,32,38,41],[39,2,39,3],[39,4,39,13],[39,16,39,17],[39,18,39,27],[39,30,39,31],[39,32,39,41],[36,2,36,3],[36,4,36,13],[36,16,36,17],[36,18,36,27],[37,2,37,3],[37,4,37,13],[37,16,37,17],[37,18,37,27],[37,30,37,31],[37,32,37,41],[69,2,69,3],[69,4,69,13],[69,16,69,17],[69,18,69,27],[69,30,69,31],[69,32,69,41],[70,2,70,3],[70,4,70,13],[148,1,149,1],[148,2,149,4],[148,5,149,8],[148,9,149,15],[148,16,149,17],[148,21,149,22],[148,23,149,29],[148,30,149,33],[148,34,149,41],[144,1,145,1],[144,2,145,4],[144,5,145,8],[144,9,145,15],[144,16,145,17],[144,21,145,22],[144,23,145,29],[151,3,151,8],[151,9,151,16],[151,17,151,25],[151,26,151,28],[151,29,151,38],[152,3,152,8],[152,9,152,16],[152,17,152,25],[152,26,152,28],[152,29,152,38],[144,30,145,33],[144,34,145,41],[146,1,147,1],[146,2,147,4],[146,5,147,8],[146,9,147,15],[146,16,147,17],[146,21,147,22],[146,23,147,29],[146,30,147,33],[146,34,147,41],[140,1,141,1],[140,2,141,4],[140,5,141,8],[140,9,141,15],[140,16,141,17],[140,21,141,22],[140,23,141,29],[140,30,141,33],[140,34,141,41],[142,1,143,1],[142,2,143,4],[142,5,143,8],[142,9,143,15],[142,16,143,17],[142,21,143,22],[142,23,143,29],[142,30,143,33],[142,34,143,41],[135,2,135,4],[135,5,135,8],[135,9,135,15],[135,16,135,22],[135,23,135,29],[135,30,135,33],[135,34,135,41],[136,1,137,1],[136,2,137,4],[136,5,137,8],[136,9,137,15],[136,16,137,17],[136,21,137,22],[136,23,137,29],[136,30,137,33],[136,34,137,41],[138,1,139,1],[138,2,139,4],[138,5,139,8],[138,9,139,15],[138,16,139,17],[138,21,139,22],[138,23,139,29],[138,30,139,33],[138,34,139,41],[130,2,130,3],[130,4,130,13],[130,16,130,17],[130,18,130,27],[130,30,130,31],[130,32,130,41],[131,2,131,3],[131,4,131,13],[131,16,131,17],[131,18,131,27],[131,30,131,31],[131,32,131,41],[132,2,132,3],[132,4,132,13],[132,16,132,17],[132,18,132,27],[132,30,132,31],[132,32,132,41],[124,0,125,42],[126,2,126,5],[126,6,126,14],[126,15,126,18],[126,19,126,27],[126,28,126,31],[126,32,126,40],[128,2,128,3],[128,4,128,13],[128,16,128,17],[128,18,128,27],[128,30,128,31],[128,32,128,41],[129,2,129,3],[129,4,129,13],[129,16,129,17],[129,18,129,27],[129,30,129,31],[129,32,129,41],[11,34,11,41],[12,34,13,41],[14,34,15,41],[16,34,17,41],[18,34,19,41],[20,34,21,41],[22,34,23,41],[24,1,25,1],[24,2,25,4],[24,5,25,8],[24,9,25,15],[24,16,25,17],[24,21,25,22],[24,23,25,29],[24,30,25,33],[24,34,25,41],[12,30,13,33],[11,30,11,33],[14,1,15,1],[14,2,15,4],[14,5,15,8],[14,9,15,15],[14,16,15,17],[8,30,8,31],[8,32,8,41],[7,2,7,3],[7,4,7,13],[7,16,7,17],[7,18,7,27],[7,30,7,31],[7,32,7,41],[0,0,1,42],[2,2,2,5],[2,6,2,14],[2,15,2,18],[2,19,2,27],[2,28,2,31],[2,32,2,40],[4,2,4,3],[4,4,4,13],[4,16,4,17],[4,18,4,27],[4,30,4,31],[4,32,4,41],[5,2,5,3],[5,4,5,13],[5,16,5,17],[5,18,5,27],[5,30,5,31],[5,32,5,41],[6,2,6,3],[6,4,6,13],[6,16,6,17],[6,18,6,27],[6,30,6,31],[6,32,6,41],[8,2,8,3],[8,4,8,13],[8,16,8,17],[8,18,8,27],[12,2,13,4],[12,5,13,8],[12,9,13,15],[12,16,13,17],[12,21,13,22],[12,23,13,29],[11,2,11,4],[11,5,11,8],[11,9,11,15],[11,16,11,22],[11,23,11,29],[12,1,13,1],[18,1,19,1],[18,2,19,4],[18,5,19,8],[18,9,19,15],[18,16,19,17],[18,21,19,22],[18,23,19,29],[18,30,19,33],[16,1,17,1],[16,2,17,4],[16,5,17,8],[16,9,17,15],[16,16,17,17],[16,21,17,22],[16,23,17,29],[16,30,17,33],[14,21,15,22],[14,23,15,29],[14,30,15,33],[22,1,23,1],[22,2,23,4],[22,5,23,8],[22,9,23,15],[22,16,23,17],[22,21,23,22],[22,23,23,29],[22,30,23,33],[20,1,21,1],[20,2,21,4],[20,5,21,8],[20,9,21,15],[20,16,21,17],[20,21,21,22],[20,23,21,29],[20,30,21,33],[27,3,27,8],[27,9,27,16],[27,17,27,25],[27,26,27,28],[27,29,27,38],[28,3,28,8],[28,9,28,16],[28,17,28,25],[28,26,28,28],[28,29,28,38],[29,3,29,8],[29,9,29,16],[29,17,29,25],[29,26,29,28],[29,29,29,38],[30,3,30,8],[30,9,30,16],[30,17,30,25],[30,26,30,28],[30,29,30,38],[31,0,32,42],[33,2,33,5],[33,6,33,14],[33,15,33,18],[33,19,33,27],[33,28,33,31],[33,32,33,40],[35,2,35,3],[35,4,35,13],[35,16,35,17],[35,18,35,27],[35,30,35,31],[35,32,35,41],[43,5,44,8],[43,9,44,15],[43,16,44,17],[43,21,44,22],[43,23,44,29],[43,30,44,33],[45,1,46,1],[45,2,46,4],[45,5,46,8],[45,9,46,15],[45,16,46,17],[45,21,46,22],[45,23,46,29],[45,30,46,33],[47,1,48,1],[47,2,48,4],[47,5,48,8],[47,9,48,15],[47,16,48,17],[47,21,48,22],[47,23,48,29],[47,30,48,33],[49,1,50,1],[49,2,50,4],[49,5,50,8],[49,9,50,15],[49,16,50,17],[49,21,50,22],[49,23,50,29],[49,30,50,33],[51,1,52,1],[51,2,52,4],[51,5,52,8],[51,9,52,15],[51,16,52,17],[51,21,52,22],[51,23,52,29],[51,30,52,33],[53,1,54,1],[53,2,54,4],[53,5,54,8],[53,9,54,15],[53,16,54,17],[53,21,54,22],[53,23,54,29],[53,30,54,33],[58,3,58,8],[58,9,58,16],[58,17,58,25],[58,26,58,28],[58,29,58,38],[59,3,59,8],[59,9,59,16],[59,17,59,25],[59,26,59,28],[59,29,59,38],[60,3,60,8],[60,9,60,16],[60,17,60,25],[60,26,60,28],[60,29,60,38],[61,3,61,8],[61,9,61,16],[61,17,61,25],[61,26,61,28],[61,29,61,38],[62,0,63,42],[64,2,64,5],[64,6,64,14],[64,15,64,18],[64,19,64,27],[64,28,64,31],[64,32,64,40],[66,2,66,3],[66,4,66,13],[66,16,66,17],[66,18,66,27],[66,30,66,31],[66,32,66,41],[67,2,67,3],[67,4,67,13],[67,16,67,17],[67,18,67,27],[67,30,67,31],[67,32,67,41],[68,2,68,3],[68,4,68,13],[68,16,68,17],[68,18,68,27],[68,30,68,31],[68,32,68,41],[74,1,75,1],[74,2,75,4],[74,5,75,8],[74,9,75,15],[74,16,75,17],[74,21,75,22],[74,23,75,29],[74,30,75,33],[76,1,77,1],[76,2,77,4],[76,5,77,8],[76,9,77,15],[76,16,77,17],[76,21,77,22],[76,23,77,29],[76,30,77,33],[78,1,79,1],[78,2,79,4],[78,5,79,8],[78,9,79,15],[78,16,79,17],[78,21,79,22],[78,23,79,29],[78,30,79,33],[80,1,81,1],[80,2,81,4],[80,5,81,8],[80,9,81,15],[80,16,81,17],[80,21,81,22],[80,23,81,29],[80,30,81,33],[82,1,83,1],[82,2,83,4],[82,5,83,8],[82,9,83,15],[82,16,83,17],[82,21,83,22],[82,23,83,29],[82,30,83,33],[84,1,85,1],[84,2,85,4],[84,5,85,8],[84,9,85,15],[84,16,85,17],[84,21,85,22],[84,23,85,29],[84,30,85,33],[91,9,91,16],[91,17,91,25],[91,26,91,28],[91,29,91,38],[92,3,92,8],[92,9,92,16],[92,17,92,25],[92,26,92,28],[92,29,92,38],[93,0,94,42],[95,2,95,5],[95,6,95,14],[95,15,95,18],[95,19,95,27],[95,28,95,31],[95,32,95,40],[97,2,97,3],[97,4,97,13],[97,16,97,17],[97,18,97,27],[97,30,97,31],[97,32,97,41],[98,30,98,31],[98,32,98,41],[99,2,99,3],[99,4,99,13],[99,16,99,17],[99,18,99,27],[99,30,99,31],[99,32,99,41],[98,2,98,3],[98,4,98,13],[98,16,98,17],[98,18,98,27],[100,4,100,13],[100,16,100,17],[100,18,100,27],[105,1,106,1],[105,2,106,4],[105,5,106,8],[105,9,106,15],[105,16,106,17],[105,21,106,22],[105,23,106,29],[101,2,101,3],[101,4,101,13],[101,16,101,17],[101,18,101,27],[107,5,108,8],[107,9,108,15],[107,16,108,17],[107,21,108,22],[107,23,108,29],[107,30,108,33],[109,1,110,1],[109,2,110,4],[109,5,110,8],[109,9,110,15],[109,16,110,17],[109,21,110,22],[109,23,110,29],[109,30,110,33],[107,2,108,4],[111,1,112,1],[111,2,112,4],[111,5,112,8],[111,9,112,15],[111,16,112,17],[111,21,112,22],[111,23,112,29],[111,30,112,33],[113,1,114,1],[113,2,114,4],[113,5,114,8],[113,9,114,15],[113,16,114,17],[113,21,114,22],[113,23,114,29],[113,30,114,33],[115,1,116,1],[115,2,116,4],[115,5,116,8],[115,9,116,15],[115,16,116,17],[115,21,116,22],[115,23,116,29],[115,30,116,33],[120,3,120,8],[120,9,120,16],[120,17,120,25],[120,26,120,28],[120,29,120,38],[123,3,123,8],[123,9,123,16],[123,17,123,25],[123,26,123,28],[123,29,123,38],[121,3,121,8],[121,9,121,16],[121,17,121,25],[121,26,121,28],[121,29,121,38],[122,3,122,8],[122,9,122,16],[122,17,122,25],[122,26,122,28],[122,29,122,38]]}
["ＪＦＡ　U-12サッカーリーグ2018（in栃木） 宇河地域リーグ戦（後期）　　　　Ｂブロック"]
[]
[null,null,"会場",null,null,null,{"$f":"U12対戦スケジュール!F6","v":"石井５"},null,null,null,null,null,null,null,null,"会場担当",null,null,null,{"$f":"U12対戦スケジュール!F7","v":"姿川第一ＦＣ"},null,null,null,null,null,null,null,null,"開催日",null,null,null,"2018-09-02"]
[]
[null,null,1,null,{"$f":"U12組合せ!$F$10","v":"姿川第一ＦＣ"},null,null,null,null,null,null,null,null,null,null,null,2,null,{"$f":"U12組合せ!$F$11","v":"宝木キッカーズ"},null,null,null,null,null,null,null,null,null,null,null,3,null,{"$f":"U12組合せ!$F$12","v":"ｕｎｉｏｎ ｓｃ"}]
[null,null,4,null,{"$f":"U12組合せ!$F$13","v":"河内ＳＣジュベニール"},null,null,null,null,null,null,null,null,null,null,null,5,null,{"$f":"U12組合せ!$F$14","v":"昭和・戸祭ＳＣ"},null,null,null,null,null,null,null,null,null,null,null,6,null,{"$f":"U12組合せ!$F$15","v":"サウス宇都宮ＳＣ"}]
[null,null,7,null,{"$f":"U12組合せ!$F$16","v":"ＦＣ Ｒｉｓｏ"},null,null,null,null,null,null,null,null,null,null,null,8,null,{"$f":"U12組合せ!$F$17","v":"富士見ＳＳＳ"},null,null,null,null,null,null,null,null,null,null,null,9,null,{"$f":"U12組合せ!$F$18","v":"豊郷ＪＦＣ宇都宮"}]
[]
[]
[]
[null,"【試合時間：２０分-５分-２０分】"]
[null,null,"試合開始",null,null,"監督サイン",null,null,null,"チーム名",null,null,null,null,null,null,"得点",null,null,null,null,null,null,"チーム名",null,null,null,null,null,null,"監督サイン",null,null,null,"主審／副審／副審／４審"]
[null,1,"09:00:00",null,null,null,null,null,null,{"$f":"E5","v":"姿川第一ＦＣ"},null,null,null,null,null,null,{"$f":"IF(OR(S13=\"\",S14=\"\"),\"\",S13+S14)","v":1},null,1,"－",0,{"$f":"IF(OR(U13=\"\",U14=\"\"),\"\",U13+U14)","v":0},null,{"$f":"S5","v":"宝木キッカーズ"},null,null,null,null,null,null,null,null,null,null,{"$f":"DBCS(INDIRECT(\"U12対戦スケジュール!g\"&(ROW()-1)/2+2))","v":"４／５／５／４"}]
[null,null,null,null,null,null,null,null,null,null,null,null,null,null,null,null,null,null,0,"－",0]
[null,2,"09:50:00","10:30:00",null,null,null,null,null,{"$f":"E6","v":"河内ＳＣジュベニール"},null,null,null,null,null,null,{"$f":"IF(OR(S15=\"\",S16=\"\"),\"\",S15+S16)","v":0},null,0,"－",1,{"$f":"IF(OR(U15=\"\",U16=\"\"),\"\",U15+U16)","v":2},null,{"$f":"S6","v":"昭和・戸祭ＳＣ"},null,null,null,null,null,null,null,null,null,null,{"$f":"DBCS(INDIRECT(\"U12対戦スケジュール!g\"&(ROW()-1)/2+2))","v":"１／２／２／１"}]
[null,null,null,null,null,null,null,null,null,null,null,null,null,null,null,null,null,null,0,"－",1]
[null,3,"10:40:00",null,null,null,null,null,null,{"$f":"AG5","v":"ｕｎｉｏｎ ｓｃ"},null,null,null,null,null,null,{"$f":"IF(OR(S17=\"\",S18=\"\"),\"\",S17+S18)","v":2},null,0,"－",0,{"$f":"IF(OR(U17=\"\",U18=\"\"),\"\",U17+U18)","v":0},null,{"$f":"E5","v":"姿川第一ＦＣ"},null,null,null,null,null,null,null,null,null,null,{"$f":"DBCS(INDIRECT(\"U12対戦スケジュール!g\"&(ROW()-1)/2+2))","v":"６／４／４／６"}]
[null,null,null,null,null,null,null,null,null,null,null,null,null,null,null,null,null,null,2,"－",0]
[null,4,"11:30:00","10:30:00",null,null,null,null,null,{"$f":"AG6","v":"サウス宇都宮ＳＣ"},null,null,null,null,null,null,{"$f":"IF(OR(S19=\"\",S20=\"\"),\"\",S19+S20)","v":5},null,4,"－",0,{"$f":"IF(OR(U19=\"\",U20=\"\"),\"\",U19+U20)","v":0},null,{"$f":"E6","v":"河内ＳＣジュベニール"},null,null,null,null,null,null,null,null,null,null,{"$f":"DBCS(INDIRECT(\"U12対戦スケジュール!g\"&(ROW()-1)/2+2))","v":"３／１／１／３"}]
[null,null,null,null,null,null,null,null,null,null,null,null,null,null,null,null,null,null,1,"－",0]
[null,5,"12:20:00",null,null,null,null,null,null,{"$f":"S5","v":"宝木キッカーズ"},null,null,null,null,null,null,{"$f":"IF(OR(S21=\"\",S22=\"\"),\"\",S21+S22)","v":2},null,2,"－",2,{"$f":"IF(OR(U21=\"\",U22=\"\"),\"\",U21+U22)","v":4},null,{"$f":"AG5","v":"ｕｎｉｏｎ ｓｃ"},null,null,null,null,null,null,null,null,null,null,{"$f":"DBCS(INDIRECT(\"U12対戦スケジュール!g\"&(ROW()-1)/2+2))","v":"５／６／６／５"}]
[null,null,null,null,null,null,null,null,null,null,null,null,null,null,null,null,null,null,0,"－",2]
[null,6,"13:10:00","10:30:00",null,null,null,null,null,{"$f":"S6","v":"昭和・戸祭ＳＣ"},null,null,null,null,null,null,{"$f":"IF(OR(S23=\"\",S24=\"\"),\"\",S23+S24)","v":1},null,0,"－",0,{"$f":"IF(OR(U23=\"\",U24=\"\"),\"\",U23+U24)","v":0},null,{"$f":"AG6","v":"サウス宇都宮ＳＣ"},null,null,null,null,null,null,null,null,null,null,{"$f":"DBCS(INDIRECT(\"U12対戦スケジュール!g\"&(ROW()-1)/2+2))","v":"２／３／３／２"}]
[null,null,null,null,null,null,null,null,null,null,null,null,null,null,null,null,null,null,1,"－",0]
[null,7,"14:00:00","10:30:00",null,null,null,null,null,null,null,null,null,null,null,null,{"$f":"IF(OR(S25=\"\",S26=\"\"),\"\",S25+S26)","v":""},null,null,"－",null,{"$f":"IF(OR(U25=\"\",U26=\"\"),\"\",U25+U26)","v":""},null,null,null,null,null,null,null,null,null,null,null,null,{"$f":"DBCS(INDIRECT(\"U12対戦スケジュール!e\"&(ROW()-1)/2+2))","v":""}]
[null,null,null,null,null,null,null,null,null,null,null,null,null,null,null,null,null,null,null,"－"]
[]
[null,null,null,"警告／退場",null,null,null,null,null,"チーム名",null,null,null,null,null,null,null,"氏名",null,null,null,null,null,null,null,null,"番号",null,null,"理由"]
[null,null,null,"警告　　退場"]
[null,null,null,"警告　　退場"]
[null,null,null,"警告　　退場"]
["ＪＦＡ　U-12サッカーリーグ2018（in栃木） 宇河地域リーグ戦（後期）　　　　Ｂブロック"]
[]
[null,null,"会場",null,null,null,"石井No３",null,null,null,null,null,null,null,null,"会場担当",null,null,null,"豊郷ＪＦＣ宇都宮",null,null,null,null,null,null,null,null,"開催日",null,null,null,"2018-09-08"]
[]
[null,null,1,null,{"$f":"U12組合せ!$F$10","v":"姿川第一ＦＣ"},null,null,null,null,null,null,null,null,null,null,null,2,null,{"$f":"U12組合せ!$F$11","v":"宝木キッカーズ"},null,null,null,null,null,null,null,null,null,null,null,3,null,{"$f":"U12組合せ!$F$12","v":"ｕｎｉｏｎ ｓｃ"}]
[null,null,4,null,{"$f":"U12組合せ!$F$13","v":"河内ＳＣジュベニール"},null,null,null,null,null,null,null,null,null,null,null,5,null,{"$f":"U12組合せ!$F$14","v":"昭和・戸祭ＳＣ"},null,null,null,null,null,null,null,null,null,null,null,6,null,{"$f":"U12組合せ!$F$15","v":"サウス宇都宮ＳＣ"}]
[null,null,7,null,{"$f":"U12組合せ!$F$16","v":"ＦＣ Ｒｉｓｏ"},null,null,null,null,null,null,null,null,null,null,null,8,null,{"$f":"U12組合せ!$F$17","v":"富士見ＳＳＳ"},null,null,null,null,null,null,null,null,null,null,null,9,null,{"$f":"U12組合せ!$F$18","v":"豊郷ＪＦＣ宇都宮"}]
[]
[]
[]
[null,"【試合時間：２０分-５分-２０分】"]
[null,null,"試合開始",null,null,"監督サイン",null,null,null,"チーム名",null,null,null,null,null,null,"得点",null,null,null,null,null,null,"チーム名",null,null,null,null,null,null,"監督サイン",null,null,null,"主審／副審／副審／４審"]
[null,1,"09:00:00",null,null,null,null,null,null,{"$f":"AG38","v":"豊郷ＪＦＣ宇都宮"},null,null,null,null,null,null,{"$f":"IF(OR(S44=\"\",S45=\"\"),\"\",S44+S45)","v":2},null,2,"－",0,{"$f":"IF(OR(U44=\"\",U45=\"\"),\"\",U44+U45)","v":0},null,{"$f":"AG36","v":"ｕｎｉｏｎ ｓｃ"},null,null,null,null,null,null,null,null,null,null,{"$f":"DBCS(INDIRECT(\"U12対戦スケジュール!g\"&(ROW()/2+8)))","v":"７／１／１／７"}]
[null,null,null,null,null,null,null,null,null,null,null,null,null,null,null,null,null,null,0,"－",0]
[null,2,"09:50:00","10:30:00",null,null,null,null,null,{"$f":"E38","v":"ＦＣ Ｒｉｓｏ"},null,null,null,null,null,null,{"$f":"IF(OR(S46=\"\",S47=\"\"),\"\",S46+S47)","v":2},null,2,"－",0,{"$f":"IF(OR(U46=\"\",U47=\"\"),\"\",U46+U47)","v":0},null,{"$f":"E36","v":"姿川第一ＦＣ"},null,null,null,null,null,null,null,null,null,null,{"$f":"DBCS(INDIRECT(\"U12対戦スケジュール!g\"&(ROW()/2+8)))","v":"９／３／３／９"}]
[null,null,null,null,null,null,null,null,null,null,null,null,null,null,null,null,null,null,0,"－",0]
[null,3,"10:40:00",null,null,null,null,null,null,{"$f":"AG37","v":"サウス宇都宮ＳＣ"},null,null,null,null,null,null,{"$f":"IF(OR(S48=\"\",S49=\"\"),\"\",S48+S49)","v":0},null,0,"－",0,{"$f":"IF(OR(U48=\"\",U49=\"\"),\"\",U48+U49)","v":0},null,{"$f":"AG38","v":"豊郷ＪＦＣ宇都宮"},null,null,null,null,null,null,null,null,null,null,{"$f":"DBCS(INDIRECT(\"U12対戦スケジュール!g\"&(ROW()/2+8)))","v":"４／７／７／４"}]
[null,null,null,null,null,null,null,null,null,null,null,null,null,null,null,null,null,null,0,"－",0]
[null,4,"11:30:00","10:30:00",null,null,null,null,null,{"$f":"E37","v":"河内ＳＣジュベニール"},null,null,null,null,null,null,{"$f":"IF(OR(S50=\"\",S51=\"\"),\"\",S50+S51)","v":0},null,0,"－",0,{"$f":"IF(OR(U50=\"\",U51=\"\"),\"\",U50+U51)","v":1},null,{"$f":"E38","v":"ＦＣ Ｒｉｓｏ"},null,null,null,null,null,null,null,null,null,null,{"$f":"DBCS(INDIRECT(\"U12対戦スケジュール!g\"&(ROW()/2+8)))","v":"６／９／９／６"}]
[null,null,null,null,null,null,null,null,null,null,null,null,null,null,null,null,null,null,0,"－",1]
[null,5,"12:20:00",null,null,null,null,null,null,{"$f":"AG36","v":"ｕｎｉｏｎ ｓｃ"},null,null,null,null,null,null,{"$f":"IF(OR(S52=\"\",S53=\"\"),\"\",S52+S53)","v":2},null,1,"－",0,{"$f":"IF(OR(U52=\"\",U53=\"\"),\"\",U52+U53)","v":0},null,{"$f":"AG37","v":"サウス宇都宮ＳＣ"},null,null,null,null,null,null,null,null,null,null,{"$f":"DBCS(INDIRECT(\"U12対戦スケジュール!g\"&(ROW()/2+8)))","v":"１／４／４／１"}]
[null,null,null,null,null,null,null,null,null,null,null,null,null,null,null,null,null,null,1,"－",0]
[null,6,"13:10:00","10:30:00",null,null,null,null,null,{"$f":"E36","v":"姿川第一ＦＣ"},null,null,null,null,null,null,{"$f":"IF(OR(S54=\"\",S55=\"\"),\"\",S54+S55)","v":3},null,1,"－",0,{"$f":"IF(OR(U54=\"\",U55=\"\"),\"\",U54+U55)","v":0},null,{"$f":"E37","v":"河内ＳＣジュベニール"},null,null,null,null,null,null,null,null,null,null,{"$f":"DBCS(INDIRECT(\"U12対戦スケジュール!g\"&(ROW()/2+8)))","v":"３／６／６／３"}]
[null,null,null,null,null,null,null,null,null,null,null,null,null,null,null,null,null,null,2,"－",0]
[null,7,"14:00:00","10:30:00",null,null,null,null,null,null,null,null,null,null,null,null,{"$f":"IF(OR(S56=\"\",S57=\"\"),\"\",S56+S57)","v":""},null,null,"－",null,{"$f":"IF(OR(U56=\"\",U57=\"\"),\"\",U56+U57)","v":""}]
[null,null,null,null,null,null,null,null,null,null,null,null,null,null,null,null,null,null,null,"－"]
[]
[null,null,null,"警告／退場",null,null,null,null,null,"チーム名",null,null,null,null,null,null,null,"氏名",null,null,null,null,null,null,null,null,"番号",null,null,"理由"]
[null,null,null,"警告　　退場"]
[null,null,null,"警告　　退場"]
[null,null,null,"警告　　退場"]
["ＪＦＡ　U-12サッカーリーグ2018（in栃木） 宇河地域リーグ戦（後期）　　　　Ｂブロック"]
[]
[null,null,"会場",null,null,null,{"$f":"U12対戦スケジュール!F49","v":"新田小"},null,null,null,null,null,null,null,null,"会場担当",null,null,null,{"$f":"U12対戦スケジュール!F50","v":"サウス宇都宮ＳＣ"},null,null,null,null,null,null,null,null,"開催日",null,null,null,"2018-09-09"]
[]
[null,null,1,null,{"$f":"U12組合せ!$F$10","v":"姿川第一ＦＣ"},null,null,null,null,null,null,null,null,null,null,null,2,null,{"$f":"U12組合せ!$F$11","v":"宝木キッカーズ"},null,null,null,null,null,null,null,null,null,null,null,3,null,{"$f":"U12組合せ!$F$12","v":"ｕｎｉｏｎ ｓｃ"}]
[null,null,4,null,{"$f":"U12組合せ!$F$13","v":"河内ＳＣジュベニール"},null,null,null,null,null,null,null,null,null,null,null,5,null,{"$f":"U12組合せ!$F$14","v":"昭和・戸祭ＳＣ"},null,null,null,null,null,null,null,null,null,null,null,6,null,{"$f":"U12組合せ!$F$15","v":"サウス宇都宮ＳＣ"}]
[null,null,7,null,{"$f":"U12組合せ!$F$16","v":"ＦＣ Ｒｉｓｏ"},null,null,null,null,null,null,null,null,null,null,null,8,null,{"$f":"U12組合せ!$F$17","v":"富士見ＳＳＳ"},null,null,null,null,null,null,null,null,null,null,null,9,null,{"$f":"U12組合せ!$F$18","v":"豊郷ＪＦＣ宇都宮"}]
[]
[]
[]
[null,"【試合時間：２０分-５分-２０分】"]
[null,null,"試合開始",null,null,"監督サイン",null,null,null,"チーム名",null,null,null,null,null,null,"得点",null,null,null,null,null,null,"チーム名",null,null,null,null,null,null,"監督サイン",null,null,null,"主審／副審／副審／４審"]
[null,1,"09:00:00",null,null,null,null,null,null,{"$f":"AG68","v":"サウス宇都宮ＳＣ"},null,null,null,null,null,null,{"$f":"IF(OR(S75=\"\",S76=\"\"),\"\",S75+S76)","v":0},null,0,"－",2,{"$f":"IF(OR(U75=\"\",U76=\"\"),\"\",U75+U76)","v":3},null,{"$f":"E69","v":"ＦＣ Ｒｉｓｏ"},null,null,null,null,null,null,null,null,null,null,{"$f":"DBCS(INDIRECT(\"U12対戦スケジュール!g\"&(ROW()-1)/2+14))","v":"５／９／９／５"}]
[null,null,null,null,null,null,null,null,null,null,null,null,null,null,null,null,null,null,0,"－",1]
[null,2,"09:50:00","10:30:00",null,null,null,null,null,{"$f":"S68","v":"昭和・戸祭ＳＣ"},null,null,null,null,null,null,{"$f":"IF(OR(S77=\"\",S78=\"\"),\"\",S77+S78)","v":0},null,0,"－",2,{"$f":"IF(OR(U77=\"\",U78=\"\"),\"\",U77+U78)","v":4},null,{"$f":"AG69","v":"豊郷ＪＦＣ宇都宮"},null,null,null,null,null,null,null,null,null,null,{"$f":"DBCS(INDIRECT(\"U12対戦スケジュール!g\"&(ROW()-1)/2+14))","v":"６／７／７／６"}]
[null,null,null,null,null,null,null,null,null,null,null,null,null,null,null,null,null,null,0,"－",2]
[null,3,"10:40:00",null,null,null,null,null,null,{"$f":"S67","v":"宝木キッカーズ"},null,null,null,null,null,null,{"$f":"IF(OR(S79=\"\",S80=\"\"),\"\",S79+S80)","v":3},null,1,"－",1,{"$f":"IF(OR(U79=\"\",U80=\"\"),\"\",U79+U80)","v":2},null,{"$f":"AG68","v":"サウス宇都宮ＳＣ"},null,null,null,null,null,null,null,null,null,null,{"$f":"DBCS(INDIRECT(\"U12対戦スケジュール!g\"&(ROW()-1)/2+14))","v":"１／５／５／１"}]
[null,null,null,null,null,null,null,null,null,null,null,null,null,null,null,null,null,null,2,"－",1]
[null,4,"11:30:00","10:30:00",null,null,null,null,null,{"$f":"E67","v":"姿川第一ＦＣ"},null,null,null,null,null,null,{"$f":"IF(OR(S81=\"\",S82=\"\"),\"\",S81+S82)","v":0},null,0,"－",0,{"$f":"IF(OR(U81=\"\",U82=\"\"),\"\",U81+U82)","v":0},null,{"$f":"S68","v":"昭和・戸祭ＳＣ"},null,null,null,null,null,null,null,null,null,null,{"$f":"DBCS(INDIRECT(\"U12対戦スケジュール!g\"&(ROW()-1)/2+14))","v":"２／６／６／２"}]
[null,null,null,null,null,null,null,null,null,null,null,null,null,null,null,null,null,null,0,"－",0]
[null,5,"12:20:00",null,null,null,null,null,null,{"$f":"E69","v":"ＦＣ Ｒｉｓｏ"},null,null,null,null,null,null,{"$f":"IF(OR(S83=\"\",S84=\"\"),\"\",S83+S84)","v":4},null,2,"－",0,{"$f":"IF(OR(U83=\"\",U84=\"\"),\"\",U83+U84)","v":0},null,{"$f":"S67","v":"宝木キッカーズ"},null,null,null,null,null,null,null,null,null,null,{"$f":"DBCS(INDIRECT(\"U12対戦スケジュール!g\"&(ROW()-1)/2+14))","v":"９／１／１／９"}]
[null,null,null,null,null,null,null,null,null,null,null,null,null,null,null,null,null,null,2,"－",0]
[null,6,"13:10:00","10:30:00",null,null,null,null,null,{"$f":"AG69","v":"豊郷ＪＦＣ宇都宮"},null,null,null,null,null,null,{"$f":"IF(OR(S85=\"\",S86=\"\"),\"\",S85+S86)","v":5},null,3,"－",0,{"$f":"IF(OR(U85=\"\",U86=\"\"),\"\",U85+U86)","v":0},null,{"$f":"E67","v":"姿川第一ＦＣ"},null,null,null,null,null,null,null,null,null,null,{"$f":"DBCS(INDIRECT(\"U12対戦スケジュール!g\"&(ROW()-1)/2+14))","v":"７／２／２／７"}]
[null,null,null,null,null,null,null,null,null,null,null,null,null,null,null,null,null,null,2,"－",0]
[null,7,"14:00:00","10:30:00",null,null,null,null,null,null,null,null,null,null,null,null,{"$f":"IF(OR(S87=\"\",S88=\"\"),\"\",S87+S88)","v":""},null,null,"－",null,{"$f":"IF(OR(U87=\"\",U88=\"\"),\"\",U87+U88)","v":""},null,null,null,null,null,null,null,null,null,null,null,null,{"$f":"DBCS(INDIRECT(\"U12対戦スケジュール!g\"&(ROW()-1)/2+14))","v":""}]
[null,null,null,null,null,null,null,null,null,null,null,null,null,null,null,null,null,null,null,"－"]
[]
[null,null,null,"警告／退場",null,null,null,null,null,"チーム名",null,null,null,null,null,null,null,"氏名",null,null,null,null,null,null,null,null,"番号",null,null,"理由"]
[null,null,null,"警告　　退場",null,null,null,null,null,{"$f":"S67","v":"宝木キッカーズ"},null,null,null,null,null,null,null,"大久保　史弥",null,null,null,null,null,null,null,null,6,null,null,"チャージング"]
[null,null,null,"警告　　退場"]
[null,null,null,"警告　　退場"]
["ＪＦＡ　U-12サッカーリーグ2018（in栃木） 宇河地域リーグ戦（後期）　　　　Ｂブロック"]
[]
[null,null,"会場",null,null,null,{"$f":"U12対戦スケジュール!F72","v":"姿川第一小"},null,null,null,null,null,null,null,null,"会場担当",null,null,null,{"$f":"U12対戦スケジュール!F73","v":"姿川第一ＦＣ"},null,null,null,null,null,null,null,null,"開催日",null,null,null,"2018-09-16"]
[]
[null,null,1,null,{"$f":"U12組合せ!$F$10","v":"姿川第一ＦＣ"},null,null,null,null,null,null,null,null,null,null,null,2,null,{"$f":"U12組合せ!$F$11","v":"宝木キッカーズ"},null,null,null,null,null,null,null,null,null,null,null,3,null,{"$f":"U12組合せ!$F$12","v":"ｕｎｉｏｎ ｓｃ"}]
[null,null,4,null,{"$f":"U12組合せ!$F$13","v":"河内ＳＣジュベニール"},null,null,null,null,null,null,null,null,null,null,null,5,null,{"$f":"U12組合せ!$F$14","v":"昭和・戸祭ＳＣ"},null,null,null,null,null,null,null,null,null,null,null,6,null,{"$f":"U12組合せ!$F$15","v":"サウス宇都宮ＳＣ"}]
[null,null,7,null,{"$f":"U12組合せ!$F$16","v":"ＦＣ Ｒｉｓｏ"},null,null,null,null,null,null,null,null,null,null,null,8,null,{"$f":"U12組合せ!$F$17","v":"富士見ＳＳＳ"},null,null,null,null,null,null,null,null,null,null,null,9,null,{"$f":"U12組合せ!$F$18","v":"豊郷ＪＦＣ宇都宮"}]
[]
[]
[]
[null,"【試合時間：２０分-５分-２０分】"]
[null,null,"試合開始",null,null,"監督サイン",null,null,null,"チーム名",null,null,null,null,null,null,"得点",null,null,null,null,null,null,"チーム名",null,null,null,null,null,null,"監督サイン",null,null,null,"主審／副審／副審／４審"]
[null,1,"09:00:00",null,null,null,null,null,null,{"$f":"E98","v":"姿川第一ＦＣ"},null,null,null,null,null,null,{"$f":"IF(OR(S106=\"\",S107=\"\"),\"\",S106+S107)","v":1},null,0,"－",0,{"$f":"IF(OR(U106=\"\",U107=\"\"),\"\",U106+U107)","v":2},null,{"$f":"AG99","v":"サウス宇都宮ＳＣ"},null,null,null,null,null,null,null,null,null,null,{"$f":"DBCS(INDIRECT(\"U12対戦スケジュール!g\"&(ROW()/2+21)))","v":"２／４／４／２"}]
[null,null,null,null,null,null,null,null,null,null,null,null,null,null,null,null,null,null,1,"－",2]
[null,2,"09:50:00","10:30:00",null,null,null,null,null,{"$f":"S98","v":"宝木キッカーズ"},null,null,null,null,null,null,{"$f":"IF(OR(S108=\"\",S109=\"\"),\"\",S108+S109)","v":1},null,1,"－",0,{"$f":"IF(OR(U108=\"\",U109=\"\"),\"\",U108+U109)","v":0},null,{"$f":"E99","v":"河内ＳＣジュベニール"},null,null,null,null,null,null,null,null,null,null,{"$f":"DBCS(INDIRECT(\"U12対戦スケジュール!g\"&(ROW()/2+21)))","v":"１／６／６／１"}]
[null,null,null,null,null,null,null,null,null,null,null,null,null,null,null,null,null,null,0,"－",0]
[null,3,"10:40:00",null,null,null,null,null,null,{"$f":"S100","v":"富士見ＳＳＳ"},null,null,null,null,null,null,{"$f":"IF(OR(S110=\"\",S111=\"\"),\"\",S110+S111)","v":1},null,0,"－",0,{"$f":"IF(OR(U110=\"\",U111=\"\"),\"\",U110+U111)","v":0},null,{"$f":"J106","v":"姿川第一ＦＣ"},null,null,null,null,null,null,null,null,null,null,{"$f":"DBCS(INDIRECT(\"U12対戦スケジュール!g\"&(ROW()/2+21)))","v":"９／２／２／９"}]
[null,null,null,null,null,null,null,null,null,null,null,null,null,null,null,null,null,null,1,"－",0]
[null,4,"11:30:00","10:30:00",null,null,null,null,null,{"$f":"AG100","v":"豊郷ＪＦＣ宇都宮"},null,null,null,null,null,null,{"$f":"IF(OR(S112=\"\",S113=\"\"),\"\",S112+S113)","v":9},null,5,"－",1,{"$f":"IF(OR(U112=\"\",U113=\"\"),\"\",U112+U113)","v":1},null,{"$f":"S98","v":"宝木キッカーズ"},null,null,null,null,null,null,null,null,null,null,{"$f":"DBCS(INDIRECT(\"U12対戦スケジュール!g\"&(ROW()/2+21)))","v":"８／１／１／８"}]
[null,null,null,null,null,null,null,null,null,null,null,null,null,null,null,null,null,null,4,"－",0]
[null,5,"12:20:00",null,null,null,null,null,null,{"$f":"AG99","v":"サウス宇都宮ＳＣ"},null,null,null,null,null,null,{"$f":"IF(OR(S114=\"\",S115=\"\"),\"\",S114+S115)","v":3},null,2,"－",0,{"$f":"IF(OR(U114=\"\",U115=\"\"),\"\",U114+U115)","v":1},null,{"$f":"S100","v":"富士見ＳＳＳ"},null,null,null,null,null,null,null,null,null,null,{"$f":"DBCS(INDIRECT(\"U12対戦スケジュール!g\"&(ROW()/2+21)))","v":"４／９／９／４"}]
[null,null,null,null,null,null,null,null,null,null,null,null,null,null,null,null,null,null,1,"－",1]
[null,6,"13:10:00","10:30:00",null,null,null,null,null,{"$f":"E99","v":"河内ＳＣジュベニール"},null,null,null,null,null,null,{"$f":"IF(OR(S116=\"\",S117=\"\"),\"\",S116+S117)","v":0},null,0,"－",2,{"$f":"IF(OR(U116=\"\",U117=\"\"),\"\",U116+U117)","v":4},null,{"$f":"AG100","v":"豊郷ＪＦＣ宇都宮"},null,null,null,null,null,null,null,null,null,null,{"$f":"DBCS(INDIRECT(\"U12対戦スケジュール!g\"&(ROW()/2+21)))","v":"６／８／８／６"}]
[null,null,null,null,null,null,null,null,null,null,null,null,null,null,null,null,null,null,0,"－",2]
[null,7,"14:00:00","10:30:00",null,null,null,null,null,null,null,null,null,null,null,null,{"$f":"IF(OR(S118=\"\",S119=\"\"),\"\",S118+S119)","v":""},null,null,"－",null,{"$f":"IF(OR(U118=\"\",U119=\"\"),\"\",U118+U119)","v":""}]
[null,null,null,null,null,null,null,null,null,null,null,null,null,null,null,null,null,null,null,"－"]
[]
[null,null,null,"警告／退場",null,null,null,null,null,"チーム名",null,null,null,null,null,null,null,"氏名",null,null,null,null,null,null,null,null,"番号",null,null,"理由"]
[null,null,null,"警告　　退場"]
[null,null,null,"警告　　退場"]
[null,null,null,"警告　　退場"]
["ＪＦＡ　U-12サッカーリーグ2018（in栃木） 宇河地域リーグ戦（後期）　　　　Ｂ・Ｃブロック"]
[]
[null,null,"会場",null,null,null,{"$f":"U12対戦スケジュール!D94","v":"平出Ｂ"},null,null,null,null,null,null,null,null,"会場担当",null,null,null,{"$f":"U12対戦スケジュール!D95","v":"昭和戸祭SC"},null,null,null,null,null,null,null,null,"開催日",null,null,null,"2018-09-17"]
[]
[null,null,"B2",null,{"$f":"U12組合せ!F11","v":"宝木キッカーズ"},null,null,null,null,null,null,null,null,null,null,null,"B5",null,{"$f":"U12組合せ!F14","v":"昭和・戸祭ＳＣ"},null,null,null,null,null,null,null,null,null,null,null,"B8",null,{"$f":"U12組合せ!F17","v":"富士見ＳＳＳ"}]
[null,null,"C1",null,{"$f":"U12組合せ!H10","v":"清原ＳＳＳ"},null,null,null,null,null,null,null,null,null,null,null,"C6",null,{"$f":"U12組合せ!H15","v":"宇都宮北部ＦＣトレ"},null,null,null,null,null,null,null,null,null,null,null,"C8",null,{"$f":"U12組合せ!H17","v":"クラブチェルビアット"}]
[]
[]
[]
[]
[null,"【試合時間：２０分-５分-２０分】"]
[null,null,"試合開始",null,null,"監督サイン",null,null,null,"チーム名",null,null,null,null,null,null,"得点",null,null,null,null,null,null,"チーム名",null,null,null,null,null,null,"監督サイン",null,null,null,"主審／副審／副審／４審"]
[null,1,"09:00:00",null,null,null,null,null,null,{"$f":"AG129","v":"富士見ＳＳＳ"},null,null,null,null,null,null,{"$f":"IF(OR(S137=\"\",S138=\"\"),\"\",S137+S138)","v":0},null,0,"－",2,{"$f":"IF(OR(U137=\"\",U138=\"\"),\"\",U137+U138)","v":2},null,{"$f":"E129","v":"宝木キッカーズ"},null,null,null,null,null,null,null,null,null,null,{"$f":"DBCS(INDIRECT(\"U12対戦スケジュール!e\"&(ROW()-1)/2+28))","v":"Ｃ１／Ｃ６／Ｃ６／Ｃ１"}]
[null,null,null,null,null,null,null,null,null,null,null,null,null,null,null,null,null,null,0,"－",0]
[null,2,"09:50:00","10:30:00",null,null,null,null,null,{"$f":"E130","v":"清原ＳＳＳ"},null,null,null,null,null,null,{"$f":"IF(OR(S139=\"\",S140=\"\"),\"\",S139+S140)","v":3},null,2,"－",0,{"$f":"IF(OR(U139=\"\",U140=\"\"),\"\",U139+U140)","v":0},null,{"$f":"S130","v":"宇都宮北部ＦＣトレ"},null,null,null,null,null,null,null,null,null,null,{"$f":"DBCS(INDIRECT(\"U12対戦スケジュール!e\"&(ROW()-1)/2+28))","v":"Ｂ８／Ｂ２／Ｂ２／Ｂ８"}]
[null,null,null,null,null,null,null,null,null,null,null,null,null,null,null,null,null,null,1,"－",0]
[null,3,"10:40:00",null,null,null,null,null,null,{"$f":"S129","v":"昭和・戸祭ＳＣ"},null,null,null,null,null,null,{"$f":"IF(OR(S141=\"\",S142=\"\"),\"\",S141+S142)","v":5},null,3,"－",1,{"$f":"IF(OR(U141=\"\",U142=\"\"),\"\",U141+U142)","v":1},null,{"$f":"AG129","v":"富士見ＳＳＳ"},null,null,null,null,null,null,null,null,null,null,{"$f":"DBCS(INDIRECT(\"U12対戦スケジュール!e\"&(ROW()-1)/2+28))","v":"Ｃ８／Ｃ１／Ｃ１／Ｃ８"}]
[null,null,null,null,null,null,null,null,null,null,null,null,null,null,null,null,null,null,2,"－",0]
[null,4,"11:30:00","10:30:00",null,null,null,null,null,{"$f":"AG130","v":"クラブチェルビアット"},null,null,null,null,null,null,{"$f":"IF(OR(S143=\"\",S144=\"\"),\"\",S143+S144)","v":2},null,1,"－",0,{"$f":"IF(OR(U143=\"\",U144=\"\"),\"\",U143+U144)","v":2},null,{"$f":"E130","v":"清原ＳＳＳ"},null,null,null,null,null,null,null,null,null,null,{"$f":"DBCS(INDIRECT(\"U12対戦スケジュール!e\"&(ROW()-1)/2+28))","v":"Ｂ５／Ｂ８／Ｂ８／Ｂ５"}]
[null,null,null,null,null,null,null,null,null,null,null,null,null,null,null,null,null,null,1,"－",2]
[null,5,"12:20:00",null,null,null,null,null,null,{"$f":"E129","v":"宝木キッカーズ"},null,null,null,null,null,null,{"$f":"IF(OR(S145=\"\",S146=\"\"),\"\",S145+S146)","v":1},null,1,"－",0,{"$f":"IF(OR(U145=\"\",U146=\"\"),\"\",U145+U146)","v":1},null,{"$f":"S129","v":"昭和・戸祭ＳＣ"},null,null,null,null,null,null,null,null,null,null,{"$f":"DBCS(INDIRECT(\"U12対戦スケジュール!e\"&(ROW()-1)/2+28))","v":"Ｃ６／Ｃ８／Ｃ８／Ｃ６"}]
[null,null,null,null,null,null,null,null,null,null,null,null,null,null,null,null,null,null,0,"－",1]
[null,6,"13:10:00","10:30:00",null,null,null,null,null,{"$f":"S130","v":"宇都宮北部ＦＣトレ"},null,null,null,null,null,null,{"$f":"IF(OR(S147=\"\",S148=\"\"),\"\",S147+S148)","v":0},null,0,"－",1,{"$f":"IF(OR(U147=\"\",U148=\"\"),\"\",U147+U148)","v":4},null,{"$f":"AG130","v":"クラブチェルビアット"},null,null,null,null,null,null,null,null,null,null,{"$f":"DBCS(INDIRECT(\"U12対戦スケジュール!e\"&(ROW()-1)/2+28))","v":"Ｂ２／Ｂ５／Ｂ５／Ｂ２"}]
[null,null,null,null,null,null,null,null,null,null,null,null,null,null,null,null,null,null,0,"－",3]
[null,7,"14:00:00","10:30:00",null,null,null,null,null,null,null,null,null,null,null,null,{"$f":"IF(OR(S149=\"\",S150=\"\"),\"\",S149+S150)","v":""},null,null,"－",null,{"$f":"IF(OR(U149=\"\",U150=\"\"),\"\",U149+U150)","v":""}]
[null,null,null,null,null,null,null,null,null,null,null,null,null,null,null,null,null,null,null,"－"]
[]
[null,null,null,"警告／退場",null,null,null,null,null,"チーム名",null,null,null,null,null,null,null,"氏名",null,null,null,null,null,null,null,null,"番号",null,null,"理由"]
[null,null,null,"警告　　退場"]
[null,null,null,"警告　　退場"]
[null,null,null,"警告　　退場"]

{"sheet":"Ｃブロック対戦表","index":5,"n_rows":120,"n_cols":78,"rows_kept":120,"cut":false,"hidden":false,"merged":[[105,34,106,41],[107,34,108,41],[109,34,110,41],[111,34,112,41],[113,34,114,41],[98,2,98,3],[98,4,98,13],[98,16,98,17],[98,18,98,27],[98,30,98,31],[98,32,98,41],[99,2,99,3],[99,4,99,13],[99,16,99,17],[99,18,99,27],[99,30,99,31],[99,32,99,41],[102,2,102,4],[102,5,102,8],[102,9,102,15],[102,16,102,22],[102,23,102,29],[102,30,102,33],[102,34,102,41],[97,2,97,3],[97,4,97,13],[97,16,97,17],[97,18,97,27],[97,30,97,31],[97,32,97,41],[96,2,96,3],[96,4,96,13],[96,16,96,17],[96,18,96,27],[96,30,96,31],[96,32,96,41],[95,2,95,3],[95,4,95,13],[95,16,95,17],[95,18,95,27],[95,30,95,31],[95,32,95,41],[66,73,66,74],[66,75,66,84],[67,2,67,3],[67,4,67,13],[67,16,67,17],[67,18,67,27],[67,30,67,31],[67,32,67,41],[67,45,67,46],[67,47,67,56],[67,59,67,60],[67,61,67,70],[67,73,67,74],[67,75,67,84],[66,4,66,13],[66,16,66,17],[66,18,66,27],[66,30,66,31],[66,32,66,41],[66,45,66,46],[66,47,66,56],[66,59,66,60],[66,61,66,70],[37,73,37,74],[37,75,37,84],[38,30,38,31],[38,32,38,41],[65,61,65,70],[65,73,65,74],[65,75,65,84],[47,34,48,41],[49,34,50,41],[51,34,52,41],[53,34,54,41],[42,77,42,84],[43,77,44,84],[45,77,46,84],[47,77,48,84],[49,77,50,84],[51,77,52,84],[53,77,54,84],[39,45,39,46],[37,4,37,13],[37,16,37,17],[37,18,37,27],[37,30,37,31],[37,32,37,41],[37,45,37,46],[37,47,37,56],[37,59,37,60],[65,2,65,3],[65,4,65,13],[65,16,65,17],[65,18,65,27],[65,30,65,31],[65,32,65,41],[65,45,65,46],[65,47,65,56],[65,59,65,60],[43,45,44,47],[43,48,44,51],[43,52,44,58],[43,59,44,60],[47,2,48,4],[47,5,48,8],[47,9,48,15],[35,73,35,74],[35,75,35,84],[36,2,36,3],[36,4,36,13],[36,16,36,17],[36,18,36,27],[36,30,36,31],[36,32,36,41],[36,45,36,46],[36,47,36,56],[36,59,36,60],[36,61,36,70],[36,73,36,74],[36,75,36,84],[5,61,5,70],[5,73,5,74],[5,75,5,84],[6,45,6,46],[6,47,6,56],[6,59,6,60],[6,61,6,70],[6,73,6,74],[6,75,6,84],[5,30,5,31],[5,32,5,41],[6,30,6,31],[6,32,6,41],[7,30,7,31],[7,32,7,41],[5,45,5,46],[5,47,5,56],[5,59,5,60],[7,45,7,46],[7,47,7,56],[7,59,7,60],[5,2,5,3],[5,4,5,13],[6,2,6,3],[6,4,6,13],[7,2,7,3],[7,4,7,13],[5,16,5,17],[5,18,5,27],[6,16,6,17],[6,18,6,27],[7,16,7,17],[7,18,7,27],[81,34,82,41],[83,34,84,41],[72,77,72,84],[73,77,74,84],[75,77,76,84],[77,77,78,84],[79,77,80,84],[81,77,82,84],[83,77,84,84],[73,45,74,47],[73,48,74,51],[73,52,74,58],[73,59,74,60],[73,64,74,65],[73,66,74,72],[73,73,74,76],[75,45,76,47],[75,48,76,51],[75,52,76,58],[75,64,76,65],[75,66,76,72],[75,73,76,76],[77,45,78,47],[77,48,78,51],[13,34,14,41],[15,34,16,41],[17,34,18,41],[19,34,20,41],[21,34,22,41],[23,34,24,41],[42,34,42,41],[43,34,44,41],[45,34,46,41],[35,32,35,41],[30,0,31,42],[39,16,39,17],[39,18,39,27],[39,30,39,31],[39,32,39,41],[43,1,44,1],[43,2,44,4],[43,5,44,8],[43,9,44,15],[43,16,44,17],[43,21,44,22],[43,23,44,29],[43,30,44,33],[37,2,37,3],[7,61,7,70],[7,73,7,74],[7,75,7,84],[12,77,12,84],[13,77,14,84],[15,77,16,84],[8,45,8,46],[8,47,8,56],[8,59,8,60],[8,61,8,70],[8,73,8,74],[8,75,8,84],[15,73,16,76],[9,45,9,46],[9,47,9,56],[9,59,9,60],[9,61,9,70],[9,73,9,74],[9,75,9,84],[8,2,8,3],[8,4,8,13],[8,16,8,17],[8,18,8,27],[8,30,8,31],[8,32,8,41],[28,46,28,51],[28,52,28,59],[28,60,28,68],[23,66,24,72],[21,66,22,72],[19,66,20,72],[17,66,18,72],[15,66,16,72],[13,66,14,72],[13,44,14,44],[13,45,14,47],[13,48,14,51],[13,52,14,58],[13,59,14,60],[13,64,14,65],[12,45,12,47],[12,48,12,51],[12,52,12,58],[28,69,28,71],[28,72,28,81],[29,46,29,51],[29,52,29,59],[29,60,29,68],[29,69,29,71],[29,72,29,81],[26,46,26,51],[26,52,26,59],[26,60,26,68],[26,69,26,71],[26,72,26,81],[27,46,27,51],[27,52,27,59],[27,60,27,68],[27,69,27,71],[27,72,27,81],[23,73,24,76],[23,44,24,44],[23,45,24,47],[23,48,24,51],[23,52,24,58],[23,59,24,60],[23,64,24,65],[23,77,24,84],[21,73,22,76],[21,44,22,44],[21,45,22,47],[21,48,22,51],[21,52,22,58],[21,59,22,60],[21,64,22,65],[21,77,22,84],[19,73,20,76],[19,44,20,44],[19,45,20,47],[19,48,20,51],[19,52,20,58],[19,59,20,60],[19,64,20,65],[19,77,20,84],[17,73,18,76],[17,44,18,44],[17,45,18,47],[17,48,18,51],[17,52,18,58],[17,59,18,60],[17,64,18,65],[17,77,18,84],[15,44,16,44],[15,45,16,47],[15,48,16,51],[15,52,16,58],[15,59,16,60],[15,64,16,65],[13,73,14,76],[12,59,12,65],[12,66,12,72],[12,73,12,76],[4,45,4,46],[4,47,4,56],[4,59,4,60],[4,61,4,70],[4,73,4,74],[4,75,4,84],[0,43,1,85],[2,45,2,48],[2,49,2,57],[2,58,2,61],[2,62,2,70],[2,71,2,74],[2,75,2,83],[0,0,1,42],[2,2,2,5],[2,6,2,14],[2,15,2,18],[2,19,2,27],[2,28,2,31],[2,32,2,40],[4,2,4,3],[4,4,4,13],[4,16,4,17],[4,18,4,27],[4,30,4,31],[4,32,4,41],[9,2,9,3],[9,4,9,13],[9,16,9,17],[9,18,9,27],[9,30,9,31],[9,32,9,41],[12,2,12,4],[12,5,12,8],[12,9,12,15],[12,16,12,22],[12,23,12,29],[12,30,12,33],[12,34,12,41],[15,1,16,1],[15,2,16,4],[15,5,16,8],[15,9,16,15],[15,16,16,17],[15,21,16,22],[15,23,16,29],[15,30,16,33],[13,1,14,1],[13,2,14,4],[13,5,14,8],[13,9,14,15],[13,16,14,17],[13,21,14,22],[13,23,14,29],[13,30,14,33],[19,1,20,1],[19,2,20,4],[19,5,20,8],[19,9,20,15],[19,16,20,17],[19,21,20,22],[19,23,20,29],[19,30,20,33],[17,1,18,1],[17,2,18,4],[17,5,18,8],[17,9,18,15],[17,16,18,17],[17,21,18,22],[17,23,18,29],[17,30,18,33],[23,1,24,1],[23,2,24,4],[23,5,24,8],[23,9,24,15],[23,16,24,17],[23,21,24,22],[23,23,24,29],[23,30,24,33],[21,1,22,1],[21,2,22,4],[21,5,22,8],[21,9,22,15],[21,16,22,17],[21,21,22,22],[21,23,22,29],[21,30,22,33],[26,3,26,8],[26,9,26,16],[26,17,26,25],[26,26,26,28],[26,29,26,38],[27,3,27,8],[27,9,27,16],[27,17,27,25],[27,26,27,28],[27,29,27,38],[28,3,28,8],[28,9,28,16],[28,17,28,25],[28,26,28,28],[28,29,28,38],[29,3,29,8],[29,9,29,16],[29,17,29,25],[29,26,29,28],[29,29,29,38],[30,43,31,85],[32,2,32,5],[32,6,32,14],[32,15,32,18],[32,19,32,27],[32,28,32,31],[32,32,32,40],[32,45,32,48],[32,49,32,57],[32,58,32,61],[32,62,32,70],[32,71,32,74],[32,75,32,83],[34,73,34,74],[34,75,34,84],[38,2,38,3],[38,4,38,13],[38,16,38,17],[38,18,38,27],[38,45,38,46],[38,47,38,56],[38,59,38,60],[38,61,38,70],[38,73,38,74],[38,75,38,84],[34,2,34,3],[34,4,34,13],[34,16,34,17],[34,18,34,27],[34,30,34,31],[34,32,34,41],[34,45,34,46],[34,47,34,56],[34,59,34,60],[35,2,35,3],[35,4,35,13],[35,16,35,17],[34,61,34,70],[39,61,39,70],[35,18,35,27],[35,30,35,31],[35,45,35,46],[35,47,35,56],[35,59,35,60],[35,61,35,70],[37,61,37,70],[39,73,39,74],[39,75,39,84],[42,2,42,4],[42,5,42,8],[42,9,42,15],[42,16,42,22],[42,23,42,29],[42,30,42,33],[42,45,42,47],[42,48,42,51],[42,52,42,58],[42,59,42,65],[42,66,42,72],[42,73,42,76],[39,2,39,3],[39,4,39,13],[39,47,39,56],[39,59,39,60],[45,1,46,1],[45,2,46,4],[45,5,46,8],[45,9,46,15],[45,16,46,17],[45,21,46,22],[45,23,46,29],[45,30,46,33],[45,44,46,44],[43,44,44,44],[47,45,48,47],[47,48,48,51],[47,52,48,58],[43,64,44,65],[43,66,44,72],[43,73,44,76],[45,45,46,47],[45,48,46,51],[45,52,46,58],[45,59,46,60],[45,64,46,65],[45,66,46,72],[45,73,46,76],[47,59,48,60],[47,64,48,65],[47,66,48,72],[47,73,48,76],[49,45,50,47],[49,48,50,51],[49,52,50,58],[49,59,50,60],[49,64,50,65],[49,66,50,72],[49,73,50,76],[47,1,48,1],[47,16,48,17],[47,21,48,22],[47,23,48,29],[49,1,50,1],[49,2,50,4],[49,5,50,8],[49,9,50,15],[49,16,50,17],[49,21,50,22],[49,23,50,29],[49,30,50,33],[49,44,50,44],[47,30,48,33],[47,44,48,44],[51,73,52,76],[53,1,54,1],[53,2,54,4],[53,5,54,8],[53,9,54,15],[53,16,54,17],[53,21,54,22],[53,23,54,29],[53,30,54,33],[53,44,54,44],[53,45,54,47],[53,48,54,51],[53,52,54,58],[53,59,54,60],[53,64,54,65],[53,66,54,72],[53,73,54,76],[51,1,52,1],[51,2,52,4],[51,5,52,8],[51,9,52,15],[51,16,52,17],[51,21,52,22],[51,23,52,29],[56,9,56,16],[56,17,56,25],[56,26,56,28],[56,29,56,38],[56,46,56,51],[56,52,56,59],[56,60,56,68],[56,69,56,71],[51,45,52,47],[51,48,52,51],[51,52,52,58],[51,59,52,60],[51,64,52,65],[51,66,52,72],[51,30,52,33],[51,44,52,44],[59,60,59,68],[59,69,59,71],[56,72,56,81],[57,72,57,81],[58,3,58,8],[58,9,58,16],[58,17,58,25],[58,26,58,28],[58,29,58,38],[58,46,58,51],[58,52,58,59],[58,60,58,68],[58,69,58,71],[58,72,58,81],[57,3,57,8],[57,9,57,16],[57,17,57,25],[57,26,57,28],[57,29,57,38],[57,46,57,51],[57,52,57,59],[57,60,57,68],[57,69,57,71],[56,3,56,8],[64,59,64,60],[66,2,66,3],[59,72,59,81],[60,0,61,42],[60,43,61,85],[62,2,62,5],[62,6,62,14],[62,15,62,18],[62,19,62,27],[62,28,62,31],[62,32,62,40],[62,45,62,48],[62,49,62,57],[62,58,62,61],[62,62,62,70],[62,71,62,74],[62,75,62,83],[59,3,59,8],[59,9,59,16],[59,17,59,25],[59,26,59,28],[59,29,59,38],[59,46,59,51],[59,52,59,59],[64,61,64,70],[69,61,69,70],[64,73,64,74],[64,75,64,84],[68,2,68,3],[68,4,68,13],[68,16,68,17],[68,18,68,27],[68,30,68,31],[68,32,68,41],[68,45,68,46],[68,47,68,56],[68,59,68,60],[68,61,68,70],[68,73,68,74],[68,75,68,84],[64,2,64,3],[64,4,64,13],[64,16,64,17],[64,18,64,27],[64,30,64,31],[64,32,64,41],[64,45,64,46],[64,47,64,56],[69,73,69,74],[69,75,69,84],[72,2,72,4],[72,5,72,8],[72,9,72,15],[72,16,72,22],[72,23,72,29],[72,30,72,33],[72,45,72,47],[72,48,72,51],[72,52,72,58],[72,59,72,65],[72,66,72,72],[72,73,72,76],[69,2,69,3],[69,4,69,13],[69,16,69,17],[69,18,69,27],[69,30,69,31],[69,32,69,41],[69,45,69,46],[69,47,69,56],[69,59,69,60],[72,34,72,41],[73,1,74,1],[73,2,74,4],[73,5,74,8],[73,9,74,15],[73,16,74,17],[73,21,74,22],[73,23,74,29],[73,30,74,33],[73,44,74,44],[73,34,74,41],[77,64,78,65],[77,66,78,72],[77,73,78,76],[75,1,76,1],[75,2,76,4],[75,5,76,8],[75,9,76,15],[75,16,76,17],[77,1,78,1],[77,2,78,4],[77,5,78,8],[77,9,78,15],[77,16,78,17],[77,21,78,22],[77,23,78,29],[77,30,78,33],[77,44,78,44],[79,21,80,22],[79,23,80,29],[79,30,80,33],[79,44,80,44],[75,59,76,60],[75,21,76,22],[75,23,76,29],[75,30,76,33],[75,44,76,44],[75,34,76,41],[77,34,78,41],[79,34,80,41],[79,45,80,47],[79,48,80,51],[79,52,80,58],[79,59,80,60],[77,52,78,58],[77,59,78,60],[79,64,80,65],[79,66,80,72],[79,73,80,76],[81,1,82,1],[81,2,82,4],[81,5,82,8],[81,9,82,15],[81,16,82,17],[81,21,82,22],[81,23,82,29],[81,30,82,33],[81,44,82,44],[81,45,82,47],[81,48,82,51],[81,52,82,58],[81,59,82,60],[81,64,82,65],[81,66,82,72],[81,73,82,76],[79,1,80,1],[79,2,80,4],[79,5,80,8],[79,9,80,15],[79,16,80,17],[83,1,84,1],[83,2,84,4],[83,5,84,8],[83,9,84,15],[83,16,84,17],[83,21,84,22],[83,23,84,29],[83,30,84,33],[83,44,84,44],[83,45,84,47],[83,48,84,51],[83,52,84,58],[83,59,84,60],[83,64,84,65],[83,66,84,72],[83,73,84,76],[86,3,86,8],[86,9,86,16],[86,17,86,25],[86,26,86,28],[86,29,86,38],[86,46,86,51],[86,52,86,59],[86,60,86,68],[86,69,86,71],[86,72,86,81],[87,72,87,81],[88,3,88,8],[88,9,88,16],[88,17,88,25],[88,26,88,28],[88,29,88,38],[88,46,88,51],[88,52,88,59],[88,60,88,68],[88,69,88,71],[88,72,88,81],[87,3,87,8],[87,9,87,16],[87,17,87,25],[87,26,87,28],[87,29,87,38],[87,46,87,51],[87,52,87,59],[87,60,87,68],[87,69,87,71],[94,32,94,41],[89,72,89,81],[90,0,91,42],[92,2,92,5],[92,6,92,14],[92,15,92,18],[92,19,92,27],[92,28,92,31],[92,32,92,40],[89,3,89,8],[89,9,89,16],[89,17,89,25],[89,26,89,28],[89,29,89,38],[94,2,94,3],[94,4,94,13],[94,16,94,17],[94,18,94,27],[94,30,94,31],[89,46,89,51],[89,52,89,59],[89,60,89,68],[89,69,89,71],[103,1,104,1],[103,2,104,4],[103,5,104,8],[103,9,104,15],[103,16,104,17],[103,21,104,22],[103,23,104,29],[103,30,104,33],[103,34,104,41],[105,1,106,1],[105,2,106,4],[105,5,106,8],[105,9,106,15],[105,16,106,17],[105,21,106,22],[105,23,106,29],[105,30,106,33],[107,1,108,1],[107,2,108,4],[107,5,108,8],[107,9,108,15],[107,16,108,17],[107,21,108,22],[107,23,108,29],[107,30,108,33],[109,1,110,1],[109,2,110,4],[109,5,110,8],[109,9,110,15],[109,16,110,17],[109,21,110,22],[109,23,110,29],[109,30,110,33],[111,1,112,1],[111,2,112,4],[111,5,112,8],[111,9,112,15],[111,16,112,17],[111,21,112,22],[111,23,112,29],[111,30,112,33],[113,1,114,1],[113,2,114,4],[113,5,114,8],[113,9,114,15],[113,16,114,17],[113,21,114,22],[113,23,114,29],[113,30,114,33],[117,29,117,38],[116,3,116,8],[116,9,116,16],[116,17,116,25],[116,26,116,28],[116,29,116,38],[117,3,117,8],[117,9,117,16],[117,17,117,25],[117,26,117,28],[118,3,118,8],[118,9,118,16],[118,17,118,25],[118,26,118,28],[118,29,118,38],[119,3,119,8],[119,9,119,16],[119,17,119,25],[119,26,119,28],[119,29,119,38]]}
["ＪＦＡ　U-12サッカーリーグ2018（in栃木） 宇河地域リーグ戦（後期）　　　　Ｃブロック",null,null,null,null,null,null,null,null,null,null,null,null,null,null,null,null,null,null,null,null,null,null,null,null,null,null,null,null,null,null,null,null,null,null,null,null,null,null,null,null,null,null,"ＪＦＡ　U-12サッカーリーグ2018（in栃木） 宇河地域リーグ戦（後期）　　　　Ｃ・Ｄブロック"]
[]
[null,null,"会場",null,null,null,"清原南小",null,null,null,null,null,null,null,null,"会場担当",null,null,null,"清原ＳＳＳ",null,null,null,null,null,null,null,null,"開催日",null,null,null,"2018-09-02",null,null,null,null,null,null,null,null,null,null,null,null,"会場",null,null,null,"石井６",null,null,null,null,null,null,null,null,"会場担当",null,null,null,"ＦＣブロケード",null,null,null,null,null,null,null,null,"開催日",null,null,null,"2018-09-02"]
[]
[null,null,"C1",null,{"$f":"U12組合せ!$H$10","v":"清原ＳＳＳ"},null,null,null,null,null,null,null,null,null,null,null,"C2",null,{"$f":"U12組合せ!$H$11","v":"ＦＣみらい Ｐ"},null,null,null,null,null,null,null,null,null,null,null,"C3",null,{"$f":"U12組合せ!$H$12","v":"雀宮ＦＣ"},null,null,null,null,null,null,null,null,null,null,null,null,"C1",null,{"$f":"U12組合せ!$H$10","v":"清原ＳＳＳ"},null,null,null,null,null,null,null,null,null,null,null,"C2",null,{"$f":"U12組合せ!$H$11","v":"ＦＣみらい Ｐ"},null,null,null,null,null,null,null,null,null,null,null,"C3",null,{"$f":"U12組合せ!$H$12","v":"雀宮ＦＣ"}]
[null,null,"C4",null,{"$f":"U12組合せ!$H$13","v":"ＳＵＧＡＯ ＳＣ"},null,null,null,null,null,null,null,null,null,null,null,"C5",null,{"$f":"U12組合せ!$H$14","v":"Ｓ４スペランツァ"},null,null,null,null,null,null,null,null,null,null,null,"C6",null,{"$f":"U12組合せ!$H$15","v":"宇都宮北部ＦＣトレ"},null,null,null,null,null,null,null,null,null,null,null,null,"C4",null,{"$f":"U12組合せ!$H$13","v":"ＳＵＧＡＯ ＳＣ"},null,null,null,null,null,null,null,null,null,null,null,"C5",null,{"$f":"U12組合せ!$H$14","v":"Ｓ４スペランツァ"},null,null,null,null,null,null,null,null,null,null,null,"C6",null,{"$f":"U12組合せ!$H$15","v":"宇都宮北部ＦＣトレ"}]
[null,null,"C7",null,{"$f":"U12組合せ!$H$16","v":"上三川ＦＣ"},null,null,null,null,null,null,null,null,null,null,null,"C8",null,{"$f":"U12組合せ!$H$17","v":"クラブチェルビアット"},null,null,null,null,null,null,null,null,null,null,null,"C9",null,{"$f":"U12組合せ!$H$18","v":"ＦＣブロケード"},null,null,null,null,null,null,null,null,null,null,null,null,"C7",null,{"$f":"U12組合せ!$H$16","v":"上三川ＦＣ"},null,null,null,null,null,null,null,null,null,null,null,"C8",null,{"$f":"U12組合せ!$H$17","v":"クラブチェルビアット"},null,null,null,null,null,null,null,null,null,null,null,"C9",null,{"$f":"U12組合せ!$H$18","v":"ＦＣブロケード"}]
[null,null,"D1",null,{"$f":"U12組合せ!$J$10","v":"上河内ＪＳＣ"},null,null,null,null,null,null,null,null,null,null,null,"D2",null,{"$f":"U12組合せ!$J$11","v":"上三川ＳＣ"},null,null,null,null,null,null,null,null,null,null,null,"D3",null,{"$f":"U12組合せ!$J$12","v":"緑が丘ＹＦＣ"},null,null,null,null,null,null,null,null,null,null,null,null,"D1",null,{"$f":"U12組合せ!$J$10","v":"上河内ＪＳＣ"},null,null,null,null,null,null,null,null,null,null,null,"D2",null,{"$f":"U12組合せ!$J$11","v":"上三川ＳＣ"},null,null,null,null,null,null,null,null,null,null,null,"D3",null,{"$f":"U12組合せ!$J$12","v":"緑が丘ＹＦＣ"}]
[null,null,"D4",null,{"$f":"U12組合せ!$J$13","v":"泉ＦＣ宇都宮"},null,null,null,null,null,null,null,null,null,null,null,"D5",null,{"$f":"U12組合せ!$J$14","v":"国本ＪＳＣ"},null,null,null,null,null,null,null,null,null,null,null,"D6",null,{"$f":"U12組合せ!$J$15","v":"本郷北ＦＣ"},null,null,null,null,null,null,null,null,null,null,null,null,"D4",null,{"$f":"U12組合せ!$J$13","v":"泉ＦＣ宇都宮"},null,null,null,null,null,null,null,null,null,null,null,"D5",null,{"$f":"U12組合せ!$J$14","v":"国本ＪＳＣ"},null,null,null,null,null,null,null,null,null,null,null,"D6",null,{"$f":"U12組合せ!$J$15","v":"本郷北ＦＣ"}]
[null,null,"D7",null,{"$f":"U12組合せ!$J$16","v":"ＦＣペンサーレ"},null,null,null,null,null,null,null,null,null,null,null,"D8",null,{"$f":"U12組合せ!$J$17","v":"ブラッドレスＳＳ"},null,null,null,null,null,null,null,null,null,null,null,"D9",null,{"$f":"U12組合せ!$J$18","v":"ともぞうＳＣ・Ｂ"},null,null,null,null,null,null,null,null,null,null,null,null,"D7",null,{"$f":"U12組合せ!$J$16","v":"ＦＣペンサーレ"},null,null,null,null,null,null,null,null,null,null,null,"D8",null,{"$f":"U12組合せ!$J$17","v":"ブラッドレスＳＳ"},null,null,null,null,null,null,null,null,null,null,null,"D9",null,{"$f":"U12組合せ!$J$18","v":"ともぞうＳＣ・Ｂ"}]
[]
[null,"【試合時間：２０分-５分-２０分】",null,null,null,null,null,null,null,null,null,null,null,null,null,null,null,null,null,null,null,null,null,null,null,null,null,null,null,null,null,null,null,null,null,null,null,null,null,null,null,null,null,null,"【試合時間：２０分-５分-２０分】"]
[null,null,"試合開始",null,null,"監督サイン",null,null,null,"チーム名",null,null,null,null,null,null,"得点",null,null,null,null,null,null,"チーム名",null,null,null,null,null,null,"監督サイン",null,null,null,"主審／副審／副審／４審",null,null,null,null,null,null,null,null,null,null,"試合開始",null,null,"監督サイン",null,null,null,"チーム名",null,null,null,null,null,null,"得点",null,null,null,null,null,null,"チーム名",null,null,null,null,null,null,"監督サイン",null,null,null,"主審／副審／副審／４審"]
[null,1,"09:00:00",null,null,null,null,null,null,{"$f":"E5","v":"清原ＳＳＳ"},null,null,null,null,null,null,{"$f":"IF(OR(S14=\"\",S15=\"\"),\"\",S14+S15)","v":2},null,0,"－",1,{"$f":"IF(OR(U14=\"\",U15=\"\"),\"\",U14+U15)","v":1},null,{"$f":"S5","v":"ＦＣみらい Ｐ"},null,null,null,null,null,null,null,null,null,null,{"$f":"DBCS(INDIRECT(\"U12対戦スケジュール!c\"&(ROW()/2+12)))","v":"４／５／５／４"},null,null,null,null,null,null,null,null,null,1,"09:00:00",null,null,null,null,null,null,{"$f":"AV7","v":"上三川ＦＣ"},null,null,null,null,null,null,{"$f":"IF(OR(BJ14=\"\",BJ15=\"\"),\"\",BJ14+BJ15)","v":0},null,0,"－",5,{"$f":"IF(OR(BL14=\"\",BL15=\"\"),\"\",BL14+BL15)","v":7},null,{"$f":"BJ7","v":"クラブチェルビアット"},null,null,null,null,null,null,null,null,null,null,{"$f":"DBCS(INDIRECT(\"U12対戦スケジュール!e\"&(ROW()/2+12)))","v":"Ｄ７／Ｄ８／Ｄ８／Ｄ７"}]
[null,null,null,null,null,null,null,null,null,null,null,null,null,null,null,null,null,null,2,"－",0,null,null,null,null,null,null,null,null,null,null,null,null,null,null,null,null,null,null,null,null,null,null,null,null,null,null,null,null,null,null,null,null,null,null,null,null,null,null,null,null,0,"－",2]
[null,2,"09:50:00","10:30:00",null,null,null,null,null,{"$f":"E6","v":"ＳＵＧＡＯ ＳＣ"},null,null,null,null,null,null,{"$f":"IF(OR(S16=\"\",S17=\"\"),\"\",S16+S17)","v":4},null,0,"－",2,{"$f":"IF(OR(U16=\"\",U17=\"\"),\"\",U16+U17)","v":2},null,{"$f":"S6","v":"Ｓ４スペランツァ"},null,null,null,null,null,null,null,null,null,null,{"$f":"DBCS(INDIRECT(\"U12対戦スケジュール!c\"&(ROW()/2+12)))","v":"１／２／２／１"},null,null,null,null,null,null,null,null,null,2,"09:50:00","10:30:00",null,null,null,null,null,{"$f":"AV10","v":"ＦＣペンサーレ"},null,null,null,null,null,null,{"$f":"IF(OR(BJ16=\"\",BJ17=\"\"),\"\",BJ16+BJ17)","v":1},null,0,"－",2,{"$f":"IF(OR(BL16=\"\",BL17=\"\"),\"\",BL16+BL17)","v":5},null,{"$f":"BJ10","v":"ブラッドレスＳＳ"},null,null,null,null,null,null,null,null,null,null,{"$f":"DBCS(INDIRECT(\"U12対戦スケジュール!e\"&(ROW()/2+12)))","v":"Ｃ７／Ｃ８／Ｃ８／Ｃ７"}]
[null,null,null,null,null,null,null,null,null,null,null,null,null,null,null,null,null,null,4,"－",0,null,null,null,null,null,null,null,null,null,null,null,null,null,null,null,null,null,null,null,null,null,null,null,null,null,null,null,null,null,null,null,null,null,null,null,null,null,null,null,null,1,"－",3]
[null,3,"10:40:00",null,null,null,null,null,null,{"$f":"AG5","v":"雀宮ＦＣ"},null,null,null,null,null,null,{"$f":"IF(OR(S18=\"\",S19=\"\"),\"\",S18+S19)","v":0},null,0,"－",0,{"$f":"IF(OR(U18=\"\",U19=\"\"),\"\",U18+U19)","v":1},null,{"$f":"E5","v":"清原ＳＳＳ"},null,null,null,null,null,null,null,null,null,null,{"$f":"DBCS(INDIRECT(\"U12対戦スケジュール!c\"&(ROW()/2+12)))","v":"６／４／４／６"},null,null,null,null,null,null,null,null,null,3,"10:40:00",null,null,null,null,null,null,{"$f":"BX7","v":"ＦＣブロケード"},null,null,null,null,null,null,{"$f":"IF(OR(BJ18=\"\",BJ19=\"\"),\"\",BJ18+BJ19)","v":0},null,0,"－",4,{"$f":"IF(OR(BL18=\"\",BL19=\"\"),\"\",BL18+BL19)","v":4},null,{"$f":"AV7","v":"上三川ＦＣ"},null,null,null,null,null,null,null,null,null,null,{"$f":"DBCS(INDIRECT(\"U12対戦スケジュール!e\"&(ROW()/2+12)))","v":"Ｄ９／Ｄ７／Ｄ７／Ｄ９"}]
[null,null,null,null,null,null,null,null,null,null,null,null,null,null,null,null,null,null,0,"－",1,null,null,null,null,null,null,null,null,null,null,null,null,null,null,null,null,null,null,null,null,null,null,null,null,null,null,null,null,null,null,null,null,null,null,null,null,null,null,null,null,0,"－",0]
[null,4,"11:30:00","10:30:00",null,null,null,null,null,{"$f":"AG6","v":"宇都宮北部ＦＣトレ"},null,null,null,null,null,null,{"$f":"IF(OR(S20=\"\",S21=\"\"),\"\",S20+S21)","v":2},null,1,"－",1,{"$f":"IF(OR(U20=\"\",U21=\"\"),\"\",U20+U21)","v":2},null,{"$f":"E6","v":"ＳＵＧＡＯ ＳＣ"},null,null,null,null,null,null,null,null,null,null,{"$f":"DBCS(INDIRECT(\"U12対戦スケジュール!c\"&(ROW()/2+12)))","v":"３／１／１／３"},null,null,null,null,null,null,null,null,null,4,"11:30:00","10:30:00",null,null,null,null,null,{"$f":"BX10","v":"ともぞうＳＣ・Ｂ"},null,null,null,null,null,null,{"$f":"IF(OR(BJ20=\"\",BJ21=\"\"),\"\",BJ20+BJ21)","v":4},null,1,"－",0,{"$f":"IF(OR(BL20=\"\",BL21=\"\"),\"\",BL20+BL21)","v":0},null,{"$f":"AV10","v":"ＦＣペンサーレ"},null,null,null,null,null,null,null,null,null,null,{"$f":"DBCS(INDIRECT(\"U12対戦スケジュール!e\"&(ROW()/2+12)))","v":"Ｃ９／Ｃ７／Ｃ７／Ｃ９"}]
[null,null,null,null,null,null,null,null,null,null,null,null,null,null,null,null,null,null,1,"－",1,null,null,null,null,null,null,null,null,null,null,null,null,null,null,null,null,null,null,null,null,null,null,null,null,null,null,null,null,null,null,null,null,null,null,null,null,null,null,null,null,3,"－",0]
[null,5,"12:20:00",null,null,null,null,null,null,{"$f":"S5","v":"ＦＣみらい Ｐ"},null,null,null,null,null,null,{"$f":"IF(OR(S22=\"\",S23=\"\"),\"\",S22+S23)","v":2},null,1,"－",1,{"$f":"IF(OR(U22=\"\",U23=\"\"),\"\",U22+U23)","v":1},null,{"$f":"AG5","v":"雀宮ＦＣ"},null,null,null,null,null,null,null,null,null,null,{"$f":"DBCS(INDIRECT(\"U12対戦スケジュール!c\"&(ROW()/2+12)))","v":"５／６／６／５"},null,null,null,null,null,null,null,null,null,5,"12:20:00",null,null,null,null,null,null,{"$f":"BJ7","v":"クラブチェルビアット"},null,null,null,null,null,null,{"$f":"IF(OR(BJ22=\"\",BJ23=\"\"),\"\",BJ22+BJ23)","v":7},null,5,"－",0,{"$f":"IF(OR(BL22=\"\",BL23=\"\"),\"\",BL22+BL23)","v":0},null,{"$f":"BX7","v":"ＦＣブロケード"},null,null,null,null,null,null,null,null,null,null,{"$f":"DBCS(INDIRECT(\"U12対戦スケジュール!e\"&(ROW()/2+12)))","v":"Ｄ８／Ｄ９／Ｄ９／Ｄ８"}]
[null,null,null,null,null,null,null,null,null,null,null,null,null,null,null,null,null,null,1,"－",0,null,null,null,null,null,null,null,null,null,null,null,null,null,null,null,null,null,null,null,null,null,null,null,null,null,null,null,null,null,null,null,null,null,null,null,null,null,null,null,null,2,"－",0]
[null,6,"13:10:00","10:30:00",null,null,null,null,null,{"$f":"S6","v":"Ｓ４スペランツァ"},null,null,null,null,null,null,{"$f":"IF(OR(S24=\"\",S25=\"\"),\"\",S24+S25)","v":2},null,1,"－",0,{"$f":"IF(OR(U24=\"\",U25=\"\"),\"\",U24+U25)","v":0},null,{"$f":"AG6","v":"宇都宮北部ＦＣトレ"},null,null,null,null,null,null,null,null,null,null,{"$f":"DBCS(INDIRECT(\"U12対戦スケジュール!c\"&(ROW()/2+12)))","v":"２／３／３／２"},null,null,null,null,null,null,null,null,null,6,"13:10:00","10:30:00",null,null,null,null,null,{"$f":"BJ10","v":"ブラッドレスＳＳ"},null,null,null,null,null,null,{"$f":"IF(OR(BJ24=\"\",BJ25=\"\"),\"\",BJ24+BJ25)","v":0},null,0,"－",0,{"$f":"IF(OR(BL24=\"\",BL25=\"\"),\"\",BL24+BL25)","v":0},null,{"$f":"BX10","v":"ともぞうＳＣ・Ｂ"},null,null,null,null,null,null,null,null,null,null,{"$f":"DBCS(INDIRECT(\"U12対戦スケジュール!e\"&(ROW()/2+12)))","v":"Ｃ８／Ｃ９／Ｃ９／Ｃ８"}]
[null,null,null,null,null,null,null,null,null,null,null,null,null,null,null,null,null,null,1,"－",0,null,null,null,null,null,null,null,null,null,null,null,null,null,null,null,null,null,null,null,null,null,null,null,null,null,null,null,null,null,null,null,null,null,null,null,null,null,null,null,null,0,"－",0]
[]
[null,null,null,"警告／退場",null,null,null,null,null,"チーム名",null,null,null,null,null,null,null,"氏名",null,null,null,null,null,null,null,null,"番号",null,null,"理由",null,null,null,null,null,null,null,null,null,null,null,null,null,null,null,null,"警告／退場",null,null,null,null,null,"チーム名",null,null,null,null,null,null,null,"氏名",null,null,null,null,null,null,null,null,"番号",null,null,"理由"]
[null,null,null,"警告　　退場",null,null,null,null,null,null,null,null,null,null,null,null,null,null,null,null,null,null,null,null,null,null,null,null,null,null,null,null,null,null,null,null,null,null,null,null,null,null,null,null,null,null,"警告　　退場"]
[null,null,null,"警告　　退場",null,null,null,null,null,null,null,null,null,null,null,null,null,null,null,null,null,null,null,null,null,null,null,null,null,null,null,null,null,null,null,null,null,null,null,null,null,null,null,null,null,null,"警告　　退場"]
[null,null,null,"警告　　退場",null,null,null,null,null,null,null,null,null,null,null,null,null,null,null,null,null,null,null,null,null,null,null,null,null,null,null,null,null,null,null,null,null,null,null,null,null,null,null,null,null,null,"警告　　退場"]
["ＪＦＡ　U-12サッカーリーグ2018（in栃木） 宇河地域リーグ戦（後期）　　　　Ｃブロック",null,null,null,null,null,null,null,null,null,null,null,null,null,null,null,null,null,null,null,null,null,null,null,null,null,null,null,null,null,null,null,null,null,null,null,null,null,null,null,null,null,null,"ＪＦＡ　U-12サッカーリーグ2018（in栃木） 宇河地域リーグ戦（後期）　　　　Ｃ・Ｄブロック"]
[]
[null,null,"会場",null,null,null,{"$f":"U12対戦スケジュール!B38","v":"石井４"},null,null,null,null,null,null,null,null,"会場担当",null,null,null,{"$f":"U12対戦スケジュール!B39","v":"宇都宮北部ＦＣトレ"},null,null,null,null,null,null,null,null,"開催日",null,null,null,"2018-09-08",null,null,null,null,null,null,null,null,null,null,null,null,"会場",null,null,null,{"$f":"U12対戦スケジュール!D38","v":"石井５"},null,null,null,null,null,null,null,null,"会場担当",null,null,null,{"$f":"U12対戦スケジュール!D39","v":"Ｓ４スペランツァ"},null,null,null,null,null,null,null,null,"開催日",null,null,null,"2018-09-08"]
[]
[null,null,"C1",null,{"$f":"U12組合せ!$H$10","v":"清原ＳＳＳ"},null,null,null,null,null,null,null,null,null,null,null,"C2",null,{"$f":"U12組合せ!$H$11","v":"ＦＣみらい Ｐ"},null,null,null,null,null,null,null,null,null,null,null,"C3",null,{"$f":"U12組合せ!$H$12","v":"雀宮ＦＣ"},null,null,null,null,null,null,null,null,null,null,null,null,"C1",null,{"$f":"U12組合せ!$H$10","v":"清原ＳＳＳ"},null,null,null,null,null,null,null,null,null,null,null,"C2",null,{"$f":"U12組合せ!$H$11","v":"ＦＣみらい Ｐ"},null,null,null,null,null,null,null,null,null,null,null,"C3",null,{"$f":"U12組合せ!$H$12","v":"雀宮ＦＣ"}]
[null,null,"C4",null,{"$f":"U12組合せ!$H$13","v":"ＳＵＧＡＯ ＳＣ"},null,null,null,null,null,null,null,null,null,null,null,"C5",null,{"$f":"U12組合せ!$H$14","v":"Ｓ４スペランツァ"},null,null,null,null,null,null,null,null,null,null,null,"C6",null,{"$f":"U12組合せ!$H$15","v":"宇都宮北部ＦＣトレ"},null,null,null,null,null,null,null,null,null,null,null,null,"C4",null,{"$f":"U12組合せ!$H$13","v":"ＳＵＧＡＯ ＳＣ"},null,null,null,null,null,null,null,null,null,null,null,"C5",null,{"$f":"U12組合せ!$H$14","v":"Ｓ４スペランツァ"},null,null,null,null,null,null,null,null,null,null,null,"C6",null,{"$f":"U12組合せ!$H$15","v":"宇都宮北部ＦＣトレ"}]
[null,null,"C7",null,{"$f":"U12組合せ!$H$16","v":"上三川ＦＣ"},null,null,null,null,null,null,null,null,null,null,null,"C8",null,{"$f":"U12組合せ!$H$17","v":"クラブチェルビアット"},null,null,null,null,null,null,null,null,null,null,null,"C9",null,{"$f":"U12組合せ!$H$18","v":"ＦＣブロケード"},null,null,null,null,null,null,null,null,null,null,null,null,"C7",null,{"$f":"U12組合せ!$H$16","v":"上三川ＦＣ"},null,null,null,null,null,null,null,null,null,null,null,"C8",null,{"$f":"U12組合せ!$H$17","v":"クラブチェルビアット"},null,null,null,null,null,null,null,null,null,null,null,"C9",null,{"$f":"U12組合せ!$H$18","v":"ＦＣブロケード"}]
[null,null,"D1",null,{"$f":"U12組合せ!$J$10","v":"上河内ＪＳＣ"},null,null,null,null,null,null,null,null,null,null,null,"D2",null,{"$f":"U12組合せ!$J$11","v":"上三川ＳＣ"},null,null,null,null,null,null,null,null,null,null,null,"D3",null,{"$f":"U12組合せ!$J$12","v":"緑が丘ＹＦＣ"},null,null,null,null,null,null,null,null,null,null,null,null,"D1",null,{"$f":"U12組合せ!$J$10","v":"上河内ＪＳＣ"},null,null,null,null,null,null,null,null,null,null,null,"D2",null,{"$f":"U12組合せ!$J$11","v":"上三川ＳＣ"},null,null,null,null,null,null,null,null,null,null,null,"D3",null,{"$f":"U12組合せ!$J$12","v":"緑が丘ＹＦＣ"}]
[null,null,"D4",null,{"$f":"U12組合せ!$J$13","v":"泉ＦＣ宇都宮"},null,null,null,null,null,null,null,null,null,null,null,"D5",null,{"$f":"U12組合せ!$J$14","v":"国本ＪＳＣ"},null,null,null,null,null,null,null,null,null,null,null,"D6",null,{"$f":"U12組合せ!$J$15","v":"本郷北ＦＣ"},null,null,null,null,null,null,null,null,null,null,null,null,"D4",null,{"$f":"U12組合せ!$J$13","v":"泉ＦＣ宇都宮"},null,null,null,null,null,null,null,null,null,null,null,"D5",null,{"$f":"U12組合せ!$J$14","v":"国本ＪＳＣ"},null,null,null,null,null,null,null,null,null,null,null,"D6",null,{"$f":"U12組合せ!$J$15","v":"本郷北ＦＣ"}]
[null,null,"D7",null,{"$f":"U12組合せ!$J$16","v":"ＦＣペンサーレ"},null,null,null,null,null,null,null,null,null,null,null,"D8",null,{"$f":"U12組合せ!$J$17","v":"ブラッドレスＳＳ"},null,null,null,null,null,null,null,null,null,null,null,"D9",null,{"$f":"U12組合せ!$J$18","v":"ともぞうＳＣ・Ｂ"},null,null,null,null,null,null,null,null,null,null,null,null,"D7",null,{"$f":"U12組合せ!$J$16","v":"ＦＣペンサーレ"},null,null,null,null,null,null,null,null,null,null,null,"D8",null,{"$f":"U12組合せ!$J$17","v":"ブラッドレスＳＳ"},null,null,null,null,null,null,null,null,null,null,null,"D9",null,{"$f":"U12組合せ!$J$18","v":"ともぞうＳＣ・Ｂ"}]
[]
[null,"【試合時間：２０分-５分-２０分】",null,null,null,null,null,null,null,null,null,null,null,null,null,null,null,null,null,null,null,null,null,null,null,null,null,null,null,null,null,null,null,null,null,null,null,null,null,null,null,null,null,null,"【試合時間：２０分-５分-２０分】"]
[null,null,"試合開始",null,null,"監督サイン",null,null,null,"チーム名",null,null,null,null,null,null,"得点",null,null,null,null,null,null,"チーム名",null,null,null,null,null,null,"監督サイン",null,null,null,"主審／副審／副審／４審",null,null,null,null,null,null,null,null,null,null,"試合開始",null,null,"監督サイン",null,null,null,"チーム名",null,null,null,null,null,null,"得点",null,null,null,null,null,null,"チーム名",null,null,null,null,null,null,"監督サイン",null,null,null,"主審／副審／副審／４審"]
[null,1,"09:00:00",null,null,null,null,null,null,{"$f":"AG37","v":"ＦＣブロケード"},null,null,null,null,null,null,{"$f":"IF(OR(S44=\"\",S45=\"\"),\"\",S44+S45)","v":0},null,0,"－",1,{"$f":"IF(OR(U44=\"\",U45=\"\"),\"\",U44+U45)","v":3},null,{"$f":"AG35","v":"雀宮ＦＣ"},null,null,null,null,null,null,null,null,null,null,{"$f":"DBCS(INDIRECT(\"U12対戦スケジュール!c\"&(ROW()/2+18)))","v":"７／１／１／７"},null,null,null,null,null,null,null,null,null,1,"09:00:00",null,null,null,null,null,null,{"$f":"BJ37","v":"クラブチェルビアット"},null,null,null,null,null,null,{"$f":"IF(OR(BJ44=\"\",BJ45=\"\"),\"\",BJ44+BJ45)","v":3},null,1,"－",1,{"$f":"IF(OR(BL44=\"\",BL45=\"\"),\"\",BL44+BL45)","v":1},null,{"$f":"BJ35","v":"ＦＣみらい Ｐ"},null,null,null,null,null,null,null,null,null,null,{"$f":"DBCS(INDIRECT(\"U12対戦スケジュール!e\"&(ROW()/2+18)))","v":"Ｄ８／Ｄ２／Ｄ２／Ｄ８"}]
[null,null,null,null,null,null,null,null,null,null,null,null,null,null,null,null,null,null,0,"－",2,null,null,null,null,null,null,null,null,null,null,null,null,null,null,null,null,null,null,null,null,null,null,null,null,null,null,null,null,null,null,null,null,null,null,null,null,null,null,null,null,2,"－",0]
[null,2,"09:50:00","10:30:00",null,null,null,null,null,{"$f":"E37","v":"上三川ＦＣ"},null,null,null,null,null,null,{"$f":"IF(OR(S46=\"\",S47=\"\"),\"\",S46+S47)","v":2},null,0,"－",3,{"$f":"IF(OR(U46=\"\",U47=\"\"),\"\",U46+U47)","v":6},null,{"$f":"E35","v":"清原ＳＳＳ"},null,null,null,null,null,null,null,null,null,null,{"$f":"DBCS(INDIRECT(\"U12対戦スケジュール!c\"&(ROW()/2+18)))","v":"９／３／３／９"},null,null,null,null,null,null,null,null,null,2,"09:50:00","10:30:00",null,null,null,null,null,{"$f":"BJ40","v":"ブラッドレスＳＳ"},null,null,null,null,null,null,{"$f":"IF(OR(BJ46=\"\",BJ47=\"\"),\"\",BJ46+BJ47)","v":4},null,2,"－",0,{"$f":"IF(OR(BL46=\"\",BL47=\"\"),\"\",BL46+BL47)","v":1},null,{"$f":"BJ38","v":"上三川ＳＣ"},null,null,null,null,null,null,null,null,null,null,{"$f":"DBCS(INDIRECT(\"U12対戦スケジュール!e\"&(ROW()/2+18)))","v":"Ｃ８／Ｃ２／Ｃ２／Ｃ８"}]
[null,null,null,null,null,null,null,null,null,null,null,null,null,null,null,null,null,null,2,"－",3,null,null,null,null,null,null,null,null,null,null,null,null,null,null,null,null,null,null,null,null,null,null,null,null,null,null,null,null,null,null,null,null,null,null,null,null,null,null,null,null,2,"－",1]
[null,3,"10:40:00",null,null,null,null,null,null,{"$f":"AG36","v":"宇都宮北部ＦＣトレ"},null,null,null,null,null,null,{"$f":"IF(OR(S48=\"\",S49=\"\"),\"\",S48+S49)","v":7},null,2,"－",1,{"$f":"IF(OR(U48=\"\",U49=\"\"),\"\",U48+U49)","v":1},null,{"$f":"AG37","v":"ＦＣブロケード"},null,null,null,null,null,null,null,null,null,null,{"$f":"DBCS(INDIRECT(\"U12対戦スケジュール!c\"&(ROW()/2+18)))","v":"４／７／７／４"},null,null,null,null,null,null,null,null,null,3,"10:40:00",null,null,null,null,null,null,{"$f":"BJ36","v":"Ｓ４スペランツァ"},null,null,null,null,null,null,{"$f":"IF(OR(BJ48=\"\",BJ49=\"\"),\"\",BJ48+BJ49)","v":1},null,0,"－",2,{"$f":"IF(OR(BL48=\"\",BL49=\"\"),\"\",BL48+BL49)","v":3},null,{"$f":"BJ37","v":"クラブチェルビアット"},null,null,null,null,null,null,null,null,null,null,{"$f":"DBCS(INDIRECT(\"U12対戦スケジュール!e\"&(ROW()/2+18)))","v":"Ｄ５／Ｄ８／Ｄ８／Ｄ５"}]
[null,null,null,null,null,null,null,null,null,null,null,null,null,null,null,null,null,null,5,"－",0,null,null,null,null,null,null,null,null,null,null,null,null,null,null,null,null,null,null,null,null,null,null,null,null,null,null,null,null,null,null,null,null,null,null,null,null,null,null,null,null,1,"－",1]
[null,4,"11:30:00","10:30:00",null,null,null,null,null,{"$f":"E36","v":"ＳＵＧＡＯ ＳＣ"},null,null,null,null,null,null,{"$f":"IF(OR(S50=\"\",S51=\"\"),\"\",S50+S51)","v":5},null,2,"－",0,{"$f":"IF(OR(U50=\"\",U51=\"\"),\"\",U50+U51)","v":0},null,{"$f":"E37","v":"上三川ＦＣ"},null,null,null,null,null,null,null,null,null,null,{"$f":"DBCS(INDIRECT(\"U12対戦スケジュール!c\"&(ROW()/2+18)))","v":"６／９／９／６"},null,null,null,null,null,null,null,null,null,4,"11:30:00","10:30:00",null,null,null,null,null,{"$f":"BJ39","v":"国本ＪＳＣ"},null,null,null,null,null,null,{"$f":"IF(OR(BJ50=\"\",BJ51=\"\"),\"\",BJ50+BJ51)","v":1},null,1,"－",2,{"$f":"IF(OR(BL50=\"\",BL51=\"\"),\"\",BL50+BL51)","v":3},null,{"$f":"BJ40","v":"ブラッドレスＳＳ"},null,null,null,null,null,null,null,null,null,null,{"$f":"DBCS(INDIRECT(\"U12対戦スケジュール!e\"&(ROW()/2+18)))","v":"Ｃ５／Ｃ８／Ｃ８／Ｃ５"}]
[null,null,null,null,null,null,null,null,null,null,null,null,null,null,null,null,null,null,3,"－",0,null,null,null,null,null,null,null,null,null,null,null,null,null,null,null,null,null,null,null,null,null,null,null,null,null,null,null,null,null,null,null,null,null,null,null,null,null,null,null,null,0,"－",1]
[null,5,"12:20:00",null,null,null,null,null,null,{"$f":"AG35","v":"雀宮ＦＣ"},null,null,null,null,null,null,{"$f":"IF(OR(S52=\"\",S53=\"\"),\"\",S52+S53)","v":1},null,0,"－",0,{"$f":"IF(OR(U52=\"\",U53=\"\"),\"\",U52+U53)","v":2},null,{"$f":"AG36","v":"宇都宮北部ＦＣトレ"},null,null,null,null,null,null,null,null,null,null,{"$f":"DBCS(INDIRECT(\"U12対戦スケジュール!c\"&(ROW()/2+18)))","v":"１／４／４／１"},null,null,null,null,null,null,null,null,null,5,"12:20:00",null,null,null,null,null,null,{"$f":"BJ35","v":"ＦＣみらい Ｐ"},null,null,null,null,null,null,{"$f":"IF(OR(BJ52=\"\",BJ53=\"\"),\"\",BJ52+BJ53)","v":3},null,1,"－",0,{"$f":"IF(OR(BL52=\"\",BL53=\"\"),\"\",BL52+BL53)","v":0},null,{"$f":"BJ36","v":"Ｓ４スペランツァ"},null,null,null,null,null,null,null,null,null,null,{"$f":"DBCS(INDIRECT(\"U12対戦スケジュール!e\"&(ROW()/2+18)))","v":"Ｄ２／Ｄ５／Ｄ５／Ｄ２"}]
[null,null,null,null,null,null,null,null,null,null,null,null,null,null,null,null,null,null,1,"－",2,null,null,null,null,null,null,null,null,null,null,null,null,null,null,null,null,null,null,null,null,null,null,null,null,null,null,null,null,null,null,null,null,null,null,null,null,null,null,null,null,2,"－",0]
[null,6,"13:10:00","10:30:00",null,null,null,null,null,{"$f":"E35","v":"清原ＳＳＳ"},null,null,null,null,null,null,{"$f":"IF(OR(S54=\"\",S55=\"\"),\"\",S54+S55)","v":2},null,2,"－",0,{"$f":"IF(OR(U54=\"\",U55=\"\"),\"\",U54+U55)","v":1},null,{"$f":"E36","v":"ＳＵＧＡＯ ＳＣ"},null,null,null,null,null,null,null,null,null,null,{"$f":"DBCS(INDIRECT(\"U12対戦スケジュール!c\"&(ROW()/2+18)))","v":"３／６／６／３"},null,null,null,null,null,null,null,null,null,6,"13:10:00","10:30:00",null,null,null,null,null,{"$f":"BJ38","v":"上三川ＳＣ"},null,null,null,null,null,null,{"$f":"IF(OR(BJ54=\"\",BJ55=\"\"),\"\",BJ54+BJ55)","v":4},null,4,"－",2,{"$f":"IF(OR(BL54=\"\",BL55=\"\"),\"\",BL54+BL55)","v":4},null,{"$f":"BJ39","v":"国本ＪＳＣ"},null,null,null,null,null,null,null,null,null,null,{"$f":"DBCS(INDIRECT(\"U12対戦スケジュール!e\"&(ROW()/2+18)))","v":"Ｃ２／Ｃ５／Ｃ５／Ｃ２"}]
[null,null,null,null,null,null,null,null,null,null,null,null,null,null,null,null,null,null,0,"－",1,null,null,null,null,null,null,null,null,null,null,null,null,null,null,null,null,null,null,null,null,null,null,null,null,null,null,null,null,null,null,null,null,null,null,null,null,null,null,null,null,0,"－",2]
[]
[null,null,null,"警告／退場",null,null,null,null,null,"チーム名",null,null,null,null,null,null,null,"氏名",null,null,null,null,null,null,null,null,"番号",null,null,"理由",null,null,null,null,null,null,null,null,null,null,null,null,null,null,null,null,"警告／退場",null,null,null,null,null,"チーム名",null,null,null,null,null,null,null,"氏名",null,null,null,null,null,null,null,null,"番号",null,null,"理由"]
[null,null,null,"警告　　退場",null,null,null,null,null,null,null,null,null,null,null,null,null,null,null,null,null,null,null,null,null,null,null,null,null,null,null,null,null,null,null,null,null,null,null,null,null,null,null,null,null,null,"警告　　退場"]
[null,null,null,"警告　　退場",null,null,null,null,null,null,null,null,null,null,null,null,null,null,null,null,null,null,null,null,null,null,null,null,null,null,null,null,null,null,null,null,null,null,null,null,null,null,null,null,null,null,"警告　　退場"]
[null,null,null,"警告　　退場",null,null,null,null,null,null,null,null,null,null,null,null,null,null,null,null,null,null,null,null,null,null,null,null,null,null,null,null,null,null,null,null,null,null,null,null,null,null,null,null,null,null,"警告　　退場"]
["ＪＦＡ　U-12サッカーリーグ2018（in栃木） 宇河地域リーグ戦（後期）　　　　Cブロック",null,null,null,null,null,null,null,null,null,null,null,null,null,null,null,null,null,null,null,null,null,null,null,null,null,null,null,null,null,null,null,null,null,null,null,null,null,null,null,null,null,null,"ＪＦＡ　U-12サッカーリーグ2018（in栃木） 宇河地域リーグ戦（後期）　　　　Ｃ・Ｄブロック"]
[]
[null,null,"会場",null,null,null,{"$f":"U12対戦スケジュール!B60","v":"石井５"},null,null,null,null,null,null,null,null,"会場担当",null,null,null,{"$f":"U12対戦スケジュール!B61","v":"清原ＳＳＳ"},null,null,null,null,null,null,null,null,"開催日",null,null,null,"2018-09-09",null,null,null,null,null,null,null,null,null,null,null,null,"会場",null,null,null,{"$f":"U12対戦スケジュール!D60","v":"陽南小"},null,null,null,null,null,null,null,null,"会場担当",null,null,null,{"$f":"U12対戦スケジュール!D61","v":"緑が丘ＹＦＣ"},null,null,null,null,null,null,null,null,"開催日",null,null,null,"2018-09-09"]
[]
[null,null,"C1",null,{"$f":"U12組合せ!$H$10","v":"清原ＳＳＳ"},null,null,null,null,null,null,null,null,null,null,null,"C2",null,{"$f":"U12組合せ!$H$11","v":"ＦＣみらい Ｐ"},null,null,null,null,null,null,null,null,null,null,null,"C3",null,{"$f":"U12組合せ!$H$12","v":"雀宮ＦＣ"},null,null,null,null,null,null,null,null,null,null,null,null,"C1",null,{"$f":"U12組合せ!$H$10","v":"清原ＳＳＳ"},null,null,null,null,null,null,null,null,null,null,null,"C2",null,{"$f":"U12組合せ!$H$11","v":"ＦＣみらい Ｐ"},null,null,null,null,null,null,null,null,null,null,null,"C3",null,{"$f":"U12組合せ!$H$12","v":"雀宮ＦＣ"}]
[null,null,"C4",null,{"$f":"U12組合せ!$H$13","v":"ＳＵＧＡＯ ＳＣ"},null,null,null,null,null,null,null,null,null,null,null,"C5",null,{"$f":"U12組合せ!$H$14","v":"Ｓ４スペランツァ"},null,null,null,null,null,null,null,null,null,null,null,"C6",null,{"$f":"U12組合せ!$H$15","v":"宇都宮北部ＦＣトレ"},null,null,null,null,null,null,null,null,null,null,null,null,"C4",null,{"$f":"U12組合せ!$H$13","v":"ＳＵＧＡＯ ＳＣ"},null,null,null,null,null,null,null,null,null,null,null,"C5",null,{"$f":"U12組合せ!$H$14","v":"Ｓ４スペランツァ"},null,null,null,null,null,null,null,null,null,null,null,"C6",null,{"$f":"U12組合せ!$H$15","v":"宇都宮北部ＦＣトレ"}]
[null,null,"C7",null,{"$f":"U12組合せ!$H$16","v":"上三川ＦＣ"},null,null,null,null,null,null,null,null,null,null,null,"C8",null,{"$f":"U12組合せ!$H$17","v":"クラブチェルビアット"},null,null,null,null,null,null,null,null,null,null,null,"C9",null,{"$f":"U12組合せ!$H$18","v":"ＦＣブロケード"},null,null,null,null,null,null,null,null,null,null,null,null,"C7",null,{"$f":"U12組合せ!$H$16","v":"上三川ＦＣ"},null,null,null,null,null,null,null,null,null,null,null,"C8",null,{"$f":"U12組合せ!$H$17","v":"クラブチェルビアット"},null,null,null,null,null,null,null,null,null,null,null,"C9",null,{"$f":"U12組合せ!$H$18","v":"ＦＣブロケード"}]
[null,null,"D1",null,{"$f":"U12組合せ!$J$10","v":"上河内ＪＳＣ"},null,null,null,null,null,null,null,null,null,null,null,"D2",null,{"$f":"U12組合せ!$J$11","v":"上三川ＳＣ"},null,null,null,null,null,null,null,null,null,null,null,"D3",null,{"$f":"U12組合せ!$J$12","v":"緑が丘ＹＦＣ"},null,null,null,null,null,null,null,null,null,null,null,null,"D1",null,{"$f":"U12組合せ!$J$10","v":"上河内ＪＳＣ"},null,null,null,null,null,null,null,null,null,null,null,"D2",null,{"$f":"U12組合せ!$J$11","v":"上三川ＳＣ"},null,null,null,null,null,null,null,null,null,null,null,"D3",null,{"$f":"U12組合せ!$J$12","v":"緑が丘ＹＦＣ"}]
[null,null,"D4",null,{"$f":"U12組合せ!$J$13","v":"泉ＦＣ宇都宮"},null,null,null,null,null,null,null,null,null,null,null,"D5",null,{"$f":"U12組合せ!$J$14","v":"国本ＪＳＣ"},null,null,null,null,null,null,null,null,null,null,null,"D6",null,{"$f":"U12組合せ!$J$15","v":"本郷北ＦＣ"},null,null,null,null,null,null,null,null,null,null,null,null,"D4",null,{"$f":"U12組合せ!$J$13","v":"泉ＦＣ宇都宮"},null,null,null,null,null,null,null,null,null,null,null,"D5",null,{"$f":"U12組合せ!$J$14","v":"国本ＪＳＣ"},null,null,null,null,null,null,null,null,null,null,null,"D6",null,{"$f":"U12組合せ!$J$15","v":"本郷北ＦＣ"}]
[null,null,"D7",null,{"$f":"U12組合せ!$J$16","v":"ＦＣペンサーレ"},null,null,null,null,null,null,null,null,null,null,null,"D8",null,{"$f":"U12組合せ!$J$17","v":"ブラッドレスＳＳ"},null,null,null,null,null,null,null,null,null,null,null,"D9",null,{"$f":"U12組合せ!$J$18","v":"ともぞうＳＣ・Ｂ"},null,null,null,null,null,null,null,null,null,null,null,null,"D7",null,{"$f":"U12組合せ!$J$16","v":"ＦＣペンサーレ"},null,null,null,null,null,null,null,null,null,null,null,"D8",null,{"$f":"U12組合せ!$J$17","v":"ブラッドレスＳＳ"},null,null,null,null,null,null,null,null,null,null,null,"D9",null,{"$f":"U12組合せ!$J$18","v":"ともぞうＳＣ・Ｂ"}]
[]
[null,"【試合時間：２０分-５分-２０分】",null,null,null,null,null,null,null,null,null,null,null,null,null,null,null,null,null,null,null,null,null,null,null,null,null,null,null,null,null,null,null,null,null,null,null,null,null,null,null,null,null,null,"【試合時間：２０分-５分-２０分】"]
[null,null,"試合開始",null,null,"監督サイン",null,null,null,"チーム名",null,null,null,null,null,null,"得点",null,null,null,null,null,null,"チーム名",null,null,null,null,null,null,"監督サイン",null,null,null,"主審／副審／副審／４審",null,null,null,null,null,null,null,null,null,null,"試合開始",null,null,"監督サイン",null,null,null,"チーム名",null,null,null,null,null,null,"得点",null,null,null,null,null,null,"チーム名",null,null,null,null,null,null,"監督サイン",null,null,null,"主審／副審／副審／４審"]
[null,1,"09:00:00",null,null,null,null,null,null,{"$f":"AG66","v":"宇都宮北部ＦＣトレ"},null,null,null,null,null,null,{"$f":"IF(OR(S74=\"\",S75=\"\"),\"\",S74+S75)","v":4},null,2,"－",1,{"$f":"IF(OR(U74=\"\",U75=\"\"),\"\",U74+U75)","v":2},null,{"$f":"E67","v":"上三川ＦＣ"},null,null,null,null,null,null,null,null,null,null,{"$f":"DBCS(INDIRECT(\"U12対戦スケジュール!c\"&(ROW()/2+25)))","v":"５／９／９／５"},null,null,null,null,null,null,null,null,null,1,"09:00:00",null,null,null,null,null,null,{"$f":"AV66","v":"ＳＵＧＡＯ ＳＣ"},null,null,null,null,null,null,{"$f":"IF(OR(BJ74=\"\",BJ75=\"\"),\"\",BJ74+BJ75)","v":0},null,0,"－",1,{"$f":"IF(OR(BL74=\"\",BL75=\"\"),\"\",BL74+BL75)","v":3},null,{"$f":"BJ67","v":"クラブチェルビアット"},null,null,null,null,null,null,null,null,null,null,{"$f":"DBCS(INDIRECT(\"U12対戦スケジュール!e\"&(ROW()/2+25)))","v":"Ｄ４／Ｄ８／Ｄ８／Ｄ４"}]
[null,null,null,null,null,null,null,null,null,null,null,null,null,null,null,null,null,null,2,"－",1,null,null,null,null,null,null,null,null,null,null,null,null,null,null,null,null,null,null,null,null,null,null,null,null,null,null,null,null,null,null,null,null,null,null,null,null,null,null,null,null,0,"－",2]
[null,2,"09:50:00","10:30:00",null,null,null,null,null,{"$f":"S66","v":"Ｓ４スペランツァ"},null,null,null,null,null,null,{"$f":"IF(OR(S76=\"\",S77=\"\"),\"\",S76+S77)","v":7},null,0,"－",0,{"$f":"IF(OR(U76=\"\",U77=\"\"),\"\",U76+U77)","v":0},null,{"$f":"AG67","v":"ＦＣブロケード"},null,null,null,null,null,null,null,null,null,null,{"$f":"DBCS(INDIRECT(\"U12対戦スケジュール!c\"&(ROW()/2+25)))","v":"６／７／７／６"},null,null,null,null,null,null,null,null,null,2,"09:50:00","10:30:00",null,null,null,null,null,{"$f":"AV69","v":"泉ＦＣ宇都宮"},null,null,null,null,null,null,{"$f":"IF(OR(BJ76=\"\",BJ77=\"\"),\"\",BJ76+BJ77)","v":0},null,0,"－",6,{"$f":"IF(OR(BL76=\"\",BL77=\"\"),\"\",BL76+BL77)","v":10},null,{"$f":"BJ70","v":"ブラッドレスＳＳ"},null,null,null,null,null,null,null,null,null,null,{"$f":"DBCS(INDIRECT(\"U12対戦スケジュール!e\"&(ROW()/2+25)))","v":"Ｃ４／Ｃ８／Ｃ８／Ｃ４"}]
[null,null,null,null,null,null,null,null,null,null,null,null,null,null,null,null,null,null,7,"－",0,null,null,null,null,null,null,null,null,null,null,null,null,null,null,null,null,null,null,null,null,null,null,null,null,null,null,null,null,null,null,null,null,null,null,null,null,null,null,null,null,0,"－",4]
[null,3,"10:40:00",null,null,null,null,null,null,{"$f":"S65","v":"ＦＣみらい Ｐ"},null,null,null,null,null,null,{"$f":"IF(OR(S78=\"\",S79=\"\"),\"\",S78+S79)","v":5},null,2,"－",0,{"$f":"IF(OR(U78=\"\",U79=\"\"),\"\",U78+U79)","v":1},null,{"$f":"AG66","v":"宇都宮北部ＦＣトレ"},null,null,null,null,null,null,null,null,null,null,{"$f":"DBCS(INDIRECT(\"U12対戦スケジュール!c\"&(ROW()/2+25)))","v":"１／５／５／１"},null,null,null,null,null,null,null,null,null,3,"10:40:00",null,null,null,null,null,null,{"$f":"BX65","v":"雀宮ＦＣ"},null,null,null,null,null,null,{"$f":"IF(OR(BJ78=\"\",BJ79=\"\"),\"\",BJ78+BJ79)","v":1},null,1,"－",1,{"$f":"IF(OR(BL78=\"\",BL79=\"\"),\"\",BL78+BL79)","v":2},null,{"$f":"AV66","v":"ＳＵＧＡＯ ＳＣ"},null,null,null,null,null,null,null,null,null,null,{"$f":"DBCS(INDIRECT(\"U12対戦スケジュール!e\"&(ROW()/2+25)))","v":"Ｄ３／Ｄ４／Ｄ４／Ｄ３"}]
[null,null,null,null,null,null,null,null,null,null,null,null,null,null,null,null,null,null,3,"－",1,null,null,null,null,null,null,null,null,null,null,null,null,null,null,null,null,null,null,null,null,null,null,null,null,null,null,null,null,null,null,null,null,null,null,null,null,null,null,null,null,0,"－",1]
[null,4,"11:30:00","10:30:00",null,null,null,null,null,{"$f":"E65","v":"清原ＳＳＳ"},null,null,null,null,null,null,{"$f":"IF(OR(S80=\"\",S81=\"\"),\"\",S80+S81)","v":4},null,2,"－",4,{"$f":"IF(OR(U80=\"\",U81=\"\"),\"\",U80+U81)","v":4},null,{"$f":"S66","v":"Ｓ４スペランツァ"},null,null,null,null,null,null,null,null,null,null,{"$f":"DBCS(INDIRECT(\"U12対戦スケジュール!c\"&(ROW()/2+25)))","v":"２／６／６／２"},null,null,null,null,null,null,null,null,null,4,"11:30:00","10:30:00",null,null,null,null,null,{"$f":"BX68","v":"緑が丘ＹＦＣ"},null,null,null,null,null,null,{"$f":"IF(OR(BJ80=\"\",BJ81=\"\"),\"\",BJ80+BJ81)","v":5},null,2,"－",0,{"$f":"IF(OR(BL80=\"\",BL81=\"\"),\"\",BL80+BL81)","v":0},null,{"$f":"AV69","v":"泉ＦＣ宇都宮"},null,null,null,null,null,null,null,null,null,null,{"$f":"DBCS(INDIRECT(\"U12対戦スケジュール!e\"&(ROW()/2+25)))","v":"Ｃ３／Ｃ４／Ｃ４／Ｃ３"}]
[null,null,null,null,null,null,null,null,null,null,null,null,null,null,null,null,null,null,2,"－",0,null,null,null,null,null,null,null,null,null,null,null,null,null,null,null,null,null,null,null,null,null,null,null,null,null,null,null,null,null,null,null,null,null,null,null,null,null,null,null,null,3,"－",0]
[null,5,"12:20:00",null,null,null,null,null,null,{"$f":"E67","v":"上三川ＦＣ"},null,null,null,null,null,null,{"$f":"IF(OR(S82=\"\",S83=\"\"),\"\",S82+S83)","v":0},null,0,"－",3,{"$f":"IF(OR(U82=\"\",U83=\"\"),\"\",U82+U83)","v":5},null,{"$f":"S65","v":"ＦＣみらい Ｐ"},null,null,null,null,null,null,null,null,null,null,{"$f":"DBCS(INDIRECT(\"U12対戦スケジュール!c\"&(ROW()/2+25)))","v":"９／１／１／９"},null,null,null,null,null,null,null,null,null,5,"12:20:00",null,null,null,null,null,null,{"$f":"BJ67","v":"クラブチェルビアット"},null,null,null,null,null,null,{"$f":"IF(OR(BJ82=\"\",BJ83=\"\"),\"\",BJ82+BJ83)","v":5},null,3,"－",0,{"$f":"IF(OR(BL82=\"\",BL83=\"\"),\"\",BL82+BL83)","v":0},null,{"$f":"BX65","v":"雀宮ＦＣ"},null,null,null,null,null,null,null,null,null,null,{"$f":"DBCS(INDIRECT(\"U12対戦スケジュール!e\"&(ROW()/2+25)))","v":"Ｄ８／Ｄ３／Ｄ３／Ｄ８"}]
[null,null,null,null,null,null,null,null,null,null,null,null,null,null,null,null,null,null,0,"－",2,null,null,null,null,null,null,null,null,null,null,null,null,null,null,null,null,null,null,null,null,null,null,null,null,null,null,null,null,null,null,null,null,null,null,null,null,null,null,null,null,2,"－",0]
[null,6,"13:10:00","10:30:00",null,null,null,null,null,{"$f":"AG67","v":"ＦＣブロケード"},null,null,null,null,null,null,{"$f":"IF(OR(S84=\"\",S85=\"\"),\"\",S84+S85)","v":0},null,0,"－",5,{"$f":"IF(OR(U84=\"\",U85=\"\"),\"\",U84+U85)","v":9},null,{"$f":"E65","v":"清原ＳＳＳ"},null,null,null,null,null,null,null,null,null,null,{"$f":"DBCS(INDIRECT(\"U12対戦スケジュール!c\"&(ROW()/2+25)))","v":"７／２／２／７"},null,null,null,null,null,null,null,null,null,6,"13:10:00","10:30:00",null,null,null,null,null,{"$f":"BJ70","v":"ブラッドレスＳＳ"},null,null,null,null,null,null,{"$f":"IF(OR(BJ84=\"\",BJ85=\"\"),\"\",BJ84+BJ85)","v":2},null,0,"－",2,{"$f":"IF(OR(BL84=\"\",BL85=\"\"),\"\",BL84+BL85)","v":3},null,{"$f":"BX68","v":"緑が丘ＹＦＣ"},null,null,null,null,null,null,null,null,null,null,{"$f":"DBCS(INDIRECT(\"U12対戦スケジュール!e\"&(ROW()/2+25)))","v":"Ｃ８／Ｃ３／Ｃ３／Ｃ８"}]
[null,null,null,null,null,null,null,null,null,null,null,null,null,null,null,null,null,null,0,"－",4,null,null,null,null,null,null,null,null,null,null,null,null,null,null,null,null,null,null,null,null,null,null,null,null,null,null,null,null,null,null,null,null,null,null,null,null,null,null,null,null,2,"－",1]
[]
[null,null,null,"警告／退場",null,null,null,null,null,"チーム名",null,null,null,null,null,null,null,"氏名",null,null,null,null,null,null,null,null,"番号",null,null,"理由",null,null,null,null,null,null,null,null,null,null,null,null,null,null,null,null,"警告／退場",null,null,null,null,null,"チーム名",null,null,null,null,null,null,null,"氏名",null,null,null,null,null,null,null,null,"番号",null,null,"理由"]
[null,null,null,"警告　　退場",null,null,null,null,null,{"$f":"S66","v":"Ｓ４スペランツァ"},null,null,null,null,null,null,null,"江崎　夏音",null,null,null,null,null,null,null,null,7,null,null,"ＧＫへのキッキング",null,null,null,null,null,null,null,null,null,null,null,null,null,null,null,null,"警告　　退場"]
[null,null,null,"警告　　退場",null,null,null,null,null,null,null,null,null,null,null,null,null,null,null,null,null,null,null,null,null,null,null,null,null,null,null,null,null,null,null,null,null,null,null,null,null,null,null,null,null,null,"警告　　退場"]
[null,null,null,"警告　　退場",null,null,null,null,null,null,null,null,null,null,null,null,null,null,null,null,null,null,null,null,null,null,null,null,null,null,null,null,null,null,null,null,null,null,null,null,null,null,null,null,null,null,"警告　　退場"]
["ＪＦＡ　U-12サッカーリーグ2018（in栃木） 宇河地域リーグ戦（後期）　　　　Ｃブロック"]
[]
[null,null,"会場",null,null,null,{"$f":"U12対戦スケジュール!B83","v":"横川東小"},null,null,null,null,null,null,null,null,"会場担当",null,null,null,{"$f":"U12対戦スケジュール!B84","v":"ＦＣみらい Ｐ"},null,null,null,null,null,null,null,null,"開催日",null,null,null,"2018-09-16"]
[]
[null,null,"C1",null,{"$f":"U12組合せ!$H$10","v":"清原ＳＳＳ"},null,null,null,null,null,null,null,null,null,null,null,"C2",null,{"$f":"U12組合せ!$H$11","v":"ＦＣみらい Ｐ"},null,null,null,null,null,null,null,null,null,null,null,"C3",null,{"$f":"U12組合せ!$H$12","v":"雀宮ＦＣ"}]
[null,null,"C4",null,{"$f":"U12組合せ!$H$13","v":"ＳＵＧＡＯ ＳＣ"},null,null,null,null,null,null,null,null,null,null,null,"C5",null,{"$f":"U12組合せ!$H$14","v":"Ｓ４スペランツァ"},null,null,null,null,null,null,null,null,null,null,null,"C6",null,{"$f":"U12組合せ!$H$15","v":"宇都宮北部ＦＣトレ"}]
[null,null,"C7",null,{"$f":"U12組合せ!$H$16","v":"上三川ＦＣ"},null,null,null,null,null,null,null,null,null,null,null,"C8",null,{"$f":"U12組合せ!$H$17","v":"クラブチェルビアット"},null,null,null,null,null,null,null,null,null,null,null,"C9",null,{"$f":"U12組合せ!$H$18","v":"ＦＣブロケード"}]
[null,null,"D1",null,{"$f":"U12組合せ!$J$10","v":"上河内ＪＳＣ"},null,null,null,null,null,null,null,null,null,null,null,"D2",null,{"$f":"U12組合せ!$J$11","v":"上三川ＳＣ"},null,null,null,null,null,null,null,null,null,null,null,"D3",null,{"$f":"U12組合せ!$J$12","v":"緑が丘ＹＦＣ"}]
[null,null,"D4",null,{"$f":"U12組合せ!$J$13","v":"泉ＦＣ宇都宮"},null,null,null,null,null,null,null,null,null,null,null,"D5",null,{"$f":"U12組合せ!$J$14","v":"国本ＪＳＣ"},null,null,null,null,null,null,null,null,null,null,null,"D6",null,{"$f":"U12組合せ!$J$15","v":"本郷北ＦＣ"}]
[null,null,"D7",null,{"$f":"U12組合せ!$J$16","v":"ＦＣペンサーレ"},null,null,null,null,null,null,null,null,null,null,null,"D8",null,{"$f":"U12組合せ!$J$17","v":"ブラッドレスＳＳ"},null,null,null,null,null,null,null,null,null,null,null,"D9",null,{"$f":"U12組合せ!$J$18","v":"ともぞうＳＣ・Ｂ"}]
[]
[null,"【試合時間：２０分-５分-２０分】"]
[null,null,"試合開始",null,null,"監督サイン",null,null,null,"チーム名",null,null,null,null,null,null,"得点",null,null,null,null,null,null,"チーム名",null,null,null,null,null,null,"監督サイン",null,null,null,"主審／副審／副審／４審"]
[null,1,"09:00:00",null,null,null,null,null,null,{"$f":"S95","v":"ＦＣみらい Ｐ"},null,null,null,null,null,null,{"$f":"IF(OR(S104=\"\",S105=\"\"),\"\",S104+S105)","v":2},null,1,"－",0,{"$f":"IF(OR(U104=\"\",U105=\"\"),\"\",U104+U105)","v":1},null,{"$f":"E96","v":"ＳＵＧＡＯ ＳＣ"},null,null,null,null,null,null,null,null,null,null,{"$f":"DBCS(INDIRECT(\"U12対戦スケジュール!c\"&(ROW()/2+33)))","v":"３／５／５／３"}]
[null,null,null,null,null,null,null,null,null,null,null,null,null,null,null,null,null,null,1,"－",1]
[null,2,"09:50:00","10:30:00",null,null,null,null,null,{"$f":"AG95","v":"雀宮ＦＣ"},null,null,null,null,null,null,{"$f":"IF(OR(S106=\"\",S107=\"\"),\"\",S106+S107)","v":0},null,0,"－",1,{"$f":"IF(OR(U106=\"\",U107=\"\"),\"\",U106+U107)","v":5},null,{"$f":"S96","v":"Ｓ４スペランツァ"},null,null,null,null,null,null,null,null,null,null,{"$f":"DBCS(INDIRECT(\"U12対戦スケジュール!c\"&(ROW()/2+33)))","v":"２／４／４／２"}]
[null,null,null,null,null,null,null,null,null,null,null,null,null,null,null,null,null,null,0,"－",4]
[null,3,"10:40:00",null,null,null,null,null,null,{"$f":"AG97","v":"ＦＣブロケード"},null,null,null,null,null,null,{"$f":"IF(OR(S108=\"\",S109=\"\"),\"\",S108+S109)","v":0},null,0,"－",5,{"$f":"IF(OR(U108=\"\",U109=\"\"),\"\",U108+U109)","v":9},null,{"$f":"S95","v":"ＦＣみらい Ｐ"},null,null,null,null,null,null,null,null,null,null,{"$f":"DBCS(INDIRECT(\"U12対戦スケジュール!c\"&(ROW()/2+33)))","v":"７／３／３／７"}]
[null,null,null,null,null,null,null,null,null,null,null,null,null,null,null,null,null,null,0,"－",4]
[null,4,"11:30:00","10:30:00",null,null,null,null,null,{"$f":"E97","v":"上三川ＦＣ"},null,null,null,null,null,null,{"$f":"IF(OR(S110=\"\",S111=\"\"),\"\",S110+S111)","v":1},null,1,"－",0,{"$f":"IF(OR(U110=\"\",U111=\"\"),\"\",U110+U111)","v":4},null,{"$f":"AG95","v":"雀宮ＦＣ"},null,null,null,null,null,null,null,null,null,null,{"$f":"DBCS(INDIRECT(\"U12対戦スケジュール!c\"&(ROW()/2+33)))","v":"９／２／２／９"}]
[null,null,null,null,null,null,null,null,null,null,null,null,null,null,null,null,null,null,0,"－",4]
[null,5,"12:20:00",null,null,null,null,null,null,{"$f":"E96","v":"ＳＵＧＡＯ ＳＣ"},null,null,null,null,null,null,{"$f":"IF(OR(S112=\"\",S113=\"\"),\"\",S112+S113)","v":3},null,1,"－",0,{"$f":"IF(OR(U112=\"\",U113=\"\"),\"\",U112+U113)","v":0},null,{"$f":"AG97","v":"ＦＣブロケード"},null,null,null,null,null,null,null,null,null,null,{"$f":"DBCS(INDIRECT(\"U12対戦スケジュール!c\"&(ROW()/2+33)))","v":"５／７／７／５"}]
[null,null,null,null,null,null,null,null,null,null,null,null,null,null,null,null,null,null,2,"－",0]
[null,6,"13:10:00","10:30:00",null,null,null,null,null,{"$f":"S96","v":"Ｓ４スペランツァ"},null,null,null,null,null,null,{"$f":"IF(OR(S114=\"\",S115=\"\"),\"\",S114+S115)","v":3},null,2,"－",0,{"$f":"IF(OR(U114=\"\",U115=\"\"),\"\",U114+U115)","v":1},null,{"$f":"E97","v":"上三川ＦＣ"},null,null,null,null,null,null,null,null,null,null,{"$f":"DBCS(INDIRECT(\"U12対戦スケジュール!c\"&(ROW()/2+33)))","v":"４／９／９／４"}]
[null,null,null,null,null,null,null,null,null,null,null,null,null,null,null,null,null,null,1,"－",1]
[]
[null,null,null,"警告／退場",null,null,null,null,null,"チーム名",null,null,null,null,null,null,null,"氏名",null,null,null,null,null,null,null,null,"番号",null,null,"理由"]
[null,null,null,"警告　　退場"]
[null,null,null,"警告　　退場"]
[null,null,null,"警告　　退場"]

{"sheet":"Ｄブロック対戦表","index":6,"n_rows":120,"n_cols":78,"rows_kept":120,"cut":false,"hidden":false,"merged":[[113,77,114,84],[111,77,112,84],[109,77,110,84],[107,77,108,84],[105,77,106,84],[118,46,118,51],[118,52,118,59],[118,60,118,68],[118,69,118,71],[118,72,118,81],[119,46,119,51],[119,52,119,59],[119,60,119,68],[119,69,119,71],[119,72,119,81],[116,46,116,51],[116,52,116,59],[116,60,116,68],[116,69,116,71],[116,72,116,81],[117,46,117,51],[117,52,117,59],[117,60,117,68],[117,69,117,71],[117,72,117,81],[113,44,114,44],[113,45,114,47],[113,48,114,51],[113,52,114,58],[113,59,114,60],[113,64,114,65],[113,66,114,72],[113,73,114,76],[111,44,112,44],[111,45,112,47],[111,48,112,51],[111,52,112,58],[111,59,112,60],[111,64,112,65],[111,66,112,72],[111,73,112,76],[109,44,110,44],[109,45,110,47],[109,48,110,51],[109,52,110,58],[109,59,110,60],[109,64,110,65],[109,66,110,72],[109,73,110,76],[107,44,108,44],[107,45,108,47],[107,48,108,51],[107,52,108,58],[107,59,108,60],[107,64,108,65],[107,66,108,72],[107,73,108,76],[105,44,106,44],[105,45,106,47],[105,48,106,51],[105,52,106,58],[105,59,106,60],[105,64,106,65],[105,66,106,72],[105,73,106,76],[102,45,102,47],[102,48,102,51],[102,52,102,58],[102,59,102,65],[102,66,102,72],[102,73,102,76],[99,45,99,46],[99,47,99,56],[99,59,99,60],[99,61,99,70],[99,73,99,74],[99,75,99,84],[102,77,102,84],[103,44,104,44],[103,45,104,47],[103,48,104,51],[103,52,104,58],[103,59,104,60],[103,64,104,65],[103,66,104,72],[103,73,104,76],[103,77,104,84],[97,45,97,46],[97,47,97,56],[97,59,97,60],[97,61,97,70],[97,73,97,74],[97,75,97,84],[98,45,98,46],[98,47,98,56],[98,59,98,60],[98,61,98,70],[98,73,98,74],[98,75,98,84],[95,45,95,46],[95,47,95,56],[95,59,95,60],[95,61,95,70],[95,73,95,74],[95,75,95,84],[96,45,96,46],[96,47,96,56],[96,59,96,60],[96,61,96,70],[96,73,96,74],[96,75,96,84],[66,18,66,27],[66,30,66,31],[66,32,66,41],[67,2,67,3],[67,4,67,13],[67,16,67,17],[67,18,67,27],[67,30,67,31],[67,32,67,41],[94,16,94,17],[94,18,94,27],[94,30,94,31],[94,32,94,41],[92,2,92,5],[92,6,92,14],[90,43,91,85],[92,45,92,48],[92,49,92,57],[92,58,92,61],[92,62,92,70],[92,71,92,74],[92,75,92,83],[94,2,94,3],[94,45,94,46],[94,47,94,56],[94,59,94,60],[94,61,94,70],[94,73,94,74],[94,75,94,84],[95,2,95,3],[95,4,95,13],[95,16,95,17],[95,18,95,27],[96,2,96,3],[96,4,96,13],[96,16,96,17],[96,18,96,27],[111,34,112,41],[95,32,95,41],[107,9,108,15],[107,16,108,17],[107,21,108,22],[111,23,112,29],[111,30,112,33],[109,21,110,22],[107,23,108,29],[107,30,108,33],[103,23,104,29],[103,30,104,33],[103,34,104,41],[102,2,102,4],[102,5,102,8],[102,9,102,15],[116,26,116,28],[116,29,116,38],[5,32,5,41],[6,2,6,3],[6,4,6,13],[6,16,6,17],[6,18,6,27],[6,30,6,31],[6,32,6,41],[96,30,96,31],[96,32,96,41],[35,2,35,3],[35,4,35,13],[35,16,35,17],[35,18,35,27],[35,30,35,31],[35,32,35,41],[36,2,36,3],[36,4,36,13],[36,16,36,17],[36,18,36,27],[36,30,36,31],[36,32,36,41],[95,30,95,31],[8,2,8,3],[8,4,8,13],[9,2,9,3],[9,4,9,13],[8,16,8,17],[8,18,8,27],[9,16,9,17],[9,18,9,27],[8,30,8,31],[8,32,8,41],[9,30,9,31],[9,32,9,41],[12,34,12,41],[13,34,14,41],[15,34,16,41],[17,34,18,41],[19,34,20,41],[21,34,22,41],[42,34,42,41],[43,34,44,41],[45,34,46,41],[37,32,37,41],[38,32,38,41],[119,3,119,8],[119,9,119,16],[119,17,119,25],[119,26,119,28],[119,29,119,38],[118,3,118,8],[118,9,118,16],[118,17,118,25],[118,26,118,28],[118,29,118,38],[117,3,117,8],[117,9,117,16],[117,17,117,25],[117,26,117,28],[117,29,117,38],[116,3,116,8],[116,9,116,16],[116,17,116,25],[94,4,94,13],[113,23,114,29],[113,30,114,33],[113,1,114,1],[113,2,114,4],[113,5,114,8],[113,9,114,15],[113,16,114,17],[113,21,114,22],[113,34,114,41],[111,1,112,1],[111,2,112,4],[111,5,112,8],[111,9,112,15],[111,16,112,17],[111,21,112,22],[107,34,108,41],[109,34,110,41],[105,23,106,29],[105,30,106,33],[105,1,106,1],[105,2,106,4],[105,5,106,8],[105,9,106,15],[105,16,106,17],[105,21,106,22],[105,34,106,41],[109,23,110,29],[109,30,110,33],[109,1,110,1],[109,2,110,4],[109,5,110,8],[109,9,110,15],[109,16,110,17],[107,1,108,1],[107,2,108,4],[107,5,108,8],[103,1,104,1],[103,2,104,4],[103,5,104,8],[103,9,104,15],[103,16,104,17],[103,21,104,22],[102,16,102,22],[102,23,102,29],[102,30,102,33],[99,2,99,3],[99,4,99,13],[99,16,99,17],[99,18,99,27],[99,30,99,31],[99,32,99,41],[102,34,102,41],[97,2,97,3],[97,4,97,13],[97,16,97,17],[97,18,97,27],[97,30,97,31],[97,32,97,41],[98,2,98,3],[98,4,98,13],[98,16,98,17],[98,18,98,27],[98,30,98,31],[98,32,98,41],[88,26,88,28],[88,29,88,38],[87,3,87,8],[87,9,87,16],[87,17,87,25],[87,26,87,28],[87,29,87,38],[92,15,92,18],[92,19,92,27],[92,28,92,31],[92,32,92,40],[90,0,91,42],[89,3,89,8],[89,9,89,16],[89,17,89,25],[89,26,89,28],[89,29,89,38],[83,1,84,1],[83,2,84,4],[83,5,84,8],[83,9,84,15],[83,16,84,17],[83,21,84,22],[88,3,88,8],[88,9,88,16],[88,17,88,25],[81,34,82,41],[86,3,86,8],[86,9,86,16],[86,17,86,25],[86,26,86,28],[86,29,86,38],[83,23,84,29],[83,30,84,33],[83,34,84,41],[77,9,78,15],[77,16,78,17],[77,21,78,22],[81,23,82,29],[81,30,82,33],[81,1,82,1],[81,2,82,4],[81,5,82,8],[81,9,82,15],[81,16,82,17],[81,21,82,22],[77,34,78,41],[79,34,80,41],[75,23,76,29],[75,30,76,33],[75,1,76,1],[75,2,76,4],[75,5,76,8],[75,9,76,15],[75,16,76,17],[75,21,76,22],[75,34,76,41],[79,23,80,29],[79,30,80,33],[79,1,80,1],[79,2,80,4],[79,5,80,8],[79,9,80,15],[79,16,80,17],[79,21,80,22],[77,23,78,29],[77,30,78,33],[77,1,78,1],[77,2,78,4],[77,5,78,8],[69,16,69,17],[69,18,69,27],[69,30,69,31],[69,32,69,41],[73,1,74,1],[73,2,74,4],[73,5,74,8],[73,9,74,15],[73,16,74,17],[73,21,74,22],[73,23,74,29],[73,30,74,33],[73,34,74,41],[68,2,68,3],[68,4,68,13],[68,16,68,17],[68,18,68,27],[68,30,68,31],[68,32,68,41],[72,34,72,41],[65,2,65,3],[65,4,65,13],[65,16,65,17],[65,18,65,27],[65,30,65,31],[65,32,65,41],[66,2,66,3],[66,4,66,13],[66,16,66,17],[72,2,72,4],[72,5,72,8],[72,9,72,15],[72,16,72,22],[72,23,72,29],[72,30,72,33],[69,2,69,3],[69,4,69,13],[64,2,64,3],[64,4,64,13],[64,16,64,17],[64,18,64,27],[64,30,64,31],[64,32,64,41],[62,2,62,5],[62,6,62,14],[62,15,62,18],[62,19,62,27],[62,28,62,31],[62,32,62,40],[60,0,61,42],[59,3,59,8],[59,9,59,16],[59,17,59,25],[59,26,59,28],[59,29,59,38],[58,3,58,8],[58,9,58,16],[58,17,58,25],[58,26,58,28],[58,29,58,38],[57,3,57,8],[57,9,57,16],[57,17,57,25],[57,26,57,28],[57,29,57,38],[56,3,56,8],[56,9,56,16],[56,17,56,25],[56,26,56,28],[56,29,56,38],[51,34,52,41],[53,23,54,29],[53,30,54,33],[53,34,54,41],[53,1,54,1],[53,2,54,4],[53,5,54,8],[53,9,54,15],[53,16,54,17],[53,21,54,22],[47,16,48,17],[47,21,48,22],[51,23,52,29],[51,30,52,33],[51,1,52,1],[51,2,52,4],[51,5,52,8],[51,9,52,15],[51,16,52,17],[51,21,52,22],[47,34,48,41],[49,34,50,41],[45,23,46,29],[45,30,46,33],[45,1,46,1],[45,2,46,4],[45,5,46,8],[45,9,46,15],[45,16,46,17],[45,21,46,22],[49,23,50,29],[49,30,50,33],[49,1,50,1],[49,2,50,4],[49,5,50,8],[49,9,50,15],[49,16,50,17],[49,21,50,22],[47,23,48,29],[47,30,48,33],[47,1,48,1],[47,2,48,4],[47,5,48,8],[47,9,48,15],[43,1,44,1],[43,2,44,4],[43,5,44,8],[43,9,44,15],[43,16,44,17],[43,21,44,22],[43,23,44,29],[43,30,44,33],[42,2,42,4],[42,5,42,8],[42,9,42,15],[42,16,42,22],[42,23,42,29],[42,30,42,33],[39,2,39,3],[39,4,39,13],[39,16,39,17],[39,18,39,27],[39,30,39,31],[39,32,39,41],[38,2,38,3],[38,4,38,13],[38,16,38,17],[38,18,38,27],[37,2,37,3],[37,4,37,13],[37,16,37,17],[37,18,37,27],[37,30,37,31],[38,30,38,31],[34,2,34,3],[34,4,34,13],[34,16,34,17],[34,18,34,27],[34,30,34,31],[34,32,34,41],[32,2,32,5],[32,6,32,14],[32,15,32,18],[32,19,32,27],[32,28,32,31],[32,32,32,40],[30,0,31,42],[29,3,29,8],[29,9,29,16],[29,17,29,25],[29,26,29,28],[29,29,29,38],[28,3,28,8],[28,9,28,16],[28,17,28,25],[28,26,28,28],[28,29,28,38],[27,3,27,8],[27,9,27,16],[27,17,27,25],[27,26,27,28],[27,29,27,38],[26,3,26,8],[26,9,26,16],[26,17,26,25],[26,26,26,28],[26,29,26,38],[23,23,24,29],[23,30,24,33],[23,1,24,1],[23,2,24,4],[23,5,24,8],[23,9,24,15],[23,16,24,17],[23,21,24,22],[23,34,24,41],[21,23,22,29],[21,30,22,33],[19,23,20,29],[19,30,20,33],[21,1,22,1],[21,2,22,4],[21,5,22,8],[21,9,22,15],[21,16,22,17],[21,21,22,22],[19,1,20,1],[19,2,20,4],[19,5,20,8],[19,9,20,15],[19,16,20,17],[19,21,20,22],[17,1,18,1],[17,2,18,4],[17,5,18,8],[17,9,18,15],[17,16,18,17],[17,21,18,22],[15,23,16,29],[15,30,16,33],[17,23,18,29],[17,30,18,33],[15,1,16,1],[15,2,16,4],[15,5,16,8],[15,9,16,15],[15,16,16,17],[15,21,16,22],[13,1,14,1],[13,2,14,4],[13,5,14,8],[13,9,14,15],[13,16,14,17],[13,21,14,22],[13,23,14,29],[13,30,14,33],[12,2,12,4],[12,5,12,8],[12,9,12,15],[12,16,12,22],[12,23,12,29],[12,30,12,33],[7,2,7,3],[7,4,7,13],[7,16,7,17],[7,18,7,27],[7,30,7,31],[7,32,7,41],[0,0,1,42],[2,2,2,5],[2,6,2,14],[2,15,2,18],[2,19,2,27],[2,28,2,31],[2,32,2,40],[4,2,4,3],[4,4,4,13],[4,16,4,17],[4,18,4,27],[4,30,4,31],[4,32,4,41],[5,2,5,3],[5,4,5,13],[5,16,5,17],[5,18,5,27],[5,30,5,31]]}
["ＪＦＡ　U-12サッカーリーグ2018（in栃木） 宇河地域リーグ戦（後期）　　　　Ｄブロック"]
[]
[null,null,"会場",null,null,null,{"$f":"U12対戦スケジュール!F17","v":"本郷北小"},null,null,null,null,null,null,null,null,"会場担当",null,null,null,{"$f":"U12対戦スケジュール!F18","v":"本郷北ＦＣ"},null,null,null,null,null,null,null,null,"開催日",null,null,null,"2018-09-02"]
[]
[null,null,"C1",null,{"$f":"U12組合せ!$H$10","v":"清原ＳＳＳ"},null,null,null,null,null,null,null,null,null,null,null,"C2",null,{"$f":"U12組合せ!$H$11","v":"ＦＣみらい Ｐ"},null,null,null,null,null,null,null,null,null,null,null,"C3",null,{"$f":"U12組合せ!$H$12","v":"雀宮ＦＣ"}]
[null,null,"C4",null,{"$f":"U12組合せ!$H$13","v":"ＳＵＧＡＯ ＳＣ"},null,null,null,null,null,null,null,null,null,null,null,"C5",null,{"$f":"U12組合せ!$H$14","v":"Ｓ４スペランツァ"},null,null,null,null,null,null,null,null,null,null,null,"C6",null,{"$f":"U12組合せ!$H$15","v":"宇都宮北部ＦＣトレ"}]
[null,null,"C7",null,{"$f":"U12組合せ!$H$16","v":"上三川ＦＣ"},null,null,null,null,null,null,null,null,null,null,null,"C8",null,{"$f":"U12組合せ!$H$17","v":"クラブチェルビアット"},null,null,null,null,null,null,null,null,null,null,null,"C9",null,{"$f":"U12組合せ!$H$18","v":"ＦＣブロケード"}]
[null,null,"D1",null,{"$f":"U12組合せ!$J$10","v":"上河内ＪＳＣ"},null,null,null,null,null,null,null,null,null,null,null,"D2",null,{"$f":"U12組合せ!$J$11","v":"上三川ＳＣ"},null,null,null,null,null,null,null,null,null,null,null,"D3",null,{"$f":"U12組合せ!$J$12","v":"緑が丘ＹＦＣ"}]
[null,null,"D4",null,{"$f":"U12組合せ!$J$13","v":"泉ＦＣ宇都宮"},null,null,null,null,null,null,null,null,null,null,null,"D5",null,{"$f":"U12組合せ!$J$14","v":"国本ＪＳＣ"},null,null,null,null,null,null,null,null,null,null,null,"D6",null,{"$f":"U12組合せ!$J$15","v":"本郷北ＦＣ"}]
[null,null,"D7",null,{"$f":"U12組合せ!$J$16","v":"ＦＣペンサーレ"},null,null,null,null,null,null,null,null,null,null,null,"D8",null,{"$f":"U12組合せ!$J$17","v":"ブラッドレスＳＳ"},null,null,null,null,null,null,null,null,null,null,null,"D9",null,{"$f":"U12組合せ!$J$18","v":"ともぞうＳＣ・Ｂ"}]
[]
[null,"【試合時間：２０分-５分-２０分】"]
[null,null,"試合開始",null,null,"監督サイン",null,null,null,"チーム名",null,null,null,null,null,null,"得点",null,null,null,null,null,null,"チーム名",null,null,null,null,null,null,"監督サイン",null,null,null,"主審／副審／副審／４審"]
[null,1,"09:00:00",null,null,null,null,null,null,{"$f":"E8","v":"上河内ＪＳＣ"},null,null,null,null,null,null,{"$f":"IF(OR(S14=\"\",S15=\"\"),\"\",S14+S15)","v":5},null,2,"－",0,{"$f":"IF(OR(U14=\"\",U15=\"\"),\"\",U14+U15)","v":0},null,{"$f":"S8","v":"上三川ＳＣ"},null,null,null,null,null,null,null,null,null,null,{"$f":"DBCS(INDIRECT(\"U12対戦スケジュール!g\"&(ROW()/2+12)))","v":"４／５／５／４"}]
[null,null,null,null,null,null,null,null,null,null,null,null,null,null,null,null,null,null,3,"－",0]
[null,2,"09:50:00","10:30:00",null,null,null,null,null,{"$f":"E9","v":"泉ＦＣ宇都宮"},null,null,null,null,null,null,{"$f":"IF(OR(S16=\"\",S17=\"\"),\"\",S16+S17)","v":1},null,1,"－",4,{"$f":"IF(OR(U16=\"\",U17=\"\"),\"\",U16+U17)","v":9},null,{"$f":"S9","v":"国本ＪＳＣ"},null,null,null,null,null,null,null,null,null,null,{"$f":"DBCS(INDIRECT(\"U12対戦スケジュール!g\"&(ROW()/2+12)))","v":"１／２／２／１"}]
[null,null,null,null,null,null,null,null,null,null,null,null,null,null,null,null,null,null,0,"－",5]
[null,3,"10:40:00",null,null,null,null,null,null,{"$f":"AG8","v":"緑が丘ＹＦＣ"},null,null,null,null,null,null,{"$f":"IF(OR(S18=\"\",S19=\"\"),\"\",S18+S19)","v":7},null,3,"－",1,{"$f":"IF(OR(U18=\"\",U19=\"\"),\"\",U18+U19)","v":1},null,{"$f":"E8","v":"上河内ＪＳＣ"},null,null,null,null,null,null,null,null,null,null,{"$f":"DBCS(INDIRECT(\"U12対戦スケジュール!g\"&(ROW()/2+12)))","v":"６／４／４／６"}]
[null,null,null,null,null,null,null,null,null,null,null,null,null,null,null,null,null,null,4,"－",0]
[null,4,"11:30:00","10:30:00",null,null,null,null,null,{"$f":"AG9","v":"本郷北ＦＣ"},null,null,null,null,null,null,{"$f":"IF(OR(S20=\"\",S21=\"\"),\"\",S20+S21)","v":7},null,3,"－",0,{"$f":"IF(OR(U20=\"\",U21=\"\"),\"\",U20+U21)","v":0},null,{"$f":"E9","v":"泉ＦＣ宇都宮"},null,null,null,null,null,null,null,null,null,null,{"$f":"DBCS(INDIRECT(\"U12対戦スケジュール!g\"&(ROW()/2+12)))","v":"３／１／１／３"}]
[null,null,null,null,null,null,null,null,null,null,null,null,null,null,null,null,null,null,4,"－",0]
[null,5,"12:20:00",null,null,null,null,null,null,{"$f":"S8","v":"上三川ＳＣ"},null,null,null,null,null,null,{"$f":"IF(OR(S22=\"\",S23=\"\"),\"\",S22+S23)","v":0},null,0,"－",2,{"$f":"IF(OR(U22=\"\",U23=\"\"),\"\",U22+U23)","v":3},null,{"$f":"AG8","v":"緑が丘ＹＦＣ"},null,null,null,null,null,null,null,null,null,null,{"$f":"DBCS(INDIRECT(\"U12対戦スケジュール!g\"&(ROW()/2+12)))","v":"５／６／６／５"}]
[null,null,null,null,null,null,null,null,null,null,null,null,null,null,null,null,null,null,0,"－",1]
[null,6,"13:10:00","10:30:00",null,null,null,null,null,{"$f":"S9","v":"国本ＪＳＣ"},null,null,null,null,null,null,{"$f":"IF(OR(S24=\"\",S25=\"\"),\"\",S24+S25)","v":1},null,1,"－",1,{"$f":"IF(OR(U24=\"\",U25=\"\"),\"\",U24+U25)","v":2},null,{"$f":"AG9","v":"本郷北ＦＣ"},null,null,null,null,null,null,null,null,null,null,{"$f":"DBCS(INDIRECT(\"U12対戦スケジュール!g\"&(ROW()/2+12)))","v":"２／３／３／２"}]
[null,null,null,null,null,null,null,null,null,null,null,null,null,null,null,null,null,null,0,"－",1]
[]
[null,null,null,"警告／退場",null,null,null,null,null,"チーム名",null,null,null,null,null,null,null,"氏名",null,null,null,null,null,null,null,null,"番号",null,null,"理由"]
[null,null,null,"警告　　退場"]
[null,null,null,"警告　　退場"]
[null,null,null,"警告　　退場"]
["ＪＦＡ　U-12サッカーリーグ2018（in栃木） 宇河地域リーグ戦（後期）　　　　Ｄブロック"]
[]
[null,null,"会場",null,null,null,{"$f":"U12対戦スケジュール!F38","v":"石井６"},null,null,null,null,null,null,null,null,"会場担当",null,null,null,{"$f":"U12対戦スケジュール!F39","v":"上河内ＪＳＣ"},null,null,null,null,null,null,null,null,"開催日",null,null,null,"2018-09-08"]
[]
[null,null,"C1",null,{"$f":"U12組合せ!$H$10","v":"清原ＳＳＳ"},null,null,null,null,null,null,null,null,null,null,null,"C2",null,{"$f":"U12組合せ!$H$11","v":"ＦＣみらい Ｐ"},null,null,null,null,null,null,null,null,null,null,null,"C3",null,{"$f":"U12組合せ!$H$12","v":"雀宮ＦＣ"}]
[null,null,"C4",null,{"$f":"U12組合せ!$H$13","v":"ＳＵＧＡＯ ＳＣ"},null,null,null,null,null,null,null,null,null,null,null,"C5",null,{"$f":"U12組合せ!$H$14","v":"Ｓ４スペランツァ"},null,null,null,null,null,null,null,null,null,null,null,"C6",null,{"$f":"U12組合せ!$H$15","v":"宇都宮北部ＦＣトレ"}]
[null,null,"C7",null,{"$f":"U12組合せ!$H$16","v":"上三川ＦＣ"},null,null,null,null,null,null,null,null,null,null,null,"C8",null,{"$f":"U12組合せ!$H$17","v":"クラブチェルビアット"},null,null,null,null,null,null,null,null,null,null,null,"C9",null,{"$f":"U12組合せ!$H$18","v":"ＦＣブロケード"}]
[null,null,"D1",null,{"$f":"U12組合せ!$J$10","v":"上河内ＪＳＣ"},null,null,null,null,null,null,null,null,null,null,null,"D2",null,{"$f":"U12組合せ!$J$11","v":"上三川ＳＣ"},null,null,null,null,null,null,null,null,null,null,null,"D3",null,{"$f":"U12組合せ!$J$12","v":"緑が丘ＹＦＣ"}]
[null,null,"D4",null,{"$f":"U12組合せ!$J$13","v":"泉ＦＣ宇都宮"},null,null,null,null,null,null,null,null,null,null,null,"D5",null,{"$f":"U12組合せ!$J$14","v":"国本ＪＳＣ"},null,null,null,null,null,null,null,null,null,null,null,"D6",null,{"$f":"U12組合せ!$J$15","v":"本郷北ＦＣ"}]
[null,null,"D7",null,{"$f":"U12組合せ!$J$16","v":"ＦＣペンサーレ"},null,null,null,null,null,null,null,null,null,null,null,"D8",null,{"$f":"U12組合せ!$J$17","v":"ブラッドレスＳＳ"},null,null,null,null,null,null,null,null,null,null,null,"D9",null,{"$f":"U12組合せ!$J$18","v":"ともぞうＳＣ・Ｂ"}]
[]
[null,"【試合時間：２０分-５分-２０分】"]
[null,null,"試合開始",null,null,"監督サイン",null,null,null,"チーム名",null,null,null,null,null,null,"得点",null,null,null,null,null,null,"チーム名",null,null,null,null,null,null,"監督サイン",null,null,null,"主審／副審／副審／４審"]
[null,1,"09:00:00",null,null,null,null,null,null,{"$f":"AG40","v":"ともぞうＳＣ・Ｂ"},null,null,null,null,null,null,{"$f":"IF(OR(S44=\"\",S45=\"\"),\"\",S44+S45)","v":0},null,0,"－",1,{"$f":"IF(OR(U44=\"\",U45=\"\"),\"\",U44+U45)","v":1},null,{"$f":"AG38","v":"緑が丘ＹＦＣ"},null,null,null,null,null,null,null,null,null,null,{"$f":"DBCS(INDIRECT(\"U12対戦スケジュール!g\"&(ROW()/2+18)))","v":"７／１／１／７"}]
[null,null,null,null,null,null,null,null,null,null,null,null,null,null,null,null,null,null,0,"－",0]
[null,2,"09:50:00","10:30:00",null,null,null,null,null,{"$f":"E40","v":"ＦＣペンサーレ"},null,null,null,null,null,null,{"$f":"IF(OR(S46=\"\",S47=\"\"),\"\",S46+S47)","v":1},null,1,"－",1,{"$f":"IF(OR(U46=\"\",U47=\"\"),\"\",U46+U47)","v":1},null,{"$f":"E38","v":"上河内ＪＳＣ"},null,null,null,null,null,null,null,null,null,null,{"$f":"DBCS(INDIRECT(\"U12対戦スケジュール!g\"&(ROW()/2+18)))","v":"９／３／３／９"}]
[null,null,null,null,null,null,null,null,null,null,null,null,null,null,null,null,null,null,0,"－",0]
[null,3,"10:40:00",null,null,null,null,null,null,{"$f":"AG39","v":"本郷北ＦＣ"},null,null,null,null,null,null,{"$f":"IF(OR(S48=\"\",S49=\"\"),\"\",S48+S49)","v":1},null,1,"－",0,{"$f":"IF(OR(U48=\"\",U49=\"\"),\"\",U48+U49)","v":0},null,{"$f":"AG40","v":"ともぞうＳＣ・Ｂ"},null,null,null,null,null,null,null,null,null,null,{"$f":"DBCS(INDIRECT(\"U12対戦スケジュール!g\"&(ROW()/2+18)))","v":"４／７／７／４"}]
[null,null,null,null,null,null,null,null,null,null,null,null,null,null,null,null,null,null,0,"－",0]
[null,4,"11:30:00","10:30:00",null,null,null,null,null,{"$f":"E39","v":"泉ＦＣ宇都宮"},null,null,null,null,null,null,{"$f":"IF(OR(S50=\"\",S51=\"\"),\"\",S50+S51)","v":0},null,0,"－",0,{"$f":"IF(OR(U50=\"\",U51=\"\"),\"\",U50+U51)","v":5},null,{"$f":"E40","v":"ＦＣペンサーレ"},null,null,null,null,null,null,null,null,null,null,{"$f":"DBCS(INDIRECT(\"U12対戦スケジュール!g\"&(ROW()/2+18)))","v":"６／９／９／６"}]
[null,null,null,null,null,null,null,null,null,null,null,null,null,null,null,null,null,null,0,"－",5]
[null,5,"12:20:00",null,null,null,null,null,null,{"$f":"AG38","v":"緑が丘ＹＦＣ"},null,null,null,null,null,null,{"$f":"IF(OR(S52=\"\",S53=\"\"),\"\",S52+S53)","v":1},null,1,"－",0,{"$f":"IF(OR(U52=\"\",U53=\"\"),\"\",U52+U53)","v":1},null,{"$f":"AG39","v":"本郷北ＦＣ"},null,null,null,null,null,null,null,null,null,null,{"$f":"DBCS(INDIRECT(\"U12対戦スケジュール!g\"&(ROW()/2+18)))","v":"１／４／４／１"}]
[null,null,null,null,null,null,null,null,null,null,null,null,null,null,null,null,null,null,0,"－",1]
[null,6,"13:10:00","10:30:00",null,null,null,null,null,{"$f":"E38","v":"上河内ＪＳＣ"},null,null,null,null,null,null,{"$f":"IF(OR(S54=\"\",S55=\"\"),\"\",S54+S55)","v":5},null,1,"－",0,{"$f":"IF(OR(U54=\"\",U55=\"\"),\"\",U54+U55)","v":0},null,{"$f":"E39","v":"泉ＦＣ宇都宮"},null,null,null,null,null,null,null,null,null,null,{"$f":"DBCS(INDIRECT(\"U12対戦スケジュール!g\"&(ROW()/2+18)))","v":"３／６／６／３"}]
[null,null,null,null,null,null,null,null,null,null,null,null,null,null,null,null,null,null,4,"－",0]
[]
[null,null,null,"警告／退場",null,null,null,null,null,"チーム名",null,null,null,null,null,null,null,"氏名",null,null,null,null,null,null,null,null,"番号",null,null,"理由"]
[null,null,null,"警告　　退場"]
[null,null,null,"警告　　退場"]
[null,null,null,"警告　　退場"]
["ＪＦＡ　U-12サッカーリーグ2018（in栃木） 宇河地域リーグ戦（後期）　　　　Ｄブロック"]
[]
[null,null,"会場",null,null,null,"石井６",null,null,null,null,null,null,null,null,"会場担当",null,null,null,"国本ＪＳＣ",null,null,null,null,null,null,null,null,"開催日",null,null,null,"2018-09-09"]
[]
[null,null,"C1",null,{"$f":"U12組合せ!$H$10","v":"清原ＳＳＳ"},null,null,null,null,null,null,null,null,null,null,null,"C2",null,{"$f":"U12組合せ!$H$11","v":"ＦＣみらい Ｐ"},null,null,null,null,null,null,null,null,null,null,null,"C3",null,{"$f":"U12組合せ!$H$12","v":"雀宮ＦＣ"}]
[null,null,"C4",null,{"$f":"U12組合せ!$H$13","v":"ＳＵＧＡＯ ＳＣ"},null,null,null,null,null,null,null,null,null,null,null,"C5",null,{"$f":"U12組合せ!$H$14","v":"Ｓ４スペランツァ"},null,null,null,null,null,null,null,null,null,null,null,"C6",null,{"$f":"U12組合せ!$H$15","v":"宇都宮北部ＦＣトレ"}]
[null,null,"C7",null,{"$f":"U12組合せ!$H$16","v":"上三川ＦＣ"},null,null,null,null,null,null,null,null,null,null,null,"C8",null,{"$f":"U12組合せ!$H$17","v":"クラブチェルビアット"},null,null,null,null,null,null,null,null,null,null,null,"C9",null,{"$f":"U12組合せ!$H$18","v":"ＦＣブロケード"}]
[null,null,"D1",null,{"$f":"U12組合せ!$J$10","v":"上河内ＪＳＣ"},null,null,null,null,null,null,null,null,null,null,null,"D2",null,{"$f":"U12組合せ!$J$11","v":"上三川ＳＣ"},null,null,null,null,null,null,null,null,null,null,null,"D3",null,{"$f":"U12組合せ!$J$12","v":"緑が丘ＹＦＣ"}]
[null,null,"D4",null,{"$f":"U12組合せ!$J$13","v":"泉ＦＣ宇都宮"},null,null,null,null,null,null,null,null,null,null,null,"D5",null,{"$f":"U12組合せ!$J$14","v":"国本ＪＳＣ"},null,null,null,null,null,null,null,null,null,null,null,"D6",null,{"$f":"U12組合せ!$J$15","v":"本郷北ＦＣ"}]
[null,null,"D7",null,{"$f":"U12組合せ!$J$16","v":"ＦＣペンサーレ"},null,null,null,null,null,null,null,null,null,null,null,"D8",null,{"$f":"U12組合せ!$J$17","v":"ブラッドレスＳＳ"},null,null,null,null,null,null,null,null,null,null,null,"D9",null,{"$f":"U12組合せ!$J$18","v":"ともぞうＳＣ・Ｂ"}]
[]
[null,"【試合時間：２０分-５分-２０分】"]
[null,null,"試合開始",null,null,"監督サイン",null,null,null,"チーム名",null,null,null,null,null,null,"得点",null,null,null,null,null,null,"チーム名",null,null,null,null,null,null,"監督サイン",null,null,null,"主審／副審／副審／４審"]
[null,1,"09:00:00",null,null,null,null,null,null,{"$f":"AG69","v":"本郷北ＦＣ"},null,null,null,null,null,null,{"$f":"IF(OR(S74=\"\",S75=\"\"),\"\",S74+S75)","v":1},null,1,"－",0,{"$f":"IF(OR(U74=\"\",U75=\"\"),\"\",U74+U75)","v":0},null,{"$f":"E70","v":"ＦＣペンサーレ"},null,null,null,null,null,null,null,null,null,null,{"$f":"DBCS(INDIRECT(\"U12対戦スケジュール!g\"&(ROW()/2+25)))","v":"５／９／９／５"}]
[null,null,null,null,null,null,null,null,null,null,null,null,null,null,null,null,null,null,0,"－",0]
[null,2,"09:50:00","10:30:00",null,null,null,null,null,{"$f":"S69","v":"国本ＪＳＣ"},null,null,null,null,null,null,{"$f":"IF(OR(S76=\"\",S77=\"\"),\"\",S76+S77)","v":1},null,1,"－",1,{"$f":"IF(OR(U76=\"\",U77=\"\"),\"\",U76+U77)","v":3},null,{"$f":"AG70","v":"ともぞうＳＣ・Ｂ"},null,null,null,null,null,null,null,null,null,null,{"$f":"DBCS(INDIRECT(\"U12対戦スケジュール!g\"&(ROW()/2+25)))","v":"６／７／７／６"}]
[null,null,null,null,null,null,null,null,null,null,null,null,null,null,null,null,null,null,0,"－",2]
[null,3,"10:40:00",null,null,null,null,null,null,{"$f":"S68","v":"上三川ＳＣ"},null,null,null,null,null,null,{"$f":"IF(OR(S78=\"\",S79=\"\"),\"\",S78+S79)","v":0},null,0,"－",1,{"$f":"IF(OR(U78=\"\",U79=\"\"),\"\",U78+U79)","v":1},null,{"$f":"AG69","v":"本郷北ＦＣ"},null,null,null,null,null,null,null,null,null,null,{"$f":"DBCS(INDIRECT(\"U12対戦スケジュール!g\"&(ROW()/2+25)))","v":"１／５／５／１"}]
[null,null,null,null,null,null,null,null,null,null,null,null,null,null,null,null,null,null,0,"－",0]
[null,4,"11:30:00","10:30:00",null,null,null,null,null,{"$f":"E68","v":"上河内ＪＳＣ"},null,null,null,null,null,null,{"$f":"IF(OR(S80=\"\",S81=\"\"),\"\",S80+S81)","v":2},null,1,"－",1,{"$f":"IF(OR(U80=\"\",U81=\"\"),\"\",U80+U81)","v":1},null,{"$f":"S69","v":"国本ＪＳＣ"},null,null,null,null,null,null,null,null,null,null,{"$f":"DBCS(INDIRECT(\"U12対戦スケジュール!g\"&(ROW()/2+25)))","v":"２／６／６／２"}]
[null,null,null,null,null,null,null,null,null,null,null,null,null,null,null,null,null,null,1,"－",0]
[null,5,"12:20:00",null,null,null,null,null,null,{"$f":"E70","v":"ＦＣペンサーレ"},null,null,null,null,null,null,{"$f":"IF(OR(S82=\"\",S83=\"\"),\"\",S82+S83)","v":6},null,2,"－",0,{"$f":"IF(OR(U82=\"\",U83=\"\"),\"\",U82+U83)","v":0},null,{"$f":"S68","v":"上三川ＳＣ"},null,null,null,null,null,null,null,null,null,null,{"$f":"DBCS(INDIRECT(\"U12対戦スケジュール!g\"&(ROW()/2+25)))","v":"９／１／１／９"}]
[null,null,null,null,null,null,null,null,null,null,null,null,null,null,null,null,null,null,4,"－",0]
[null,6,"13:10:00","10:30:00",null,null,null,null,null,{"$f":"AG70","v":"ともぞうＳＣ・Ｂ"},null,null,null,null,null,null,{"$f":"IF(OR(S84=\"\",S85=\"\"),\"\",S84+S85)","v":0},null,0,"－",1,{"$f":"IF(OR(U84=\"\",U85=\"\"),\"\",U84+U85)","v":1},null,{"$f":"E68","v":"上河内ＪＳＣ"},null,null,null,null,null,null,null,null,null,null,{"$f":"DBCS(INDIRECT(\"U12対戦スケジュール!g\"&(ROW()/2+25)))","v":"７／２／２／７"}]
[null,null,null,null,null,null,null,null,null,null,null,null,null,null,null,null,null,null,0,"－",0]
[]
[null,null,null,"警告／退場",null,null,null,null,null,"チーム名",null,null,null,null,null,null,null,"氏名",null,null,null,null,null,null,null,null,"番号",null,null,"理由"]
[null,null,null,"警告　　退場"]
[null,null,null,"警告　　退場"]
[null,null,null,"警告　　退場"]
["ＪＦＡ　U-12サッカーリーグ2018（in栃木） 宇河地域リーグ戦（後期）　　　　Ｄブロック",null,null,null,null,null,null,null,null,null,null,null,null,null,null,null,null,null,null,null,null,null,null,null,null,null,null,null,null,null,null,null,null,null,null,null,null,null,null,null,null,null,null,"ＪＦＡ　U-12サッカーリーグ2018（in栃木） 宇河地域リーグ戦（後期）　　　　Ｄブロック"]
[]
[null,null,"会場",null,null,null,{"$f":"U12対戦スケジュール!D83","v":"石井５"},null,null,null,null,null,null,null,null,"会場担当",null,null,null,{"$f":"U12対戦スケジュール!D84","v":"ＦＣペンサーレ"},null,null,null,null,null,null,null,null,"開催日",null,null,null,"2018-09-16",null,null,null,null,null,null,null,null,null,null,null,null,"会場",null,null,null,{"$f":"U12対戦スケジュール!F83","v":"石井６"},null,null,null,null,null,null,null,null,"会場担当",null,null,null,{"$f":"U12対戦スケジュール!F84","v":"上三川ＳＣ"},null,null,null,null,null,null,null,null,"開催日",null,null,null,"2018-09-16"]
[]
[null,null,"C1",null,{"$f":"U12組合せ!$H$10","v":"清原ＳＳＳ"},null,null,null,null,null,null,null,null,null,null,null,"C2",null,{"$f":"U12組合せ!$H$11","v":"ＦＣみらい Ｐ"},null,null,null,null,null,null,null,null,null,null,null,"C3",null,{"$f":"U12組合せ!$H$12","v":"雀宮ＦＣ"},null,null,null,null,null,null,null,null,null,null,null,null,"C1",null,{"$f":"U12組合せ!$H$10","v":"清原ＳＳＳ"},null,null,null,null,null,null,null,null,null,null,null,"C2",null,{"$f":"U12組合せ!$H$11","v":"ＦＣみらい Ｐ"},null,null,null,null,null,null,null,null,null,null,null,"C3",null,{"$f":"U12組合せ!$H$12","v":"雀宮ＦＣ"}]
[null,null,"C4",null,{"$f":"U12組合せ!$H$13","v":"ＳＵＧＡＯ ＳＣ"},null,null,null,null,null,null,null,null,null,null,null,"C5",null,{"$f":"U12組合せ!$H$14","v":"Ｓ４スペランツァ"},null,null,null,null,null,null,null,null,null,null,null,"C6",null,{"$f":"U12組合せ!$H$15","v":"宇都宮北部ＦＣトレ"},null,null,null,null,null,null,null,null,null,null,null,null,"C4",null,{"$f":"U12組合せ!$H$13","v":"ＳＵＧＡＯ ＳＣ"},null,null,null,null,null,null,null,null,null,null,null,"C5",null,{"$f":"U12組合せ!$H$14","v":"Ｓ４スペランツァ"},null,null,null,null,null,null,null,null,null,null,null,"C6",null,{"$f":"U12組合せ!$H$15","v":"宇都宮北部ＦＣトレ"}]
[null,null,"C7",null,{"$f":"U12組合せ!$H$16","v":"上三川ＦＣ"},null,null,null,null,null,null,null,null,null,null,null,"C8",null,{"$f":"U12組合せ!$H$17","v":"クラブチェルビアット"},null,null,null,null,null,null,null,null,null,null,null,"C9",null,{"$f":"U12組合せ!$H$18","v":"ＦＣブロケード"},null,null,null,null,null,null,null,null,null,null,null,null,"C7",null,{"$f":"U12組合せ!$H$16","v":"上三川ＦＣ"},null,null,null,null,null,null,null,null,null,null,null,"C8",null,{"$f":"U12組合せ!$H$17","v":"クラブチェルビアット"},null,null,null,null,null,null,null,null,null,null,null,"C9",null,{"$f":"U12組合せ!$H$18","v":"ＦＣブロケード"}]
[null,null,"D1",null,{"$f":"U12組合せ!$J$10","v":"上河内ＪＳＣ"},null,null,null,null,null,null,null,null,null,null,null,"D2",null,{"$f":"U12組合せ!$J$11","v":"上三川ＳＣ"},null,null,null,null,null,null,null,null,null,null,null,"D3",null,{"$f":"U12組合せ!$J$12","v":"緑が丘ＹＦＣ"},null,null,null,null,null,null,null,null,null,null,null,null,"D1",null,{"$f":"U12組合せ!$J$10","v":"上河内ＪＳＣ"},null,null,null,null,null,null,null,null,null,null,null,"D2",null,{"$f":"U12組合せ!$J$11","v":"上三川ＳＣ"},null,null,null,null,null,null,null,null,null,null,null,"D3",null,{"$f":"U12組合せ!$J$12","v":"緑が丘ＹＦＣ"}]
[null,null,"D4",null,{"$f":"U12組合せ!$J$13","v":"泉ＦＣ宇都宮"},null,null,null,null,null,null,null,null,null,null,null,"D5",null,{"$f":"U12組合せ!$J$14","v":"国本ＪＳＣ"},null,null,null,null,null,null,null,null,null,null,null,"D6",null,{"$f":"U12組合せ!$J$15","v":"本郷北ＦＣ"},null,null,null,null,null,null,null,null,null,null,null,null,"D4",null,{"$f":"U12組合せ!$J$13","v":"泉ＦＣ宇都宮"},null,null,null,null,null,null,null,null,null,null,null,"D5",null,{"$f":"U12組合せ!$J$14","v":"国本ＪＳＣ"},null,null,null,null,null,null,null,null,null,null,null,"D6",null,{"$f":"U12組合せ!$J$15","v":"本郷北ＦＣ"}]
[null,null,"D7",null,{"$f":"U12組合せ!$J$16","v":"ＦＣペンサーレ"},null,null,null,null,null,null,null,null,null,null,null,"D8",null,{"$f":"U12組合せ!$J$17","v":"ブラッドレスＳＳ"},null,null,null,null,null,null,null,null,null,null,null,"D9",null,{"$f":"U12組合せ!$J$18","v":"ともぞうＳＣ・Ｂ"},null,null,null,null,null,null,null,null,null,null,null,null,"D7",null,{"$f":"U12組合せ!$J$16","v":"ＦＣペンサーレ"},null,null,null,null,null,null,null,null,null,null,null,"D8",null,{"$f":"U12組合せ!$J$17","v":"ブラッドレスＳＳ"},null,null,null,null,null,null,null,null,null,null,null,"D9",null,{"$f":"U12組合せ!$J$18","v":"ともぞうＳＣ・Ｂ"}]
[]
[null,"【試合時間：２０分-５分-２０分】",null,null,null,null,null,null,null,null,null,null,null,null,null,null,null,null,null,null,null,null,null,null,null,null,null,null,null,null,null,null,null,null,null,null,null,null,null,null,null,null,null,null,"【試合時間：２０分-５分-２０分】"]
[null,null,"試合開始",null,null,"監督サイン",null,null,null,"チーム名",null,null,null,null,null,null,"得点",null,null,null,null,null,null,"チーム名",null,null,null,null,null,null,"監督サイン",null,null,null,"主審／副審／副審／４審",null,null,null,null,null,null,null,null,null,null,"試合開始",null,null,"監督サイン",null,null,null,"チーム名",null,null,null,null,null,null,"得点",null,null,null,null,null,null,"チーム名",null,null,null,null,null,null,"監督サイン",null,null,null,"主審／副審／副審／４審"]
[null,1,"09:00:00",null,null,null,null,null,null,{"$f":"AG98","v":"緑が丘ＹＦＣ"},null,null,null,null,null,null,{"$f":"IF(OR(S104=\"\",S105=\"\"),\"\",S104+S105)","v":1},null,1,"－",0,{"$f":"IF(OR(U104=\"\",U105=\"\"),\"\",U104+U105)","v":0},null,{"$f":"S99","v":"国本ＪＳＣ"},null,null,null,null,null,null,null,null,null,null,{"$f":"DBCS(INDIRECT(\"U12対戦スケジュール!e\"&(ROW()/2+33)))","v":"８／２／２／８"},null,null,null,null,null,null,null,null,null,1,"09:00:00",null,null,null,null,null,null,{"$f":"AV98","v":"上河内ＪＳＣ"},null,null,null,null,null,null,{"$f":"IF(OR(BJ104=\"\",BJ105=\"\"),\"\",BJ104+BJ105)","v":5},null,2,"－",0,{"$f":"IF(OR(BL104=\"\",BL105=\"\"),\"\",BL104+BL105)","v":0},null,{"$f":"BX99","v":"本郷北ＦＣ"},null,null,null,null,null,null,null,null,null,null,{"$f":"DBCS(INDIRECT(\"U12対戦スケジュール!g\"&(ROW()/2+33)))","v":"９／７／７／９"}]
[null,null,null,null,null,null,null,null,null,null,null,null,null,null,null,null,null,null,0,"－",0,null,null,null,null,null,null,null,null,null,null,null,null,null,null,null,null,null,null,null,null,null,null,null,null,null,null,null,null,null,null,null,null,null,null,null,null,null,null,null,null,3,"－",0]
[null,2,"09:50:00","10:30:00",null,null,null,null,null,null,null,null,null,null,null,null,{"$f":"IF(OR(S106=\"\",S107=\"\"),\"\",S106+S107)","v":""},null,null,"－",null,{"$f":"IF(OR(U106=\"\",U107=\"\"),\"\",U106+U107)","v":""},null,null,null,null,null,null,null,null,null,null,null,null,{"$f":"DBCS(INDIRECT(\"U12対戦スケジュール!e\"&(ROW()/2+33)))","v":""},null,null,null,null,null,null,null,null,null,2,"09:50:00","10:30:00",null,null,null,null,null,{"$f":"BJ98","v":"上三川ＳＣ"},null,null,null,null,null,null,{"$f":"IF(OR(BJ106=\"\",BJ107=\"\"),\"\",BJ106+BJ107)","v":4},null,2,"－",0,{"$f":"IF(OR(BL106=\"\",BL107=\"\"),\"\",BL106+BL107)","v":0},null,{"$f":"AV99","v":"泉ＦＣ宇都宮"},null,null,null,null,null,null,null,null,null,null,{"$f":"DBCS(INDIRECT(\"U12対戦スケジュール!g\"&(ROW()/2+33)))","v":"３／１／１／３"}]
[null,null,null,null,null,null,null,null,null,null,null,null,null,null,null,null,null,null,null,"－",null,null,null,null,null,null,null,null,null,null,null,null,null,null,null,null,null,null,null,null,null,null,null,null,null,null,null,null,null,null,null,null,null,null,null,null,null,null,null,null,null,2,"－",0]
[null,3,"10:40:00",null,null,null,null,null,null,{"$f":"E100","v":"ＦＣペンサーレ"},null,null,null,null,null,null,{"$f":"IF(OR(S108=\"\",S109=\"\"),\"\",S108+S109)","v":3},null,1,"－",0,{"$f":"IF(OR(U108=\"\",U109=\"\"),\"\",U108+U109)","v":0},null,{"$f":"AG98","v":"緑が丘ＹＦＣ"},null,null,null,null,null,null,null,null,null,null,{"$f":"DBCS(INDIRECT(\"U12対戦スケジュール!e\"&(ROW()/2+33)))","v":"６／４／４／６"},null,null,null,null,null,null,null,null,null,3,"10:40:00",null,null,null,null,null,null,{"$f":"BJ100","v":"ブラッドレスＳＳ"},null,null,null,null,null,null,{"$f":"IF(OR(BJ108=\"\",BJ109=\"\"),\"\",BJ108+BJ109)","v":1},null,1,"－",0,{"$f":"IF(OR(BL108=\"\",BL109=\"\"),\"\",BL108+BL109)","v":0},null,{"$f":"AV98","v":"上河内ＪＳＣ"},null,null,null,null,null,null,null,null,null,null,{"$f":"DBCS(INDIRECT(\"U12対戦スケジュール!g\"&(ROW()/2+33)))","v":"２／５／５／２"}]
[null,null,null,null,null,null,null,null,null,null,null,null,null,null,null,null,null,null,2,"－",0,null,null,null,null,null,null,null,null,null,null,null,null,null,null,null,null,null,null,null,null,null,null,null,null,null,null,null,null,null,null,null,null,null,null,null,null,null,null,null,null,0,"－",0]
[null,4,"11:30:00","10:30:00",null,null,null,null,null,null,null,null,null,null,null,null,{"$f":"IF(OR(S110=\"\",S111=\"\"),\"\",S110+S111)","v":""},null,null,"－",null,{"$f":"IF(OR(U110=\"\",U111=\"\"),\"\",U110+U111)","v":""},null,null,null,null,null,null,null,null,null,null,null,null,{"$f":"DBCS(INDIRECT(\"U12対戦スケジュール!e\"&(ROW()/2+33)))","v":""},null,null,null,null,null,null,null,null,null,4,"11:30:00","10:30:00",null,null,null,null,null,{"$f":"BX100","v":"ともぞうＳＣ・Ｂ"},null,null,null,null,null,null,{"$f":"IF(OR(BJ110=\"\",BJ111=\"\"),\"\",BJ110+BJ111)","v":4},null,3,"－",0,{"$f":"IF(OR(BL110=\"\",BL111=\"\"),\"\",BL110+BL111)","v":0},null,{"$f":"BJ98","v":"上三川ＳＣ"},null,null,null,null,null,null,null,null,null,null,{"$f":"DBCS(INDIRECT(\"U12対戦スケジュール!g\"&(ROW()/2+33)))","v":"７／８／８／７"}]
[null,null,null,null,null,null,null,null,null,null,null,null,null,null,null,null,null,null,null,"－",null,null,null,null,null,null,null,null,null,null,null,null,null,null,null,null,null,null,null,null,null,null,null,null,null,null,null,null,null,null,null,null,null,null,null,null,null,null,null,null,null,1,"－",0]
[null,5,"12:20:00",null,null,null,null,null,null,{"$f":"S99","v":"国本ＪＳＣ"},null,null,null,null,null,null,{"$f":"IF(OR(S112=\"\",S113=\"\"),\"\",S112+S113)","v":1},null,0,"－",2,{"$f":"IF(OR(U112=\"\",U113=\"\"),\"\",U112+U113)","v":2},null,{"$f":"E100","v":"ＦＣペンサーレ"},null,null,null,null,null,null,null,null,null,null,{"$f":"DBCS(INDIRECT(\"U12対戦スケジュール!e\"&(ROW()/2+33)))","v":"１／９／９／１"},null,null,null,null,null,null,null,null,null,5,"12:20:00",null,null,null,null,null,null,{"$f":"BX99","v":"本郷北ＦＣ"},null,null,null,null,null,null,{"$f":"IF(OR(BJ112=\"\",BJ113=\"\"),\"\",BJ112+BJ113)","v":0},null,0,"－",2,{"$f":"IF(OR(BL112=\"\",BL113=\"\"),\"\",BL112+BL113)","v":2},null,{"$f":"BJ100","v":"ブラッドレスＳＳ"},null,null,null,null,null,null,null,null,null,null,{"$f":"DBCS(INDIRECT(\"U12対戦スケジュール!g\"&(ROW()/2+33)))","v":"４／３／３／４"}]
[null,null,null,null,null,null,null,null,null,null,null,null,null,null,null,null,null,null,1,"－",0,null,null,null,null,null,null,null,null,null,null,null,null,null,null,null,null,null,null,null,null,null,null,null,null,null,null,null,null,null,null,null,null,null,null,null,null,null,null,null,null,0,"－",0]
[null,6,"13:10:00","10:30:00",null,null,null,null,null,null,null,null,null,null,null,null,{"$f":"IF(OR(S114=\"\",S115=\"\"),\"\",S114+S115)","v":""},null,null,"－",null,{"$f":"IF(OR(U114=\"\",U115=\"\"),\"\",U114+U115)","v":""},null,null,null,null,null,null,null,null,null,null,null,null,{"$f":"DBCS(INDIRECT(\"U12対戦スケジュール!e\"&(ROW()/2+33)))","v":""},null,null,null,null,null,null,null,null,null,6,"13:10:00","10:30:00",null,null,null,null,null,{"$f":"AV99","v":"泉ＦＣ宇都宮"},null,null,null,null,null,null,{"$f":"IF(OR(BJ114=\"\",BJ115=\"\"),\"\",BJ114+BJ115)","v":0},null,0,"－",1,{"$f":"IF(OR(BL114=\"\",BL115=\"\"),\"\",BL114+BL115)","v":2},null,{"$f":"BX100","v":"ともぞうＳＣ・Ｂ"},null,null,null,null,null,null,null,null,null,null,{"$f":"DBCS(INDIRECT(\"U12対戦スケジュール!g\"&(ROW()/2+33)))","v":"５／６／６／５"}]
[null,null,null,null,null,null,null,null,null,null,null,null,null,null,null,null,null,null,null,"－",null,null,null,null,null,null,null,null,null,null,null,null,null,null,null,null,null,null,null,null,null,null,null,null,null,null,null,null,null,null,null,null,null,null,null,null,null,null,null,null,null,0,"－",1]
[]
[null,null,null,"警告／退場",null,null,null,null,null,"チーム名",null,null,null,null,null,null,null,"氏名",null,null,null,null,null,null,null,null,"番号",null,null,"理由",null,null,null,null,null,null,null,null,null,null,null,null,null,null,null,null,"警告／退場",null,null,null,null,null,"チーム名",null,null,null,null,null,null,null,"氏名",null,null,null,null,null,null,null,null,"番号",null,null,"理由"]
[null,null,null,"警告　　退場",null,null,null,null,null,null,null,null,null,null,null,null,null,null,null,null,null,null,null,null,null,null,null,null,null,null,null,null,null,null,null,null,null,null,null,null,null,null,null,null,null,null,"警告　　退場"]
[null,null,null,"警告　　退場",null,null,null,null,null,null,null,null,null,null,null,null,null,null,null,null,null,null,null,null,null,null,null,null,null,null,null,null,null,null,null,null,null,null,null,null,null,null,null,null,null,null,"警告　　退場"]
[null,null,null,"警告　　退場",null,null,null,null,null,null,null,null,null,null,null,null,null,null,null,null,null,null,null,null,null,null,null,null,null,null,null,null,null,null,null,null,null,null,null,null,null,null,null,null,null,null,"警告　　退場"]

{"sheet":"■","index":7,"n_rows":38,"n_cols":7,"rows_kept":38,"cut":false,"hidden":false,"merged":[]}
[null,"チーム名","勝ち点","試合数","勝ち点","得失差","得点"]
[{"$f":"INDIRECT(\"'Ａ～Ｄブロック星取表'!A\"&ROW()*2)","v":"A01"},{"$f":"U12組合せ!D10","v":"石井ＦＣ"},{"$f":"INDIRECT(\"'Ａ～Ｄブロック星取表'!At\"&ROW()*2)","v":22},{"$f":"INDIRECT(\"'Ａ～Ｄブロック星取表'!As\"&ROW()*2)","v":9},{"$f":"INDIRECT(\"'Ａ～Ｄブロック星取表'!At\"&ROW()*2)","v":22},{"$f":"INDIRECT(\"'Ａ～Ｄブロック星取表'!Av\"&ROW()*2)","v":25},{"$f":"INDIRECT(\"'Ａ～Ｄブロック星取表'!Aｗ\"&ROW()*2)","v":31}]
[{"$f":"INDIRECT(\"'Ａ～Ｄブロック星取表'!A\"&ROW()*2)","v":"A02"},{"$f":"U12組合せ!D11","v":"細谷ＳＣ"},{"$f":"INDIRECT(\"'Ａ～Ｄブロック星取表'!At\"&ROW()*2)","v":22},{"$f":"INDIRECT(\"'Ａ～Ｄブロック星取表'!As\"&ROW()*2)","v":9},22,{"$f":"INDIRECT(\"'Ａ～Ｄブロック星取表'!Av\"&ROW()*2)","v":43},{"$f":"INDIRECT(\"'Ａ～Ｄブロック星取表'!Aｗ\"&ROW()*2)","v":50}]
["A03",{"$f":"U12組合せ!D12","v":"ＦＣみらい Ｖ"},0,9,0,-43,2]
["A04",{"$f":"U12組合せ!D13","v":"岡西ＦＣ"},4,9,4,-53,9]
["A05",{"$f":"U12組合せ!D14","v":"ＦＣグランディール宇都宮"},13,9,13,1,19]
["A06",{"$f":"U12組合せ!D15","v":"ＦＣグラシアス"},18,9,18,16,33]
["A07",{"$f":"U12組合せ!D16","v":"岡本ＦＣ"},4,9,4,-22,7]
["A08",{"$f":"U12組合せ!D17","v":"シャルムグランツＳＣ"},9,9,9,-18,14]
["A09",{"$f":"U12組合せ!D18","v":"カテット白沢ＳＳ"},24,9,24,34,39]
["A10",{"$f":"U12組合せ!D19","v":"ＦＣアリーバ"},16,9,16,17,27]
[{"$f":"INDIRECT(\"'Ａ～Ｄブロック星取表'!A\"&ROW()*2+2)","v":"B01"},{"$f":"U12組合せ!F10","v":"姿川第一ＦＣ"},{"$f":"INDIRECT(\"'Ａ～Ｄブロック星取表'!At\"&ROW()*2+2)","v":7},{"$f":"INDIRECT(\"'Ａ～Ｄブロック星取表'!As\"&ROW()*2+2)","v":8},{"$f":"INDIRECT(\"'Ａ～Ｄブロック星取表'!At\"&ROW()*2+2)","v":7},{"$f":"INDIRECT(\"'Ａ～Ｄブロック星取表'!Aｖ\"&ROW()*2+2)","v":-7},{"$f":"INDIRECT(\"'Ａ～Ｄブロック星取表'!Aｗ\"&ROW()*2+2)","v":5}]
[{"$f":"INDIRECT(\"'Ａ～Ｄブロック星取表'!A\"&ROW()*2+2)","v":"B02"},{"$f":"U12組合せ!F11","v":"宝木キッカーズ"},{"$f":"INDIRECT(\"'Ａ～Ｄブロック星取表'!At\"&ROW()*2+2)","v":10},{"$f":"INDIRECT(\"'Ａ～Ｄブロック星取表'!As\"&ROW()*2+2)","v":8},10,{"$f":"INDIRECT(\"'Ａ～Ｄブロック星取表'!Aｖ\"&ROW()*2+2)","v":-7},{"$f":"INDIRECT(\"'Ａ～Ｄブロック星取表'!Aｗ\"&ROW()*2+2)","v":10}]
["B03",{"$f":"U12組合せ!F12","v":"ｕｎｉｏｎ ｓｃ"},15,8,15,6,16]
["B04",{"$f":"U12組合せ!F13","v":"河内ＳＣジュベニール"},1,8,1,-18,1]
["B05",{"$f":"U12組合せ!F14","v":"昭和・戸祭ＳＣ"},14,8,14,1,11]
["B06",{"$f":"U12組合せ!F15","v":"サウス宇都宮ＳＣ"},10,8,10,1,12]
["B07",{"$f":"U12組合せ!F16","v":"ＦＣ Ｒｉｓｏ"},21,8,21,20,22]
["B08",{"$f":"U12組合せ!F17","v":"富士見ＳＳＳ"},4,8,4,-22,3]
["B09",{"$f":"U12組合せ!F18","v":"豊郷ＪＦＣ宇都宮"},22,8,22,30,31]
[{"$f":"INDIRECT(\"'Ａ～Ｄブロック星取表'!A\"&ROW()*2+6)","v":"C01"},{"$f":"U12組合せ!H10","v":"清原ＳＳＳ"},{"$f":"INDIRECT(\"'Ａ～Ｄブロック星取表'!At\"&ROW()*2+6)","v":20},{"$f":"INDIRECT(\"'Ａ～Ｄブロック星取表'!As\"&ROW()*2+6)","v":8},{"$f":"INDIRECT(\"'Ａ～Ｄブロック星取表'!At\"&ROW()*2+6)","v":20},{"$f":"INDIRECT(\"'Ａ～Ｄブロック星取表'!Aｖ\"&ROW()*2+6)","v":19},{"$f":"INDIRECT(\"'Ａ～Ｄブロック星取表'!Aｗ\"&ROW()*2+6)","v":29}]
[{"$f":"INDIRECT(\"'Ａ～Ｄブロック星取表'!A\"&ROW()*2+6)","v":"C02"},{"$f":"U12組合せ!H11","v":"ＦＣみらい Ｐ"},{"$f":"INDIRECT(\"'Ａ～Ｄブロック星取表'!At\"&ROW()*2+6)","v":18},{"$f":"INDIRECT(\"'Ａ～Ｄブロック星取表'!As\"&ROW()*2+6)","v":8},18,{"$f":"INDIRECT(\"'Ａ～Ｄブロック星取表'!Aｖ\"&ROW()*2+6)","v":20},{"$f":"INDIRECT(\"'Ａ～Ｄブロック星取表'!Aｗ\"&ROW()*2+6)","v":28}]
["C03",{"$f":"U12組合せ!H12","v":"雀宮ＦＣ"},6,8,6,-8,10]
["C04",{"$f":"U12組合せ!H13","v":"ＳＵＧＡＯ ＳＣ"},13,8,13,6,18]
["C05",{"$f":"U12組合せ!H14","v":"Ｓ４スペランツァ"},13,8,13,9,24]
["C06",{"$f":"U12組合せ!H15","v":"宇都宮北部ＦＣトレ"},10,8,10,-4,16]
["C07",{"$f":"U12組合せ!H16","v":"上三川ＦＣ"},3,8,3,-24,10]
["C08",{"$f":"U12組合せ!H17","v":"クラブチェルビアット"},22,8,22,30,34]
["C09",{"$f":"U12組合せ!H18","v":"ＦＣブロケード"},0,8,0,-48,1]
[{"$f":"INDIRECT(\"'Ａ～Ｄブロック星取表'!A\"&ROW()*2+8)","v":"D01"},{"$f":"U12組合せ!J10","v":"上河内ＪＳＣ"},{"$f":"INDIRECT(\"'Ａ～Ｄブロック星取表'!At\"&ROW()*2+8)","v":19},{"$f":"INDIRECT(\"'Ａ～Ｄブロック星取表'!As\"&ROW()*2+8)","v":8},{"$f":"INDIRECT(\"'Ａ～Ｄブロック星取表'!At\"&ROW()*2+8)","v":19},{"$f":"INDIRECT(\"'Ａ～Ｄブロック星取表'!Aｖ\"&ROW()*2+8)","v":22},{"$f":"INDIRECT(\"'Ａ～Ｄブロック星取表'!Aｗ\"&ROW()*2+8)","v":26}]
[{"$f":"INDIRECT(\"'Ａ～Ｄブロック星取表'!A\"&ROW()*2+8)","v":"D02"},{"$f":"U12組合せ!J11","v":"上三川ＳＣ"},{"$f":"INDIRECT(\"'Ａ～Ｄブロック星取表'!At\"&ROW()*2+8)","v":4},{"$f":"INDIRECT(\"'Ａ～Ｄブロック星取表'!As\"&ROW()*2+8)","v":8},4,{"$f":"INDIRECT(\"'Ａ～Ｄブロック星取表'!Aｖ\"&ROW()*2+8)","v":-18},{"$f":"INDIRECT(\"'Ａ～Ｄブロック星取表'!Aｗ\"&ROW()*2+8)","v":9}]
["D03",{"$f":"U12組合せ!J12","v":"緑が丘ＹＦＣ"},19,8,19,8,18]
["D04",{"$f":"U12組合せ!J13","v":"泉ＦＣ宇都宮"},0,8,0,-46,1]
["D05",{"$f":"U12組合せ!J14","v":"国本ＪＳＣ"},4,8,4,0,18]
["D06",{"$f":"U12組合せ!J15","v":"本郷北ＦＣ"},16,8,16,4,13]
["D07",{"$f":"U12組合せ!J16","v":"ＦＣペンサーレ"},10,8,10,0,15]
["D08",{"$f":"U12組合せ!J17","v":"ブラッドレスＳＳ"},19,8,19,21,27]
["D09",{"$f":"U12組合せ!J18","v":"ともぞうＳＣ・Ｂ"},13,8,13,9,13]

{"sheet":"Ａ～Dブロック星取表","index":8,"n_rows":85,"n_cols":52,"rows_kept":85,"cut":false,"hidden":false,"merged":[[81,49,82,49],[83,49,84,49],[41,49,42,49],[47,49,48,49],[49,49,50,49],[51,49,52,49],[53,49,54,49],[55,49,56,49],[57,49,58,49],[59,49,60,49],[61,49,62,49],[63,49,64,49],[67,49,68,49],[69,49,70,49],[71,49,72,49],[73,49,74,49],[75,49,76,49],[77,49,78,49],[79,49,80,49],[3,49,4,49],[5,49,6,49],[7,49,8,49],[9,49,10,49],[11,49,12,49],[13,49,14,49],[15,49,16,49],[17,49,18,49],[19,49,20,49],[21,49,22,49],[25,49,26,49],[27,49,28,49],[29,49,30,49],[31,49,32,49],[33,49,34,49],[35,49,36,49],[37,49,38,49],[83,48,84,48],[29,51,30,51],[27,51,28,51],[25,51,26,51],[17,51,18,51],[15,51,16,51],[13,51,14,51],[9,51,10,51],[7,51,8,51],[5,51,6,51],[83,51,84,51],[81,51,82,51],[79,51,80,51],[77,51,78,51],[75,51,76,51],[71,51,72,51],[69,51,70,51],[63,51,64,51],[61,51,62,51],[59,51,60,51],[55,51,56,51],[53,51,54,51],[49,51,50,51],[47,51,48,51],[37,51,38,51],[35,51,36,51],[31,51,32,51],[41,51,42,51],[33,51,34,51],[19,51,20,51],[11,51,12,51],[39,49,40,49],[47,48,48,48],[49,48,50,48],[51,48,52,48],[53,48,54,48],[55,48,56,48],[57,48,58,48],[59,48,60,48],[61,48,62,48],[63,48,64,48],[67,48,68,48],[69,48,70,48],[71,48,72,48],[73,48,74,48],[75,48,76,48],[77,48,78,48],[79,48,80,48],[81,48,82,48],[51,47,52,47],[53,47,54,47],[55,47,56,47],[57,47,58,47],[59,47,60,47],[61,47,62,47],[63,47,64,47],[67,47,68,47],[69,47,70,47],[71,47,72,47],[73,47,74,47],[75,47,76,47],[77,47,78,47],[79,47,80,47],[81,47,82,47],[83,47,84,47],[9,48,10,48],[11,48,12,48],[13,48,14,48],[15,48,16,48],[17,48,18,48],[19,48,20,48],[21,48,22,48],[25,48,26,48],[27,48,28,48],[29,48,30,48],[31,48,32,48],[33,48,34,48],[35,48,36,48],[37,48,38,48],[39,48,40,48],[41,48,42,48],[11,47,12,47],[13,47,14,47],[15,47,16,47],[17,47,18,47],[19,47,20,47],[21,47,22,47],[25,47,26,47],[27,47,28,47],[29,47,30,47],[31,47,32,47],[33,47,34,47],[35,47,36,47],[37,47,38,47],[39,47,40,47],[41,47,42,47],[47,47,48,47],[49,47,50,47],[83,50,84,50],[84,0,84,3],[83,34,84,34],[83,35,84,35],[83,36,84,39],[83,44,84,44],[83,45,84,45],[83,46,84,46],[83,28,84,28],[83,29,84,29],[83,30,84,30],[83,31,84,31],[83,32,84,32],[83,33,84,33],[83,22,84,22],[83,23,84,23],[83,24,84,24],[83,25,84,25],[83,26,84,26],[83,27,84,27],[83,16,84,16],[83,17,84,17],[83,18,84,18],[83,19,84,19],[83,20,84,20],[83,21,84,21],[83,10,84,10],[83,11,84,11],[83,12,84,12],[83,13,84,13],[83,14,84,14],[83,15,84,15],[81,50,82,50],[82,0,82,3],[83,0,83,3],[83,4,84,4],[83,5,84,5],[83,6,84,6],[83,7,84,7],[83,8,84,8],[83,9,84,9],[81,37,82,37],[81,38,82,38],[81,39,82,39],[81,44,82,44],[81,45,82,45],[81,46,82,46],[81,28,82,28],[81,29,82,29],[81,30,82,30],[81,31,82,31],[81,32,82,35],[81,36,82,36],[81,22,82,22],[81,23,82,23],[81,24,82,24],[81,25,82,25],[81,26,82,26],[81,27,82,27],[81,16,82,16],[81,17,82,17],[81,18,82,18],[81,19,82,19],[81,20,82,20],[81,21,82,21],[81,10,82,10],[81,11,82,11],[81,12,82,12],[81,13,82,13],[81,14,82,14],[81,15,82,15],[79,50,80,50],[80,0,80,3],[81,0,81,3],[81,4,82,4],[81,5,82,5],[81,6,82,6],[81,7,82,7],[81,8,82,8],[81,9,82,9],[79,37,80,37],[79,38,80,38],[79,39,80,39],[79,44,80,44],[79,45,80,45],[79,46,80,46],[79,28,80,31],[79,32,80,32],[79,33,80,33],[79,34,80,34],[79,35,80,35],[79,36,80,36],[79,22,80,22],[79,23,80,23],[79,24,80,24],[79,25,80,25],[79,26,80,26],[79,27,80,27],[79,16,80,16],[79,17,80,17],[79,18,80,18],[79,19,80,19],[79,20,80,20],[79,21,80,21],[79,10,80,10],[79,11,80,11],[79,12,80,12],[79,13,80,13],[79,14,80,14],[79,15,80,15],[77,50,78,50],[78,0,78,3],[79,0,79,3],[79,4,80,4],[79,5,80,5],[79,6,80,6],[79,7,80,7],[79,8,80,8],[79,9,80,9],[77,37,78,37],[77,38,78,38],[77,39,78,39],[77,44,78,44],[77,45,78,45],[77,46,78,46],[77,31,78,31],[77,32,78,32],[77,33,78,33],[77,34,78,34],[77,35,78,35],[77,36,78,36],[77,22,78,22],[77,23,78,23],[77,24,78,27],[77,28,78,28],[77,29,78,29],[77,30,78,30],[77,16,78,16],[77,17,78,17],[77,18,78,18],[77,19,78,19],[77,20,78,20],[77,21,78,21],[77,10,78,10],[77,11,78,11],[77,12,78,12],[77,13,78,13],[77,14,78,14],[77,15,78,15],[75,50,76,50],[76,0,76,3],[77,0,77,3],[77,4,78,4],[77,5,78,5],[77,6,78,6],[77,7,78,7],[77,8,78,8],[77,9,78,9],[75,37,76,37],[75,38,76,38],[75,39,76,39],[75,44,76,44],[75,45,76,45],[75,46,76,46],[75,31,76,31],[75,32,76,32],[75,33,76,33],[75,34,76,34],[75,35,76,35],[75,36,76,36],[75,25,76,25],[75,26,76,26],[75,27,76,27],[75,28,76,28],[75,29,76,29],[75,30,76,30],[75,16,76,16],[75,17,76,17],[75,18,76,18],[75,19,76,19],[75,20,76,23],[75,24,76,24],[75,10,76,10],[75,11,76,11],[75,12,76,12],[75,13,76,13],[75,14,76,14],[75,15,76,15],[73,50,74,50],[73,24,74,24],[73,10,74,10],[73,11,74,11],[73,12,74,12],[73,13,74,13],[73,14,74,14],[73,15,74,15],[73,51,74,51],[74,0,74,3],[75,0,75,3],[75,4,76,4],[75,5,76,5],[75,6,76,6],[75,7,76,7],[75,8,76,8],[75,9,76,9],[73,37,74,37],[73,38,74,38],[73,39,74,39],[73,44,74,44],[73,45,74,45],[73,46,74,46],[73,31,74,31],[73,32,74,32],[73,33,74,33],[73,34,74,34],[73,35,74,35],[73,36,74,36],[73,25,74,25],[73,26,74,26],[73,27,74,27],[73,28,74,28],[73,29,74,29],[73,30,74,30],[73,16,74,19],[73,20,74,20],[73,21,74,21],[73,22,74,22],[73,23,74,23],[71,50,72,50],[72,0,72,3],[73,0,73,3],[73,4,74,4],[73,5,74,5],[73,6,74,6],[73,7,74,7],[73,8,74,8],[73,9,74,9],[71,37,72,37],[71,38,72,38],[71,39,72,39],[71,44,72,44],[71,45,72,45],[71,46,72,46],[71,31,72,31],[71,32,72,32],[71,33,72,33],[71,34,72,34],[71,35,72,35],[71,36,72,36],[71,25,72,25],[71,26,72,26],[71,27,72,27],[71,28,72,28],[71,29,72,29],[71,30,72,30],[71,19,72,19],[71,20,72,20],[71,21,72,21],[71,22,72,22],[71,23,72,23],[71,24,72,24],[71,10,72,10],[71,11,72,11],[71,12,72,15],[71,16,72,16],[71,17,72,17],[71,18,72,18],[69,50,70,50],[70,0,70,3],[71,0,71,3],[71,4,72,4],[71,5,72,5],[71,6,72,6],[71,7,72,7],[71,8,72,8],[71,9,72,9],[69,37,70,37],[69,38,70,38],[69,39,70,39],[69,44,70,44],[69,45,70,45],[69,46,70,46],[69,31,70,31],[69,32,70,32],[69,33,70,33],[69,34,70,34],[69,35,70,35],[69,36,70,36],[69,25,70,25],[69,26,70,26],[69,27,70,27],[69,28,70,28],[69,29,70,29],[69,30,70,30],[69,19,70,19],[69,20,70,20],[69,21,70,21],[69,22,70,22],[69,23,70,23],[69,24,70,24],[69,13,70,13],[69,14,70,14],[69,15,70,15],[69,16,70,16],[69,17,70,17],[69,18,70,18],[67,50,68,50],[67,24,68,24],[67,13,68,13],[67,14,68,14],[67,15,68,15],[67,16,68,16],[67,17,68,17],[67,18,68,18],[67,51,68,51],[68,0,68,3],[69,0,69,3],[69,4,70,4],[69,5,70,5],[69,6,70,6],[69,7,70,7],[69,8,70,11],[69,12,70,12],[67,37,68,37],[67,38,68,38],[67,39,68,39],[67,44,68,44],[67,45,68,45],[67,46,68,46],[67,31,68,31],[67,32,68,32],[67,33,68,33],[67,34,68,34],[67,35,68,35],[67,36,68,36],[67,25,68,25],[67,26,68,26],[67,27,68,27],[67,28,68,28],[67,29,68,29],[67,30,68,30],[67,19,68,19],[67,20,68,20],[67,21,68,21],[67,22,68,22],[67,23,68,23],[66,28,66,31],[66,32,66,35],[66,36,66,39],[67,0,67,3],[67,4,68,7],[67,8,68,8],[67,9,68,9],[67,10,68,10],[67,11,68,11],[67,12,68,12],[63,50,64,50],[64,0,64,3],[66,0,66,3],[66,4,66,7],[66,8,66,11],[66,12,66,15],[66,16,66,19],[66,20,66,23],[66,24,66,27],[63,34,64,34],[63,35,64,35],[63,36,64,39],[63,44,64,44],[63,45,64,45],[63,46,64,46],[63,28,64,28],[63,29,64,29],[63,30,64,30],[63,31,64,31],[63,32,64,32],[63,33,64,33],[63,22,64,22],[63,23,64,23],[63,24,64,24],[63,25,64,25],[63,26,64,26],[63,27,64,27],[63,16,64,16],[63,17,64,17],[63,18,64,18],[63,19,64,19],[63,20,64,20],[63,21,64,21],[63,10,64,10],[63,11,64,11],[63,12,64,12],[63,13,64,13],[63,14,64,14],[63,15,64,15],[61,50,62,50],[62,0,62,3],[63,0,63,3],[63,4,64,4],[63,5,64,5],[63,6,64,6],[63,7,64,7],[63,8,64,8],[63,9,64,9],[61,37,62,37],[61,38,62,38],[61,39,62,39],[61,44,62,44],[61,45,62,45],[61,46,62,46],[61,28,62,28],[61,29,62,29],[61,30,62,30],[61,31,62,31],[61,32,62,35],[61,36,62,36],[61,22,62,22],[61,23,62,23],[61,24,62,24],[61,25,62,25],[61,26,62,26],[61,27,62,27],[61,16,62,16],[61,17,62,17],[61,18,62,18],[61,19,62,19],[61,20,62,20],[61,21,62,21],[61,10,62,10],[61,11,62,11],[61,12,62,12],[61,13,62,13],[61,14,62,14],[61,15,62,15],[59,50,60,50],[60,0,60,3],[61,0,61,3],[61,4,62,4],[61,5,62,5],[61,6,62,6],[61,7,62,7],[61,8,62,8],[61,9,62,9],[59,37,60,37],[59,38,60,38],[59,39,60,39],[59,44,60,44],[59,45,60,45],[59,46,60,46],[59,28,60,31],[59,32,60,32],[59,33,60,33],[59,34,60,34],[59,35,60,35],[59,36,60,36],[59,22,60,22],[59,23,60,23],[59,24,60,24],[59,25,60,25],[59,26,60,26],[59,27,60,27],[59,16,60,16],[59,17,60,17],[59,18,60,18],[59,19,60,19],[59,20,60,20],[59,21,60,21],[59,10,60,10],[59,11,60,11],[59,12,60,12],[59,13,60,13],[59,14,60,14],[59,15,60,15],[57,50,58,50],[57,21,58,21],[57,10,58,10],[57,11,58,11],[57,12,58,12],[57,13,58,13],[57,14,58,14],[57,15,58,15],[57,51,58,51],[58,0,58,3],[59,0,59,3],[59,4,60,4],[59,5,60,5],[59,6,60,6],[59,7,60,7],[59,8,60,8],[59,9,60,9],[57,37,58,37],[57,38,58,38],[57,39,58,39],[57,44,58,44],[57,45,58,45],[57,46,58,46],[57,31,58,31],[57,32,58,32],[57,33,58,33],[57,34,58,34],[57,35,58,35],[57,36,58,36],[57,22,58,22],[57,23,58,23],[57,24,58,27],[57,28,58,28],[57,29,58,29],[57,30,58,30],[57,16,58,16],[57,17,58,17],[57,18,58,18],[57,19,58,19],[57,20,58,20],[55,50,56,50],[56,0,56,3],[57,0,57,3],[57,4,58,4],[57,5,58,5],[57,6,58,6],[57,7,58,7],[57,8,58,8],[57,9,58,9],[55,37,56,37],[55,38,56,38],[55,39,56,39],[55,44,56,44],[55,45,56,45],[55,46,56,46],[55,31,56,31],[55,32,56,32],[55,33,56,33],[55,34,56,34],[55,35,56,35],[55,36,56,36],[55,25,56,25],[55,26,56,26],[55,27,56,27],[55,28,56,28],[55,29,56,29],[55,30,56,30],[55,16,56,16],[55,17,56,17],[55,18,56,18],[55,19,56,19],[55,20,56,23],[55,24,56,24],[55,10,56,10],[55,11,56,11],[55,12,56,12],[55,13,56,13],[55,14,56,14],[55,15,56,15],[53,50,54,50],[54,0,54,3],[55,0,55,3],[55,4,56,4],[55,5,56,5],[55,6,56,6],[55,7,56,7],[55,8,56,8],[55,9,56,9],[53,37,54,37],[53,38,54,38],[53,39,54,39],[53,44,54,44],[53,45,54,45],[53,46,54,46],[53,31,54,31],[53,32,54,32],[53,33,54,33],[53,34,54,34],[53,35,54,35],[53,36,54,36],[53,25,54,25],[53,26,54,26],[53,27,54,27],[53,28,54,28],[53,29,54,29],[53,30,54,30],[53,16,54,19],[53,20,54,20],[53,21,54,21],[53,22,54,22],[53,23,54,23],[53,24,54,24],[53,10,54,10],[53,11,54,11],[53,12,54,12],[53,13,54,13],[53,14,54,14],[53,15,54,15],[51,50,52,50],[51,24,52,24],[51,10,52,10],[51,11,52,11],[51,12,52,15],[51,16,52,16],[51,17,52,17],[51,18,52,18],[51,51,52,51],[52,0,52,3],[53,0,53,3],[53,4,54,4],[53,5,54,5],[53,6,54,6],[53,7,54,7],[53,8,54,8],[53,9,54,9],[51,37,52,37],[51,38,52,38],[51,39,52,39],[51,44,52,44],[51,45,52,45],[51,46,52,46],[51,31,52,31],[51,32,52,32],[51,33,52,33],[51,34,52,34],[51,35,52,35],[51,36,52,36],[51,25,52,25],[51,26,52,26],[51,27,52,27],[51,28,52,28],[51,29,52,29],[51,30,52,30],[51,19,52,19],[51,20,52,20],[51,21,52,21],[51,22,52,22],[51,23,52,23],[49,50,50,50],[50,0,50,3],[51,0,51,3],[51,4,52,4],[51,5,52,5],[51,6,52,6],[51,7,52,7],[51,8,52,8],[51,9,52,9],[49,37,50,37],[49,38,50,38],[49,39,50,39],[49,44,50,44],[49,45,50,45],[49,46,50,46],[49,31,50,31],[49,32,50,32],[49,33,50,33],[49,34,50,34],[49,35,50,35],[49,36,50,36],[49,25,50,25],[49,26,50,26],[49,27,50,27],[49,28,50,28],[49,29,50,29],[49,30,50,30],[49,19,50,19],[49,20,50,20],[49,21,50,21],[49,22,50,22],[49,23,50,23],[49,24,50,24],[49,13,50,13],[49,14,50,14],[49,15,50,15],[49,16,50,16],[49,17,50,17],[49,18,50,18],[47,50,48,50],[48,0,48,3],[49,0,49,3],[49,4,50,4],[49,5,50,5],[49,6,50,6],[49,7,50,7],[49,8,50,11],[49,12,50,12],[47,37,48,37],[47,38,48,38],[47,39,48,39],[47,44,48,44],[47,45,48,45],[47,46,48,46],[47,31,48,31],[47,32,48,32],[47,33,48,33],[47,34,48,34],[47,35,48,35],[47,36,48,36],[47,25,48,25],[47,26,48,26],[47,27,48,27],[47,28,48,28],[47,29,48,29],[47,30,48,30],[47,19,48,19],[47,20,48,20],[47,21,48,21],[47,22,48,22],[47,23,48,23],[47,24,48,24],[47,13,48,13],[47,14,48,14],[47,15,48,15],[47,16,48,16],[47,17,48,17],[47,18,48,18],[46,28,46,31],[46,32,46,35],[46,36,46,39],[47,0,47,3],[47,4,48,7],[47,8,48,8],[47,9,48,9],[47,10,48,10],[47,11,48,11],[47,12,48,12],[42,0,42,3],[44,0,44,51],[46,0,46,3],[46,4,46,7],[46,8,46,11],[46,12,46,15],[46,16,46,19],[46,20,46,23],[46,24,46,27],[41,35,42,35],[41,36,42,39],[41,44,42,44],[41,45,42,45],[41,46,42,46],[41,50,42,50],[41,29,42,29],[41,30,42,30],[41,31,42,31],[41,32,42,32],[41,33,42,33],[41,34,42,34],[41,23,42,23],[41,24,42,24],[41,25,42,25],[41,26,42,26],[41,27,42,27],[41,28,42,28],[41,17,42,17],[41,18,42,18],[41,19,42,19],[41,20,42,20],[41,21,42,21],[41,22,42,22],[41,11,42,11],[41,12,42,12],[41,13,42,13],[41,14,42,14],[41,15,42,15],[41,16,42,16],[39,51,40,51],[40,0,40,3],[41,0,41,3],[41,4,42,4],[41,5,42,5],[41,6,42,6],[41,7,42,7],[41,8,42,8],[41,9,42,9],[41,10,42,10],[39,38,40,38],[39,39,40,39],[39,44,40,44],[39,45,40,45],[39,46,40,46],[39,50,40,50],[39,29,40,29],[39,30,40,30],[39,31,40,31],[39,32,40,35],[39,36,40,36],[39,37,40,37],[39,23,40,23],[39,24,40,24],[39,25,40,25],[39,26,40,26],[39,27,40,27],[39,28,40,28],[39,17,40,17],[39,18,40,18],[39,19,40,19],[39,20,40,20],[39,21,40,21],[39,22,40,22],[39,11,40,11],[39,12,40,12],[39,13,40,13],[39,14,40,14],[39,15,40,15],[39,16,40,16],[38,0,38,3],[39,0,39,3],[39,4,40,4],[39,5,40,5],[39,6,40,6],[39,7,40,7],[39,8,40,8],[39,9,40,9],[39,10,40,10],[37,17,38,17],[37,18,38,18],[37,19,38,19],[37,20,38,20],[37,21,38,21],[37,22,38,22],[37,11,38,11],[37,12,38,12],[37,38,38,38],[37,39,38,39],[37,44,38,44],[37,45,38,45],[37,46,38,46],[37,50,38,50],[37,32,38,32],[37,33,38,33],[37,34,38,34],[37,35,38,35],[37,36,38,36],[37,37,38,37],[37,23,38,23],[37,24,38,24],[37,25,38,25],[37,26,38,26],[37,27,38,27],[37,28,38,31],[37,13,38,13],[37,14,38,14],[37,15,38,15],[37,16,38,16],[35,22,36,22],[35,11,36,11],[35,12,36,12],[35,13,36,13],[35,14,36,14],[35,15,36,15],[35,16,36,16],[36,0,36,3],[37,0,37,3],[37,4,38,4],[37,5,38,5],[37,6,38,6],[37,7,38,7],[37,8,38,8],[37,9,38,9],[37,10,38,10],[35,17,36,17],[35,18,36,18],[35,19,36,19],[35,20,36,20],[35,21,36,21],[35,0,35,3],[35,4,36,4],[35,5,36,5],[35,6,36,6],[35,7,36,7],[35,8,36,8],[35,9,36,9],[35,39,36,39]],"merged_total":1674,"flags":["merged_cut"]}
["ＪＦＡ　U-12サッカーリーグ2018（in栃木） 宇河地域リーグ戦（後期）　星取表"]
[]
["Ａブロック",null,null,null,{"$f":"A5","v":"石井ＦＣ"},null,null,null,{"$f":"A7","v":"細谷ＳＣ"},null,null,null,{"$f":"A9","v":"ＦＣみらい Ｖ"},null,null,null,{"$f":"A11","v":"岡西ＦＣ"},null,null,null,{"$f":"A13","v":"ＦＣグランディール宇都宮"},null,null,null,{"$f":"A15","v":"ＦＣグラシアス"},null,null,null,{"$f":"A17","v":"岡本ＦＣ"},null,null,null,{"$f":"A19","v":"シャルムグランツＳＣ"},null,null,null,{"$f":"A21","v":"カテット白沢ＳＳ"},null,null,null,{"$f":"A23","v":"ＦＣアリーバ"},null,null,null,"試合数","勝ち点","勝ち点率","得失差","得点",null,"ブロック\n順位","総合\n順位"]
["A01",null,null,null,null,null,null,null,{"$f":"IF(OR(J4=\"\",L4=\"\"),\"\",IF(J4>L4,\"○\",IF(J4<L4,\"×\",IF(J4=L4,\"△\"))))","v":"△"},2,"-",2,{"$f":"IF(OR(N4=\"\",P4=\"\"),\"\",IF(N4>P4,\"○\",IF(N4<P4,\"×\",IF(N4=P4,\"△\"))))","v":"○"},7,"-",0,{"$f":"IF(OR(R4=\"\",T4=\"\"),\"\",IF(R4>T4,\"○\",IF(R4<T4,\"×\",IF(R4=T4,\"△\"))))","v":"○"},10,"－",0,{"$f":"IF(OR(V4=\"\",X4=\"\"),\"\",IF(V4>X4,\"○\",IF(V4<X4,\"×\",IF(V4=X4,\"△\"))))","v":"○"},2,"－",0,{"$f":"IF(OR(Z4=\"\",AB4=\"\"),\"\",IF(Z4>AB4,\"○\",IF(Z4<AB4,\"×\",IF(Z4=AB4,\"△\"))))","v":"×"},1,"－",2,{"$f":"IF(OR(AD4=\"\",AF4=\"\"),\"\",IF(AD4>AF4,\"○\",IF(AD4<AF4,\"×\",IF(AD4=AF4,\"△\"))))","v":"○"},2,"－",0,{"$f":"IF(OR(AH4=\"\",AJ4=\"\"),\"\",IF(AH4>AJ4,\"○\",IF(AH4<AJ4,\"×\",IF(AH4=AJ4,\"△\"))))","v":"○"},4,"－",2,{"$f":"IF(OR(AL4=\"\",AN4=\"\"),\"\",IF(AL4>AN4,\"○\",IF(AL4<AN4,\"×\",IF(AL4=AN4,\"△\"))))","v":"○"},2,"－",0,{"$f":"IF(OR(AP4=\"\",AR4=\"\"),\"\",IF(AP4>AR4,\"○\",IF(AP4<AR4,\"×\",IF(AP4=AR4,\"△\"))))","v":"○"},1,"-",0,{"$f":"COUNTIF(E4:AR5,\"○\")+COUNTIF(E4:AR5,\"×\")+COUNTIF(E4:AR5,\"△\")","v":9},{"$f":"COUNTIF(E4:AR5,\"○\")*3+COUNTIF(E4:AR5,\"△\")","v":22},{"$f":"IF(AS4=0,0,AT4/(AS4*3))","v":0.81481481481481477},{"$f":"SUM(F4,J4,N4,R4,V4,Z4,AD4,AH4,AL4,AP4)-SUM(H4,L4,P4,T4,X4,AB4,AF4,AJ4,AN4,AR4)","v":25},{"$f":"SUM(F4,J4,N4,R4,V4,Z4,AD4,AH4,AL4,AP4)","v":31},{"$f":"AU4+AV4*0.001+AW4*0.00001","v":0.84012481481481482},{"$f":"RANK(AX4,$AX$4:$AX$23)","v":3},{"$f":"RANK(AX4,$AX$4:$AX$85)","v":7}]
[{"$f":"INDIRECT(\"U12組合せ!d\"&(ROW()-1)/2+8)","v":"石井ＦＣ"}]
["A02",null,null,null,{"$f":"IF(OR(F6=\"\",H6=\"\"),\"\",IF(F6>H6,\"○\",IF(F6<H6,\"×\",IF(F6=H6,\"△\"))))","v":"△"},{"$f":"IF(L4=\"\",\"\",L4)","v":2},"－",{"$f":"IF(J4=\"\",\"\",J4)","v":2},null,null,null,null,{"$f":"IF(OR(N6=\"\",P6=\"\"),\"\",IF(N6>P6,\"○\",IF(N6<P6,\"×\",IF(N6=P6,\"△\"))))","v":"○"},5,"-",0,{"$f":"IF(OR(R6=\"\",T6=\"\"),\"\",IF(R6>T6,\"○\",IF(R6<T6,\"×\",IF(R6=T6,\"△\"))))","v":"○"},13,"－",1,{"$f":"IF(OR(V6=\"\",X6=\"\"),\"\",IF(V6>X6,\"○\",IF(V6<X6,\"×\",IF(V6=X6,\"△\"))))","v":"○"},6,"－",1,{"$f":"IF(OR(Z6=\"\",AB6=\"\"),\"\",IF(Z6>AB6,\"○\",IF(Z6<AB6,\"×\",IF(Z6=AB6,\"△\"))))","v":"○"},2,"－",0,{"$f":"IF(OR(AD6=\"\",AF6=\"\"),\"\",IF(AD6>AF6,\"○\",IF(AD6<AF6,\"×\",IF(AD6=AF6,\"△\"))))","v":"○"},8,"－",0,{"$f":"IF(OR(AH6=\"\",AJ6=\"\"),\"\",IF(AH6>AJ6,\"○\",IF(AH6<AJ6,\"×\",IF(AH6=AJ6,\"△\"))))","v":"○"},10,"－",0,{"$f":"IF(OR(AL6=\"\",AN6=\"\"),\"\",IF(AL6>AN6,\"○\",IF(AL6<AN6,\"×\",IF(AL6=AN6,\"△\"))))","v":"×"},1,"－",3,{"$f":"IF(OR(AP6=\"\",AR6=\"\"),\"\",IF(AP6>AR6,\"○\",IF(AP6<AR6,\"×\",IF(AP6=AR6,\"△\"))))","v":"○"},3,"-",0,{"$f":"COUNTIF(E6:AR7,\"○\")+COUNTIF(E6:AR7,\"×\")+COUNTIF(E6:AR7,\"△\")","v":9},{"$f":"COUNTIF(E6:AR7,\"○\")*3+COUNTIF(E6:AR7,\"△\")","v":22},{"$f":"IF(AS6=0,0,AT6/(AS6*3))","v":0.81481481481481477},{"$f":"SUM(F6,J6,N6,R6,V6,Z6,AD6,AH6,AL6,AP6)-SUM(H6,L6,P6,T6,X6,AB6,AF6,AJ6,AN6,AR6)","v":43},{"$f":"SUM(F6,J6,N6,R6,V6,Z6,AD6,AH6,AL6,AP6)","v":50},{"$f":"AU6+AV6*0.001+AW6*0.00001","v":0.85831481481481475},{"$f":"RANK(AX6,$AX$4:$AX$23)","v":2},{"$f":"RANK(AX6,$AX$4:$AX$85)","v":5}]
[{"$f":"INDIRECT(\"U12組合せ!d\"&(ROW()-1)/2+8)","v":"細谷ＳＣ"}]
["A03",null,null,null,{"$f":"IF(OR(F8=\"\",H8=\"\"),\"\",IF(F8>H8,\"○\",IF(F8<H8,\"×\",IF(F8=H8,\"△\"))))","v":"×"},{"$f":"IF(P4=\"\",\"\",P4)","v":0},"－",{"$f":"IF(N4=\"\",\"\",N4)","v":7},{"$f":"IF(OR(J8=\"\",L8=\"\"),\"\",IF(J8>L8,\"○\",IF(J8<L8,\"×\",IF(J8=L8,\"△\"))))","v":"×"},{"$f":"IF(P6=\"\",\"\",P6)","v":0},"－",{"$f":"IF(N6=\"\",\"\",N6)","v":5},null,null,null,null,{"$f":"IF(OR(R8=\"\",T8=\"\"),\"\",IF(R8>T8,\"○\",IF(R8<T8,\"×\",IF(R8=T8,\"△\"))))","v":"×"},1,"-",3,{"$f":"IF(OR(V8=\"\",X8=\"\"),\"\",IF(V8>X8,\"○\",IF(V8<X8,\"×\",IF(V8=X8,\"△\"))))","v":"×"},0,"－",5,{"$f":"IF(OR(Z8=\"\",AB8=\"\"),\"\",IF(Z8>AB8,\"○\",IF(Z8<AB8,\"×\",IF(Z8=AB8,\"△\"))))","v":"×"},0,"－",8,{"$f":"IF(OR(AD8=\"\",AF8=\"\"),\"\",IF(AD8>AF8,\"○\",IF(AD8<AF8,\"×\",IF(AD8=AF8,\"△\"))))","v":"×"},0,"－",2,{"$f":"IF(OR(AH8=\"\",AJ8=\"\"),\"\",IF(AH8>AJ8,\"○\",IF(AH8<AJ8,\"×\",IF(AH8=AJ8,\"△\"))))","v":"×"},0,"－",3,{"$f":"IF(OR(AL8=\"\",AN8=\"\"),\"\",IF(AL8>AN8,\"○\",IF(AL8<AN8,\"×\",IF(AL8=AN8,\"△\"))))","v":"×"},1,"－",7,{"$f":"IF(OR(AP8=\"\",AR8=\"\"),\"\",IF(AP8>AR8,\"○\",IF(AP8<AR8,\"×\",IF(AP8=AR8,\"△\"))))","v":"×"},0,"-",5,{"$f":"COUNTIF(E8:AR9,\"○\")+COUNTIF(E8:AR9,\"×\")+COUNTIF(E8:AR9,\"△\")","v":9},{"$f":"COUNTIF(E8:AR9,\"○\")*3+COUNTIF(E8:AR9,\"△\")","v":0},{"$f":"IF(AS8=0,0,AT8/(AS8*3))","v":0},{"$f":"SUM(F8,J8,N8,R8,V8,Z8,AD8,AH8,AL8,AP8)-SUM(H8,L8,P8,T8,X8,AB8,AF8,AJ8,AN8,AR8)","v":-43},{"$f":"SUM(F8,J8,N8,R8,V8,Z8,AD8,AH8,AL8,AP8)","v":2},{"$f":"AU8+AV8*0.001+AW8*0.00001","v":-4.2980000000000004E-2},{"$f":"RANK(AX8,$AX$4:$AX$23)","v":10},{"$f":"RANK(AX8,$AX$4:$AX$85)","v":35}]
[{"$f":"INDIRECT(\"U12組合せ!d\"&(ROW()-1)/2+8)","v":"ＦＣみらい Ｖ"}]
["A04",null,null,null,{"$f":"IF(OR(F10=\"\",H10=\"\"),\"\",IF(F10>H10,\"○\",IF(F10<H10,\"×\",IF(F10=H10,\"△\"))))","v":"×"},{"$f":"IF(T4=\"\",\"\",T4)","v":0},"－",{"$f":"IF(R4=\"\",\"\",R4)","v":10},{"$f":"IF(OR(J10=\"\",L10=\"\"),\"\",IF(J10>L10,\"○\",IF(J10<L10,\"×\",IF(J10=L10,\"△\"))))","v":"×"},{"$f":"IF(T6=\"\",\"\",T6)","v":1},"－",{"$f":"IF(R6=\"\",\"\",R6)","v":13},{"$f":"IF(OR(N10=\"\",P10=\"\"),\"\",IF(N10>P10,\"○\",IF(N10<P10,\"×\",IF(N10=P10,\"△\"))))","v":"○"},{"$f":"IF(T8=\"\",\"\",T8)","v":3},"－",{"$f":"IF(R8=\"\",\"\",R8)","v":1},null,null,null,null,{"$f":"IF(OR(V10=\"\",X10=\"\"),\"\",IF(V10>X10,\"○\",IF(V10<X10,\"×\",IF(V10=X10,\"△\"))))","v":"×"},1,"-",7,{"$f":"IF(OR(Z10=\"\",AB10=\"\"),\"\",IF(Z10>AB10,\"○\",IF(Z10<AB10,\"×\",IF(Z10=AB10,\"△\"))))","v":"×"},0,"－",8,{"$f":"IF(OR(AD10=\"\",AF10=\"\"),\"\",IF(AD10>AF10,\"○\",IF(AD10<AF10,\"×\",IF(AD10=AF10,\"△\"))))","v":"△"},2,"－",2,{"$f":"IF(OR(AH10=\"\",AJ10=\"\"),\"\",IF(AH10>AJ10,\"○\",IF(AH10<AJ10,\"×\",IF(AH10=AJ10,\"△\"))))","v":"×"},2,"－",4,{"$f":"IF(OR(AL10=\"\",AN10=\"\"),\"\",IF(AL10>AN10,\"○\",IF(AL10<AN10,\"×\",IF(AL10=AN10,\"△\"))))","v":"×"},0,"－",9,{"$f":"IF(OR(AP10=\"\",AR10=\"\"),\"\",IF(AP10>AR10,\"○\",IF(AP10<AR10,\"×\",IF(AP10=AR10,\"△\"))))","v":"×"},0,"－",8,{"$f":"COUNTIF(E10:AR11,\"○\")+COUNTIF(E10:AR11,\"×\")+COUNTIF(E10:AR11,\"△\")","v":9},{"$f":"COUNTIF(E10:AR11,\"○\")*3+COUNTIF(E10:AR11,\"△\")","v":4},{"$f":"IF(AS10=0,0,AT10/(AS10*3))","v":0.14814814814814814},{"$f":"SUM(F10,J10,N10,R10,V10,Z10,AD10,AH10,AL10,AP10)-SUM(H10,L10,P10,T10,X10,AB10,AF10,AJ10,AN10,AR10)","v":-53},{"$f":"SUM(F10,J10,N10,R10,V10,Z10,AD10,AH10,AL10,AP10)","v":9},{"$f":"AU10+AV10*0.001+AW10*0.00001","v":9.5238148148148155E-2},{"$f":"RANK(AX10,$AX$4:$AX$23)","v":9},{"$f":"RANK(AX10,$AX$4:$AX$85)","v":33}]
[{"$f":"INDIRECT(\"U12組合せ!d\"&(ROW()-1)/2+8)","v":"岡西ＦＣ"}]
["A05",null,null,null,{"$f":"IF(OR(F12=\"\",H12=\"\"),\"\",IF(F12>H12,\"○\",IF(F12<H12,\"×\",IF(F12=H12,\"△\"))))","v":"×"},{"$f":"IF(X4=\"\",\"\",X4)","v":0},"－",{"$f":"IF(V4=\"\",\"\",V4)","v":2},{"$f":"IF(OR(J12=\"\",L12=\"\"),\"\",IF(J12>L12,\"○\",IF(J12<L12,\"×\",IF(J12=L12,\"△\"))))","v":"×"},{"$f":"IF(X6=\"\",\"\",X6)","v":1},"－",{"$f":"IF(V6=\"\",\"\",V6)","v":6},{"$f":"IF(OR(N12=\"\",P12=\"\"),\"\",IF(N12>P12,\"○\",IF(N12<P12,\"×\",IF(N12=P12,\"△\"))))","v":"○"},{"$f":"IF(X8=\"\",\"\",X8)","v":5},"－",{"$f":"IF(V8=\"\",\"\",V8)","v":0},{"$f":"IF(OR(R12=\"\",T12=\"\"),\"\",IF(R12>T12,\"○\",IF(R12<T12,\"×\",IF(R12=T12,\"△\"))))","v":"○"},{"$f":"IF(X10=\"\",\"\",X10)","v":7},"－",{"$f":"IF(V10=\"\",\"\",V10)","v":1},null,null,null,null,{"$f":"IF(OR(Z12=\"\",AB12=\"\"),\"\",IF(Z12>AB12,\"○\",IF(Z12<AB12,\"×\",IF(Z12=AB12,\"△\"))))","v":"×"},1,"-",4,{"$f":"IF(OR(AD12=\"\",AF12=\"\"),\"\",IF(AD12>AF12,\"○\",IF(AD12<AF12,\"×\",IF(AD12=AF12,\"△\"))))","v":"○"},2,"－",0,{"$f":"IF(OR(AH12=\"\",AJ12=\"\"),\"\",IF(AH12>AJ12,\"○\",IF(AH12<AJ12,\"×\",IF(AH12=AJ12,\"△\"))))","v":"○"},1,"－",0,{"$f":"IF(OR(AL12=\"\",AN12=\"\"),\"\",IF(AL12>AN12,\"○\",IF(AL12<AN12,\"×\",IF(AL12=AN12,\"△\"))))","v":"×"},0,"－",3,{"$f":"IF(OR(AP12=\"\",AR12=\"\"),\"\",IF(AP12>AR12,\"○\",IF(AP12<AR12,\"×\",IF(AP12=AR12,\"△\"))))","v":"△"},2,"－",2,{"$f":"COUNTIF(E12:AR13,\"○\")+COUNTIF(E12:AR13,\"×\")+COUNTIF(E12:AR13,\"△\")","v":9},{"$f":"COUNTIF(E12:AR13,\"○\")*3+COUNTIF(E12:AR13,\"△\")","v":13},{"$f":"IF(AS12=0,0,AT12/(AS12*3))","v":0.48148148148148145},{"$f":"SUM(F12,J12,N12,R12,V12,Z12,AD12,AH12,AL12,AP12)-SUM(H12,L12,P12,T12,X12,AB12,AF12,AJ12,AN12,AR12)","v":1},{"$f":"SUM(F12,J12,N12,R12,V12,Z12,AD12,AH12,AL12,AP12)","v":19},{"$f":"AU12+AV12*0.001+AW12*0.00001","v":0.48267148148148148},{"$f":"RANK(AX12,$AX$4:$AX$23)","v":6},{"$f":"RANK(AX12,$AX$4:$AX$85)","v":20}]
[{"$f":"INDIRECT(\"U12組合せ!d\"&(ROW()-1)/2+8)","v":"ＦＣグランディール宇都宮"}]
["A06",null,null,null,{"$f":"IF(OR(F14=\"\",H14=\"\"),\"\",IF(F14>H14,\"○\",IF(F14<H14,\"×\",IF(F14=H14,\"△\"))))","v":"○"},{"$f":"IF(AB4=\"\",\"\",AB4)","v":2},"－",{"$f":"IF(Z4=\"\",\"\",Z4)","v":1},{"$f":"IF(OR(J14=\"\",L14=\"\"),\"\",IF(J14>L14,\"○\",IF(J14<L14,\"×\",IF(J14=L14,\"△\"))))","v":"×"},{"$f":"IF(AB6=\"\",\"\",AB6)","v":0},"－",{"$f":"IF(Z6=\"\",\"\",Z6)","v":2},{"$f":"IF(OR(N14=\"\",P14=\"\"),\"\",IF(N14>P14,\"○\",IF(N14<P14,\"×\",IF(N14=P14,\"△\"))))","v":"○"},{"$f":"IF(AB8=\"\",\"\",AB8)","v":8},"－",{"$f":"IF(Z8=\"\",\"\",Z8)","v":0},{"$f":"IF(OR(R14=\"\",T14=\"\"),\"\",IF(R14>T14,\"○\",IF(R14<T14,\"×\",IF(R14=T14,\"△\"))))","v":"○"},{"$f":"IF(AB10=\"\",\"\",AB10)","v":8},"－",{"$f":"IF(Z10=\"\",\"\",Z10)","v":0},{"$f":"IF(OR(V14=\"\",X14=\"\"),\"\",IF(V14>X14,\"○\",IF(V14<X14,\"×\",IF(V14=X14,\"△\"))))","v":"○"},{"$f":"IF(AB12=\"\",\"\",AB12)","v":4},"－",{"$f":"IF(Z12=\"\",\"\",Z12)","v":1},null,null,null,null,{"$f":"IF(OR(AD14=\"\",AF14=\"\"),\"\",IF(AD14>AF14,\"○\",IF(AD14<AF14,\"×\",IF(AD14=AF14,\"△\"))))","v":"○"},4,"-",1,{"$f":"IF(OR(AH14=\"\",AJ14=\"\"),\"\",IF(AH14>AJ14,\"○\",IF(AH14<AJ14,\"×\",IF(AH14=AJ14,\"△\"))))","v":"○"},4,"－",2,{"$f":"IF(OR(AL14=\"\",AN14=\"\"),\"\",IF(AL14>AN14,\"○\",IF(AL14<AN14,\"×\",IF(AL14=AN14,\"△\"))))","v":"×"},1,"－",5,{"$f":"IF(OR(AP14=\"\",AR14=\"\"),\"\",IF(AP14>AR14,\"○\",IF(AP14<AR14,\"×\",IF(AP14=AR14,\"△\"))))","v":"×"},2,"－",5,{"$f":"COUNTIF(E14:AR15,\"○\")+COUNTIF(E14:AR15,\"×\")+COUNTIF(E14:AR15,\"△\")","v":9},{"$f":"COUNTIF(E14:AR15,\"○\")*3+COUNTIF(E14:AR15,\"△\")","v":18},{"$f":"IF(AS14=0,0,AT14/(AS14*3))","v":0.66666666666666663},{"$f":"SUM(F14,J14,N14,R14,V14,Z14,AD14,AH14,AL14,AP14)-SUM(H14,L14,P14,T14,X14,AB14,AF14,AJ14,AN14,AR14)","v":16},{"$f":"SUM(F14,J14,N14,R14,V14,Z14,AD14,AH14,AL14,AP14)","v":33},{"$f":"AU14+AV14*0.001+AW14*0.00001","v":0.6829966666666667},{"$f":"RANK(AX14,$AX$4:$AX$23)","v":4},{"$f":"RANK(AX14,$AX$4:$AX$85)","v":12}]
[{"$f":"INDIRECT(\"U12組合せ!d\"&(ROW()-1)/2+8)","v":"ＦＣグラシアス"}]
["A07",null,null,null,{"$f":"IF(OR(F16=\"\",H16=\"\"),\"\",IF(F16>H16,\"○\",IF(F16<H16,\"×\",IF(F16=H16,\"△\"))))","v":"×"},{"$f":"IF(AF4=\"\",\"\",AF4)","v":0},"－",{"$f":"IF(AD4=\"\",\"\",AD4)","v":2},{"$f":"IF(OR(J16=\"\",L16=\"\"),\"\",IF(J16>L16,\"○\",IF(J16<L16,\"×\",IF(J16=L16,\"△\"))))","v":"×"},{"$f":"IF(AF6=\"\",\"\",AF6)","v":0},"－",{"$f":"IF(AD6=\"\",\"\",AD6)","v":8},{"$f":"IF(OR(N16=\"\",P16=\"\"),\"\",IF(N16>P16,\"○\",IF(N16<P16,\"×\",IF(N16=P16,\"△\"))))","v":"○"},{"$f":"IF(AF8=\"\",\"\",AF8)","v":2},"－",{"$f":"IF(AD8=\"\",\"\",AD8)","v":0},{"$f":"IF(OR(R16=\"\",T16=\"\"),\"\",IF(R16>T16,\"○\",IF(R16<T16,\"×\",IF(R16=T16,\"△\"))))","v":"△"},{"$f":"IF(AF10=\"\",\"\",AF10)","v":2},"－",{"$f":"IF(AD10=\"\",\"\",AD10)","v":2},{"$f":"IF(OR(V16=\"\",X16=\"\"),\"\",IF(V16>X16,\"○\",IF(V16<X16,\"×\",IF(V16=X16,\"△\"))))","v":"×"},{"$f":"IF(AF12=\"\",\"\",AF12)","v":0},"－",{"$f":"IF(AD12=\"\",\"\",AD12)","v":2},{"$f":"IF(OR(Z16=\"\",AB16=\"\"),\"\",IF(Z16>AB16,\"○\",IF(Z16<AB16,\"×\",IF(Z16=AB16,\"△\"))))","v":"×"},{"$f":"IF(AF14=\"\",\"\",AF14)","v":1},"－",{"$f":"IF(AD14=\"\",\"\",AD14)","v":4},null,null,null,null,{"$f":"IF(OR(AH16=\"\",AJ16=\"\"),\"\",IF(AH16>AJ16,\"○\",IF(AH16<AJ16,\"×\",IF(AH16=AJ16,\"△\"))))","v":"×"},1,"-",3,{"$f":"IF(OR(AL16=\"\",AN16=\"\"),\"\",IF(AL16>AN16,\"○\",IF(AL16<AN16,\"×\",IF(AL16=AN16,\"△\"))))","v":"×"},0,"－",5,{"$f":"IF(OR(AP16=\"\",AR16=\"\"),\"\",IF(AP16>AR16,\"○\",IF(AP16<AR16,\"×\",IF(AP16=AR16,\"△\"))))","v":"×"},1,"－",3,{"$f":"COUNTIF(E16:AR17,\"○\")+COUNTIF(E16:AR17,\"×\")+COUNTIF(E16:AR17,\"△\")","v":9},{"$f":"COUNTIF(E16:AR17,\"○\")*3+COUNTIF(E16:AR17,\"△\")","v":4},{"$f":"IF(AS16=0,0,AT16/(AS16*3))","v":0.14814814814814814},{"$f":"SUM(F16,J16,N16,R16,V16,Z16,AD16,AH16,AL16,AP16)-SUM(H16,L16,P16,T16,X16,AB16,AF16,AJ16,AN16,AR16)","v":-22},{"$f":"SUM(F16,J16,N16,R16,V16,Z16,AD16,AH16,AL16,AP16)","v":7},{"$f":"AU16+AV16*0.001+AW16*0.00001","v":0.12621814814814813},{"$f":"RANK(AX16,$AX$4:$AX$23)","v":8},{"$f":"RANK(AX16,$AX$4:$AX$85)","v":31}]
[{"$f":"INDIRECT(\"U12組合せ!d\"&(ROW()-1)/2+8)","v":"岡本ＦＣ"}]
["A08",null,null,null,{"$f":"IF(OR(F18=\"\",H18=\"\"),\"\",IF(F18>H18,\"○\",IF(F18<H18,\"×\",IF(F18=H18,\"△\"))))","v":"×"},{"$f":"IF(AJ4=\"\",\"\",AJ4)","v":2},"－",{"$f":"IF(AH4=\"\",\"\",AH4)","v":4},{"$f":"IF(OR(J18=\"\",L18=\"\"),\"\",IF(J18>L18,\"○\",IF(J18<L18,\"×\",IF(J18=L18,\"△\"))))","v":"×"},{"$f":"IF(AJ6=\"\",\"\",AJ6)","v":0},"－",{"$f":"IF(AH6=\"\",\"\",AH6)","v":10},{"$f":"IF(OR(N18=\"\",P18=\"\"),\"\",IF(N18>P18,\"○\",IF(N18<P18,\"×\",IF(N18=P18,\"△\"))))","v":"○"},{"$f":"IF(AJ8=\"\",\"\",AJ8)","v":3},"－",{"$f":"IF(AH8=\"\",\"\",AH8)","v":0},{"$f":"IF(OR(R18=\"\",T18=\"\"),\"\",IF(R18>T18,\"○\",IF(R18<T18,\"×\",IF(R18=T18,\"△\"))))","v":"○"},{"$f":"IF(AJ10=\"\",\"\",AJ10)","v":4},"－",{"$f":"IF(AH10=\"\",\"\",AH10)","v":2},{"$f":"IF(OR(V18=\"\",X18=\"\"),\"\",IF(V18>X18,\"○\",IF(V18<X18,\"×\",IF(V18=X18,\"△\"))))","v":"×"},{"$f":"IF(AJ12=\"\",\"\",AJ12)","v":0},"－",{"$f":"IF(AH12=\"\",\"\",AH12)","v":1},{"$f":"IF(OR(Z18=\"\",AB18=\"\"),\"\",IF(Z18>AB18,\"○\",IF(Z18<AB18,\"×\",IF(Z18=AB18,\"△\"))))","v":"×"},{"$f":"IF(AJ14=\"\",\"\",AJ14)","v":2},"－",{"$f":"IF(AH14=\"\",\"\",AH14)","v":4},{"$f":"IF(OR(AD18=\"\",AF18=\"\"),\"\",IF(AD18>AF18,\"○\",IF(AD18<AF18,\"×\",IF(AD18=AF18,\"△\"))))","v":"○"},{"$f":"IF(AJ16=\"\",\"\",AJ16)","v":3},"－",{"$f":"IF(AH16=\"\",\"\",AH16)","v":1},null,null,null,null,{"$f":"IF(OR(AL18=\"\",AN18=\"\"),\"\",IF(AL18>AN18,\"○\",IF(AL18<AN18,\"×\",IF(AL18=AN18,\"△\"))))","v":"×"},0,"-",6,{"$f":"IF(OR(AP18=\"\",AR18=\"\"),\"\",IF(AP18>AR18,\"○\",IF(AP18<AR18,\"×\",IF(AP18=AR18,\"△\"))))","v":"×"},0,"－",4,{"$f":"COUNTIF(E18:AR19,\"○\")+COUNTIF(E18:AR19,\"×\")+COUNTIF(E18:AR19,\"△\")","v":9},{"$f":"COUNTIF(E18:AR19,\"○\")*3+COUNTIF(E18:AR19,\"△\")","v":9},{"$f":"IF(AS18=0,0,AT18/(AS18*3))","v":0.33333333333333331},{"$f":"SUM(F18,J18,N18,R18,V18,Z18,AD18,AH18,AL18,AP18)-SUM(H18,L18,P18,T18,X18,AB18,AF18,AJ18,AN18,AR18)","v":-18},{"$f":"SUM(F18,J18,N18,R18,V18,Z18,AD18,AH18,AL18,AP18)","v":14},{"$f":"AU18+AV18*0.001+AW18*0.00001","v":0.31547333333333327},{"$f":"RANK(AX18,$AX$4:$AX$23)","v":7},{"$f":"RANK(AX18,$AX$4:$AX$85)","v":25}]
[{"$f":"INDIRECT(\"U12組合せ!d\"&(ROW()-1)/2+8)","v":"シャルムグランツＳＣ"}]
["A09",null,null,null,{"$f":"IF(OR(F20=\"\",H20=\"\"),\"\",IF(F20>H20,\"○\",IF(F20<H20,\"×\",IF(F20=H20,\"△\"))))","v":"×"},{"$f":"IF(AN4=\"\",\"\",AN4)","v":0},"－",{"$f":"IF(AL4=\"\",\"\",AL4)","v":2},{"$f":"IF(OR(J20=\"\",L20=\"\"),\"\",IF(J20>L20,\"○\",IF(J20<L20,\"×\",IF(J20=L20,\"△\"))))","v":"○"},{"$f":"IF(AN6=\"\",\"\",AN6)","v":3},"－",{"$f":"IF(AL6=\"\",\"\",AL6)","v":1},{"$f":"IF(OR(N20=\"\",P20=\"\"),\"\",IF(N20>P20,\"○\",IF(N20<P20,\"×\",IF(N20=P20,\"△\"))))","v":"○"},{"$f":"IF(AN8=\"\",\"\",AN8)","v":7},"－",{"$f":"IF(AL8=\"\",\"\",AL8)","v":1},{"$f":"IF(OR(R20=\"\",T20=\"\"),\"\",IF(R20>T20,\"○\",IF(R20<T20,\"×\",IF(R20=T20,\"△\"))))","v":"○"},{"$f":"IF(AN10=\"\",\"\",AN10)","v":9},"－",{"$f":"IF(AL10=\"\",\"\",AL10)","v":0},{"$f":"IF(OR(V20=\"\",X20=\"\"),\"\",IF(V20>X20,\"○\",IF(V20<X20,\"×\",IF(V20=X20,\"△\"))))","v":"○"},{"$f":"IF(AN12=\"\",\"\",AN12)","v":3},"－",{"$f":"IF(AL12=\"\",\"\",AL12)","v":0},{"$f":"IF(OR(Z20=\"\",AB20=\"\"),\"\",IF(Z20>AB20,\"○\",IF(Z20<AB20,\"×\",IF(Z20=AB20,\"△\"))))","v":"○"},{"$f":"IF(AN14=\"\",\"\",AN14)","v":5},"－",{"$f":"IF(AL14=\"\",\"\",AL14)","v":1},{"$f":"IF(OR(AD20=\"\",AF20=\"\"),\"\",IF(AD20>AF20,\"○\",IF(AD20<AF20,\"×\",IF(AD20=AF20,\"△\"))))","v":"○"},{"$f":"IF(AN16=\"\",\"\",AN16)","v":5},"－",{"$f":"IF(AL16=\"\",\"\",AL16)","v":0},{"$f":"IF(OR(AH20=\"\",AJ20=\"\"),\"\",IF(AH20>AJ20,\"○\",IF(AH20<AJ20,\"×\",IF(AH20=AJ20,\"△\"))))","v":"○"},{"$f":"IF(AN18=\"\",\"\",AN18)","v":6},"－",{"$f":"IF(AL18=\"\",\"\",AL18)","v":0},null,null,null,null,{"$f":"IF(OR(AP20=\"\",AR20=\"\"),\"\",IF(AP20>AR20,\"○\",IF(AP20<AR20,\"×\",IF(AP20=AR20,\"△\"))))","v":"○"},1,"-",0,{"$f":"COUNTIF(E20:AR21,\"○\")+COUNTIF(E20:AR21,\"×\")+COUNTIF(E20:AR21,\"△\")","v":9},{"$f":"COUNTIF(E20:AR21,\"○\")*3+COUNTIF(E20:AR21,\"△\")","v":24},{"$f":"IF(AS20=0,0,AT20/(AS20*3))","v":0.88888888888888884},{"$f":"SUM(F20,J20,N20,R20,V20,Z20,AD20,AH20,AL20,AP20)-SUM(H20,L20,P20,T20,X20,AB20,AF20,AJ20,AN20,AR20)","v":34},{"$f":"SUM(F20,J20,N20,R20,V20,Z20,AD20,AH20,AL20,AP20)","v":39},{"$f":"AU20+AV20*0.001+AW20*0.00001","v":0.92327888888888887},{"$f":"RANK(AX20,$AX$4:$AX$23)","v":1},{"$f":"RANK(AX20,$AX$4:$AX$85)","v":3}]
[{"$f":"INDIRECT(\"U12組合せ!d\"&(ROW()-1)/2+8)","v":"カテット白沢ＳＳ"}]
["A10",null,null,null,{"$f":"IF(OR(F22=\"\",H22=\"\"),\"\",IF(F22>H22,\"○\",IF(F22<$H22,\"×\",IF(F22=H22,\"△\"))))","v":"×"},{"$f":"IF(AR4=\"\",\"\",AR4)","v":0},"－",{"$f":"IF(AP4=\"\",\"\",AP4)","v":1},{"$f":"IF(OR(J22=\"\",L22=\"\"),\"\",IF(J22>L22,\"○\",IF(J22<L22,\"×\",IF(J22=L22,\"△\"))))","v":"×"},{"$f":"IF(AR6=\"\",\"\",AR6)","v":0},"－",{"$f":"IF(AP6=\"\",\"\",AP6)","v":3},{"$f":"IF(OR(N22=\"\",P22=\"\"),\"\",IF(N22>P22,\"○\",IF(N22<P22,\"×\",IF(N22=P22,\"△\"))))","v":"○"},{"$f":"IF(AR8=\"\",\"\",AR8)","v":5},"－",{"$f":"IF(AP8=\"\",\"\",AP8)","v":0},{"$f":"IF(OR(R22=\"\",T22=\"\"),\"\",IF(R22>T22,\"○\",IF(R22<T22,\"×\",IF(R22=T22,\"△\"))))","v":"○"},{"$f":"IF(AR10=\"\",\"\",AR10)","v":8},"－",{"$f":"IF(AP10=\"\",\"\",AP10)","v":0},{"$f":"IF(OR(V22=\"\",X22=\"\"),\"\",IF(V22>X22,\"○\",IF(V22<X22,\"×\",IF(V22=X22,\"△\"))))","v":"△"},{"$f":"IF(AR12=\"\",\"\",AR12)","v":2},"－",{"$f":"IF(AP12=\"\",\"\",AP12)","v":2},{"$f":"IF(OR(Z22=\"\",AB22=\"\"),\"\",IF(Z22>AB22,\"○\",IF(Z22<AB22,\"×\",IF(Z22=AB22,\"△\"))))","v":"○"},{"$f":"IF(AR14=\"\",\"\",AR14)","v":5},"－",{"$f":"IF(AP14=\"\",\"\",AP14)","v":2},{"$f":"IF(OR(AD22=\"\",AF22=\"\"),\"\",IF(AD22>AF22,\"○\",IF(AD22<AF22,\"×\",IF(AD22=AF22,\"△\"))))","v":"○"},{"$f":"IF(AR16=\"\",\"\",AR16)","v":3},"－",{"$f":"IF(AP16=\"\",\"\",AP16)","v":1},{"$f":"IF(OR(AH22=\"\",AJ22=\"\"),\"\",IF(AH22>AJ22,\"○\",IF(AH22<AJ22,\"×\",IF(AH22=AJ22,\"△\"))))","v":"○"},{"$f":"IF(AR18=\"\",\"\",AR18)","v":4},"－",{"$f":"IF(AP18=\"\",\"\",AP18)","v":0},{"$f":"IF(OR(AL22=\"\",AN22=\"\"),\"\",IF(AL22>AN22,\"○\",IF(AL22<AN22,\"×\",IF(AL22=AN22,\"△\"))))","v":"×"},{"$f":"IF(AR20=\"\",\"\",AR20)","v":0},"－",{"$f":"IF(AP20=\"\",\"\",AP20)","v":1},null,null,null,null,{"$f":"COUNTIF(E22:AR23,\"○\")+COUNTIF(E22:AR23,\"×\")+COUNTIF(E22:AR23,\"△\")","v":9},{"$f":"COUNTIF(E22:AR23,\"○\")*3+COUNTIF(E22:AR23,\"△\")","v":16},{"$f":"IF(AS22=0,0,AT22/(AS22*3))","v":0.59259259259259256},{"$f":"SUM(F22,J22,N22,R22,V22,Z22,AD22,AH22,AL22,AP22)-SUM(H22,L22,P22,T22,X22,AB22,AF22,AJ22,AN22,AR22)","v":17},{"$f":"SUM(F22,J22,N22,R22,V22,Z22,AD22,AH22,AL22,AP22)","v":27},{"$f":"AU22+AV22*0.001+AW22*0.00001","v":0.60986259259259257},{"$f":"RANK(AX22,$AX$4:$AX$23)","v":5},{"$f":"RANK(AX22,$AX$4:$AX$85)","v":15}]
[{"$f":"INDIRECT(\"U12組合せ!d\"&(ROW()-1)/2+8)","v":"ＦＣアリーバ"}]
[]
["Ｂブロック",null,null,null,{"$f":"A27","v":"姿川第一ＦＣ"},null,null,null,{"$f":"A29","v":"宝木キッカーズ"},null,null,null,{"$f":"A31","v":"ｕｎｉｏｎ ｓｃ"},null,null,null,{"$f":"A33","v":"河内ＳＣジュベニール"},null,null,null,{"$f":"A35","v":"昭和・戸祭ＳＣ"},null,null,null,{"$f":"A37","v":"サウス宇都宮ＳＣ"},null,null,null,{"$f":"A39","v":"ＦＣ Ｒｉｓｏ"},null,null,null,{"$f":"A41","v":"富士見ＳＳＳ"},null,null,null,{"$f":"A43","v":"豊郷ＪＦＣ宇都宮"},null,null,null,null,null,null,null,"試合数","勝ち点","勝ち点率","得失差","得点",null,"ブロック\n順位","総合\n順位"]
["B01",null,null,null,null,null,null,null,{"$f":"IF(OR(J26=\"\",L26=\"\"),\"\",IF(J26>L26,\"○\",IF(J26<L26,\"×\",IF(J26=L26,\"△\"))))","v":"○"},1,"－",0,{"$f":"IF(OR(N26=\"\",P26=\"\"),\"\",IF(N26>P26,\"○\",IF(N26<P26,\"×\",IF(N26=P26,\"△\"))))","v":"×"},0,"－",2,{"$f":"IF(OR(R26=\"\",T26=\"\"),\"\",IF(R26>T26,\"○\",IF(R26<T26,\"×\",IF(R26=T26,\"△\"))))","v":"○"},3,"－",0,{"$f":"IF(OR(V26=\"\",X26=\"\"),\"\",IF(V26>X26,\"○\",IF(V26<X26,\"×\",IF(V26=X26,\"△\"))))","v":"△"},0,"－",0,{"$f":"IF(OR(Z26=\"\",AB26=\"\"),\"\",IF(Z26>AB26,\"○\",IF(Z26<AB26,\"×\",IF(Z26=AB26,\"△\"))))","v":"×"},1,"－",2,{"$f":"IF(OR(AD26=\"\",AF26=\"\"),\"\",IF(AD26>AF26,\"○\",IF(AD26<AF26,\"×\",IF(AD26=AF26,\"△\"))))","v":"×"},0,"－",2,{"$f":"IF(OR(AH26=\"\",AJ26=\"\"),\"\",IF(AH26>AJ26,\"○\",IF(AH26<AJ26,\"×\",IF(AH26=AJ26,\"△\"))))","v":"×"},0,"－",1,{"$f":"IF(OR(AL26=\"\",AN26=\"\"),\"\",IF(AL26>AN26,\"○\",IF(AL26<AN26,\"×\",IF(AL26=AN26,\"△\"))))","v":"×"},0,"－",5,null,null,null,null,{"$f":"COUNTIF(E26:AN27,\"○\")+COUNTIF(E26:AN27,\"×\")+COUNTIF(E26:AN27,\"△\")","v":8},{"$f":"COUNTIF(E26:AN27,\"○\")*3+COUNTIF(E26:AN27,\"△\")","v":7},{"$f":"IF(AS26=0,0,AT26/(AS26*3))","v":0.29166666666666669},{"$f":"SUM(F26,J26,N26,R26,V26,Z26,AD26,AH26,AL26,AP26)-SUM(H26,L26,P26,T26,X26,AB26,AF26,AJ26,AN26,AR26)","v":-7},{"$f":"SUM(F26,J26,N26,R26,V26,Z26,AD26,AH26,AL26,AP26)","v":5},{"$f":"AU26+AV26*0.001+AW26*0.00001","v":0.28471666666666667},{"$f":"RANK(AX26,$AX$26:$AX$43)","v":7},{"$f":"RANK(AX26,$AX$4:$AX$85)","v":26}]
[{"$f":"INDIRECT(\"U12組合せ!f\"&(ROW()-1)/2-3)","v":"姿川第一ＦＣ"}]
["B02",null,null,null,{"$f":"IF(OR(F28=\"\",H28=\"\"),\"\",IF(F28>H28,\"○\",IF(F28<H28,\"×\",IF(F28=H28,\"△\"))))","v":"×"},{"$f":"IF(L26=\"\",\"\",L26)","v":0},"－",{"$f":"IF(J26=\"\",\"\",J26)","v":1},null,null,null,null,{"$f":"IF(OR(N28=\"\",P28=\"\"),\"\",IF(N28>P28,\"○\",IF(N28<P28,\"×\",IF(N28=P28,\"△\"))))","v":"×"},2,"－",4,{"$f":"IF(OR(R28=\"\",T28=\"\"),\"\",IF(R28>T28,\"○\",IF(R28<T28,\"×\",IF(R28=T28,\"△\"))))","v":"○"},1,"－",0,{"$f":"IF(OR(V28=\"\",X28=\"\"),\"\",IF(V28>X28,\"○\",IF(V28<X28,\"×\",IF(V28=X28,\"△\"))))","v":"△"},1,"－",1,{"$f":"IF(OR(Z28=\"\",AB28=\"\"),\"\",IF(Z28>AB28,\"○\",IF(Z28<AB28,\"×\",IF(Z28=AB28,\"△\"))))","v":"○"},3,"－",2,{"$f":"IF(OR(AD28=\"\",AF28=\"\"),\"\",IF(AD28>AF28,\"○\",IF(AD28<AF28,\"×\",IF(AD28=AF28,\"△\"))))","v":"×"},0,"－",4,{"$f":"IF(OR(AH28=\"\",AJ28=\"\"),\"\",IF(AH28>AJ28,\"○\",IF(AH28<AJ28,\"×\",IF(AH28=AJ28,\"△\"))))","v":"○"},2,"－",0,{"$f":"IF(OR(AL28=\"\",AN28=\"\"),\"\",IF(AL28>AN28,\"○\",IF(AL28<AN28,\"×\",IF(AL28=AN28,\"△\"))))","v":"×"},1,"－",9,null,null,null,null,{"$f":"COUNTIF(E28:AN29,\"○\")+COUNTIF(E28:AN29,\"×\")+COUNTIF(E28:AN29,\"△\")","v":8},{"$f":"COUNTIF(E28:AN29,\"○\")*3+COUNTIF(E28:AN29,\"△\")","v":10},{"$f":"IF(AS28=0,0,AT28/(AS28*3))","v":0.41666666666666669},{"$f":"SUM(F26,J26,N26,R26,V26,Z26,AD26,AH26,AL26,AP26)-SUM(H26,L26,P26,T26,X26,AB26,AF26,AJ26,AN26,AR26)","v":-7},{"$f":"SUM(F28,J28,N28,R28,V28,Z28,AD28,AH28,AL28,AP28)","v":10},{"$f":"AU28+AV28*0.001+AW28*0.00001","v":0.40976666666666667},{"$f":"RANK(AX28,$AX$26:$AX$43)","v":6},{"$f":"RANK(AX28,$AX$4:$AX$85)","v":24}]
[{"$f":"INDIRECT(\"U12組合せ!f\"&(ROW()-1)/2-3)","v":"宝木キッカーズ"}]
["B03",null,null,null,{"$f":"IF(OR(F30=\"\",H30=\"\"),\"\",IF(F30>H30,\"○\",IF(F30<H30,\"×\",IF(F30=H30,\"△\"))))","v":"○"},{"$f":"IF(P26=\"\",\"\",P26)","v":2},"－",{"$f":"IF(N26=\"\",\"\",N26)","v":0},{"$f":"IF(OR(J30=\"\",L30=\"\"),\"\",IF(J30>L30,\"○\",IF(J30<L30,\"×\",IF(J30=L30,\"△\"))))","v":"○"},{"$f":"IF(P28=\"\",\"\",P28)","v":4},"－",{"$f":"IF(N28=\"\",\"\",N28)","v":2},null,null,null,null,{"$f":"IF(OR(R30=\"\",T30=\"\"),\"\",IF(R30>T30,\"○\",IF(R30<T30,\"×\",IF(R30=T30,\"△\"))))","v":"○"},3,"－",1,{"$f":"IF(OR(V30=\"\",X30=\"\"),\"\",IF(V30>X30,\"○\",IF(V30<X30,\"×\",IF(V30=X30,\"△\"))))","v":"×"},1,"－",2,{"$f":"IF(OR(Z30=\"\",AB30=\"\"),\"\",IF(Z30>AB30,\"○\",IF(Z30<AB30,\"×\",IF(Z30=AB30,\"△\"))))","v":"○"},2,"－",0,{"$f":"IF(OR(AD30=\"\",AF30=\"\"),\"\",IF(AD30>AF30,\"○\",IF(AD30<AF30,\"×\",IF(AD30=AF30,\"△\"))))","v":"×"},0,"－",3,{"$f":"IF(OR(AH30=\"\",AJ30=\"\"),\"\",IF(AH30>AJ30,\"○\",IF(AH30<AJ30,\"×\",IF(AH30=AJ30,\"△\"))))","v":"○"},4,"－",0,{"$f":"IF(OR(AL30=\"\",AN30=\"\"),\"\",IF(AL30>AN30,\"○\",IF(AL30<AN30,\"×\",IF(AL30=AN30,\"△\"))))","v":"×"},0,"－",2,null,null,null,null,{"$f":"COUNTIF(E30:AN31,\"○\")+COUNTIF(E30:AN31,\"×\")+COUNTIF(E30:AN31,\"△\")","v":8},{"$f":"COUNTIF(E30:AN31,\"○\")*3+COUNTIF(E30:AN31,\"△\")","v":15},{"$f":"IF(AS30=0,0,AT30/(AS30*3))","v":0.625},{"$f":"SUM(F30,J30,N30,R30,V30,Z30,AD30,AH30,AL30,AP30)-SUM(H30,L30,P30,T30,X30,AB30,AF30,AJ30,AN30,AR30)","v":6},{"$f":"SUM(F30,J30,N30,R30,V30,Z30,AD30,AH30,AL30,AP30)","v":16},{"$f":"AU30+AV30*0.001+AW30*0.00001","v":0.63116000000000005},{"$f":"RANK(AX30,$AX$26:$AX$43)","v":3},{"$f":"RANK(AX30,$AX$4:$AX$85)","v":14}]
[{"$f":"INDIRECT(\"U12組合せ!f\"&(ROW()-1)/2-3)","v":"ｕｎｉｏｎ ｓｃ"}]
["B04",null,null,null,{"$f":"IF(OR(F32=\"\",H32=\"\"),\"\",IF(F32>H32,\"○\",IF(F32<H32,\"×\",IF(F32=H32,\"△\"))))","v":"×"},{"$f":"IF(T26=\"\",\"\",T26)","v":0},"－",{"$f":"IF(R26=\"\",\"\",R26)","v":3},{"$f":"IF(OR(J32=\"\",L32=\"\"),\"\",IF(J32>L32,\"○\",IF(J32<L32,\"×\",IF(J32=L32,\"△\"))))","v":"×"},{"$f":"IF(T28=\"\",\"\",T28)","v":0},"－",{"$f":"IF(R28=\"\",\"\",R28)","v":1},{"$f":"IF(OR(N32=\"\",P32=\"\"),\"\",IF(N32>P32,\"○\",IF(N32<P32,\"×\",IF(N32=P32,\"△\"))))","v":"×"},{"$f":"IF(T30=\"\",\"\",T30)","v":1},"－",{"$f":"IF(R30=\"\",\"\",R30)","v":3},null,null,null,null,{"$f":"IF(OR(V32=\"\",X32=\"\"),\"\",IF(V32>X32,\"○\",IF(V32<X32,\"×\",IF(V32=X32,\"△\"))))","v":"×"},0,"－",2,{"$f":"IF(OR(Z32=\"\",AB32=\"\"),\"\",IF(Z32>AB32,\"○\",IF(Z32<AB32,\"×\",IF(Z32=AB32,\"△\"))))","v":"×"},0,"－",5,{"$f":"IF(OR(AD32=\"\",AF32=\"\"),\"\",IF(AD32>AF32,\"○\",IF(AD32<AF32,\"×\",IF(AD32=AF32,\"△\"))))","v":"×"},0,"－",1,{"$f":"IF(OR(AH32=\"\",AJ32=\"\"),\"\",IF(AH32>AJ32,\"○\",IF(AH32<AJ32,\"×\",IF(AH32=AJ32,\"△\"))))","v":"△"},0,"－",0,{"$f":"IF(OR(AL32=\"\",AN32=\"\"),\"\",IF(AL32>AN32,\"○\",IF(AL32<AN32,\"×\",IF(AL32=AN32,\"△\"))))","v":"×"},0,"－",4,null,null,null,null,{"$f":"COUNTIF(E32:AN33,\"○\")+COUNTIF(E32:AN33,\"×\")+COUNTIF(E32:AN33,\"△\")","v":8},{"$f":"COUNTIF(E32:AN33,\"○\")*3+COUNTIF(E32:AN33,\"△\")","v":1},{"$f":"IF(AS32=0,0,AT32/(AS32*3))","v":4.1666666666666664E-2},{"$f":"SUM(F32,J32,N32,R32,V32,Z32,AD32,AH32,AL32,AP32)-SUM(H32,L32,P32,T32,X32,AB32,AF32,AJ32,AN32,AR32)","v":-18},{"$f":"SUM(F32,J32,N32,R32,V32,Z32,AD32,AH32,AL32,AP32)","v":1},{"$f":"AU32+AV32*0.001+AW32*0.00001","v":2.3676666666666662E-2},{"$f":"RANK(AX32,$AX$26:$AX$43)","v":9},{"$f":"RANK(AX32,$AX$4:$AX$85)","v":34}]
[{"$f":"INDIRECT(\"U12組合せ!f\"&(ROW()-1)/2-3)","v":"河内ＳＣジュベニール"}]
["B05",null,null,null,{"$f":"IF(OR(F34=\"\",H34=\"\"),\"\",IF(F34>H34,\"○\",IF(F34<H34,\"×\",IF(F34=H34,\"△\"))))","v":"△"},{"$f":"IF(X26=\"\",\"\",X26)","v":0},"－",{"$f":"IF(V26=\"\",\"\",V26)","v":0},{"$f":"IF(OR(J34=\"\",L34=\"\"),\"\",IF(J34>L34,\"○\",IF(J34<L34,\"×\",IF(J34=L34,\"△\"))))","v":"△"},{"$f":"IF(X28=\"\",\"\",X28)","v":1},"－",{"$f":"IF(V28=\"\",\"\",V28)","v":1},{"$f":"IF(OR(N34=\"\",P34=\"\"),\"\",IF(N34>P34,\"○\",IF(N34<P34,\"×\",IF(N34=P34,\"△\"))))","v":"○"},{"$f":"IF(X30=\"\",\"\",X30)","v":2},"－",{"$f":"IF(V30=\"\",\"\",V30)","v":1},{"$f":"IF(OR(R34=\"\",T34=\"\"),\"\",IF(R34>T34,\"○\",IF(R34<T34,\"×\",IF(R34=T34,\"△\"))))","v":"○"},{"$f":"IF(X32=\"\",\"\",X32)","v":2},"－",{"$f":"IF(V32=\"\",\"\",V32)","v":0},null,null,null,null,{"$f":"IF(OR(Z34=\"\",AB34=\"\"),\"\",IF(Z34>AB34,\"○\",IF(Z34<AB34,\"×\",IF(Z34=AB34,\"△\"))))","v":"○"},1,"－",0,{"$f":"IF(OR(AD34=\"\",AF34=\"\"),\"\",IF(AD34>AF34,\"○\",IF(AD34<AF34,\"×\",IF(AD34=AF34,\"△\"))))","v":"×"},0,"－",3,{"$f":"IF(OR(AH34=\"\",AJ34=\"\"),\"\",IF(AH34>AJ34,\"○\",IF(AH34<AJ34,\"×\",IF(AH34=AJ34,\"△\"))))","v":"○"},5,"－",1,{"$f":"IF(OR(AL34=\"\",AN34=\"\"),\"\",IF(AL34>AN34,\"○\",IF(AL34<AN34,\"×\",IF(AL34=AN34,\"△\"))))","v":"×"},0,"－",4,null,null,null,null,{"$f":"COUNTIF(E34:AN35,\"○\")+COUNTIF(E34:AN35,\"×\")+COUNTIF(E34:AN35,\"△\")","v":8},{"$f":"COUNTIF(E34:AN35,\"○\")*3+COUNTIF(E34:AN35,\"△\")","v":14},{"$f":"IF(AS34=0,0,AT34/(AS34*3))","v":0.58333333333333337},{"$f":"SUM(F34,J34,N34,R34,V34,Z34,AD34,AH34,AL34,AP34)-SUM(H34,L34,P34,T34,X34,AB34,AF34,AJ34,AN34,AR34)","v":1},{"$f":"SUM(F34,J34,N34,R34,V34,Z34,AD34,AH34,AL34,AP34)","v":11},{"$f":"AU34+AV34*0.001+AW34*0.00001","v":0.58444333333333343},{"$f":"RANK(AX34,$AX$26:$AX$43)","v":4},{"$f":"RANK(AX34,$AX$4:$AX$85)","v":16}]
[{"$f":"INDIRECT(\"U12組合せ!f\"&(ROW()-1)/2-3)","v":"昭和・戸祭ＳＣ"}]
["B06",null,null,null,{"$f":"IF(OR(F36=\"\",H36=\"\"),\"\",IF(F36>H36,\"○\",IF(F36<H36,\"×\",IF(F36=H36,\"△\"))))","v":"○"},{"$f":"IF(AB26=\"\",\"\",AB26)","v":2},"－",{"$f":"IF(Z26=\"\",\"\",Z26)","v":1},{"$f":"IF(OR(J36=\"\",L36=\"\"),\"\",IF(J36>L36,\"○\",IF(J36<L36,\"×\",IF(J36=L36,\"△\"))))","v":"×"},{"$f":"IF(AB28=\"\",\"\",AB28)","v":2},"－",{"$f":"IF(Z28=\"\",\"\",Z28)","v":3},{"$f":"IF(OR(N36=\"\",P36=\"\"),\"\",IF(N36>P36,\"○\",IF(N36<P36,\"×\",IF(N36=P36,\"△\"))))","v":"×"},{"$f":"IF(AB30=\"\",\"\",AB30)","v":0},"－",{"$f":"IF(Z30=\"\",\"\",Z30)","v":2},{"$f":"IF(OR(R36=\"\",T36=\"\"),\"\",IF(R36>T36,\"○\",IF(R36<T36,\"×\",IF(R36=T36,\"△\"))))","v":"○"},{"$f":"IF(AB32=\"\",\"\",AB32)","v":5},"－",{"$f":"IF(Z32=\"\",\"\",Z32)","v":0},{"$f":"IF(OR(V36=\"\",X36=\"\"),\"\",IF(V36>X36,\"○\",IF(V36<X36,\"×\",IF(V36=X36,\"△\"))))","v":"×"},{"$f":"IF(AB34=\"\",\"\",AB34)","v":0},"－",{"$f":"IF(Z34=\"\",\"\",Z34)","v":1},null,null,null,null,{"$f":"IF(OR(AD36=\"\",AF36=\"\"),\"\",IF(AD36>AF36,\"○\",IF(AD36<AF36,\"×\",IF(AD36=AF36,\"△\"))))","v":"×"},0,"－",3,{"$f":"IF(OR(AH36=\"\",AJ36=\"\"),\"\",IF(AH36>AJ36,\"○\",IF(AH36<AJ36,\"×\",IF(AH36=AJ36,\"△\"))))","v":"○"},3,"－",1,{"$f":"IF(OR(AL36=\"\",AN36=\"\"),\"\",IF(AL36>AN36,\"○\",IF(AL36<AN36,\"×\",IF(AL36=AN36,\"△\"))))","v":"△"},0,"－",0,null,null,null,null,{"$f":"COUNTIF(E36:AN37,\"○\")+COUNTIF(E36:AN37,\"×\")+COUNTIF(E36:AN37,\"△\")","v":8},{"$f":"COUNTIF(E36:AN37,\"○\")*3+COUNTIF(E36:AN37,\"△\")","v":10},{"$f":"IF(AS36=0,0,AT36/(AS36*3))","v":0.41666666666666669},{"$f":"SUM(F36,J36,N36,R36,V36,Z36,AD36,AH36,AL36,AP36)-SUM(H36,L36,P36,T36,X36,AB36,AF36,AJ36,AN36,AR36)","v":1},{"$f":"SUM(F36,J36,N36,R36,V36,Z36,AD36,AH36,AL36,AP36)","v":12},{"$f":"AU36+AV36*0.001+AW36*0.00001","v":0.4177866666666667},{"$f":"RANK(AX36,$AX$26:$AX$43)","v":5},{"$f":"RANK(AX36,$AX$4:$AX$85)","v":21}]
[{"$f":"INDIRECT(\"U12組合せ!f\"&(ROW()-1)/2-3)","v":"サウス宇都宮ＳＣ"}]
["B07",null,null,null,{"$f":"IF(OR(F38=\"\",H38=\"\"),\"\",IF(F38>H38,\"○\",IF(F38<H38,\"×\",IF(F38=H38,\"△\"))))","v":"○"},{"$f":"IF(AF26=\"\",\"\",AF26)","v":2},"－",{"$f":"IF(AD26=\"\",\"\",AD26)","v":0},{"$f":"IF(OR(J38=\"\",L38=\"\"),\"\",IF(J38>L38,\"○\",IF(J38<L38,\"×\",IF(J38=L38,\"△\"))))","v":"○"},{"$f":"IF(AF28=\"\",\"\",AF28)","v":4},"－",{"$f":"IF(AD28=\"\",\"\",AD28)","v":0},{"$f":"IF(OR(N38=\"\",P38=\"\"),\"\",IF(N38>P38,\"○\",IF(N38<P38,\"×\",IF(N38=P38,\"△\"))))","v":"○"},{"$f":"IF(AF30=\"\",\"\",AF30)","v":3},"－",{"$f":"IF(AD30=\"\",\"\",AD30)","v":0},{"$f":"IF(OR(R38=\"\",T38=\"\"),\"\",IF(R38>T38,\"○\",IF(R38<T38,\"×\",IF(R38=T38,\"△\"))))","v":"○"},{"$f":"IF(AF32=\"\",\"\",AF32)","v":1},"－",{"$f":"IF(AD32=\"\",\"\",AD32)","v":0},{"$f":"IF(OR(V38=\"\",X38=\"\"),\"\",IF(V38>X38,\"○\",IF(V38<X38,\"×\",IF(V38=X38,\"△\"))))","v":"○"},{"$f":"IF(AF34=\"\",\"\",AF34)","v":3},"－",{"$f":"IF(AD34=\"\",\"\",AD34)","v":0},{"$f":"IF(OR(Z38=\"\",AB38=\"\"),\"\",IF(Z38>AB38,\"○\",IF(Z38<AB38,\"×\",IF(Z38=AB38,\"△\"))))","v":"○"},{"$f":"IF(AF36=\"\",\"\",AF36)","v":3},"－",{"$f":"IF(AD36=\"\",\"\",AD36)","v":0},null,null,null,null,{"$f":"IF(OR(AH38=\"\",AJ38=\"\"),\"\",IF(AH38>AJ38,\"○\",IF(AH38<AJ38,\"×\",IF(AH38=AJ38,\"△\"))))","v":"○"},6,"－",0,{"$f":"IF(OR(AL38=\"\",AN38=\"\"),\"\",IF(AL38>AN38,\"○\",IF(AL38<AN38,\"×\",IF(AL38=AN38,\"△\"))))","v":"×"},0,"－",2,null,null,null,null,{"$f":"COUNTIF(E38:AN39,\"○\")+COUNTIF(E38:AN39,\"×\")+COUNTIF(E38:AN39,\"△\")","v":8},{"$f":"COUNTIF(E38:AN39,\"○\")*3+COUNTIF(E38:AN39,\"△\")","v":21},{"$f":"IF(AS38=0,0,AT38/(AS38*3))","v":0.875},{"$f":"SUM(F38,J38,N38,R38,V38,Z38,AD38,AH38,AL38,AP38)-SUM(H38,L38,P38,T38,X38,AB38,AF38,AJ38,AN38,AR38)","v":20},{"$f":"SUM(F38,J38,N38,R38,V38,Z38,AD38,AH38,AL38,AP38)","v":22},{"$f":"AU38+AV38*0.001+AW38*0.00001","v":0.89522000000000002},{"$f":"RANK(AX38,$AX$26:$AX$43)","v":2},{"$f":"RANK(AX38,$AX$4:$AX$85)","v":4}]
[{"$f":"INDIRECT(\"U12組合せ!f\"&(ROW()-1)/2-3)","v":"ＦＣ Ｒｉｓｏ"}]
["B08",null,null,null,{"$f":"IF(OR(F40=\"\",H40=\"\"),\"\",IF(F40>H40,\"○\",IF(F40<H40,\"×\",IF(F40=H40,\"△\"))))","v":"○"},{"$f":"IF(AJ26=\"\",\"\",AJ26)","v":1},"－",{"$f":"IF(AH26=\"\",\"\",AH26)","v":0},{"$f":"IF(OR(J40=\"\",L40=\"\"),\"\",IF(J40>L40,\"○\",IF(J40<L40,\"×\",IF(J40=L40,\"△\"))))","v":"×"},{"$f":"IF(AJ28=\"\",\"\",AJ28)","v":0},"－",{"$f":"IF(AH28=\"\",\"\",AH28)","v":2},{"$f":"IF(OR(N40=\"\",P40=\"\"),\"\",IF(N40>P40,\"○\",IF(N40<P40,\"×\",IF(N40=P40,\"△\"))))","v":"×"},{"$f":"IF(AJ30=\"\",\"\",AJ30)","v":0},"－",{"$f":"IF(AH30=\"\",\"\",AH30)","v":4},{"$f":"IF(OR(R40=\"\",T40=\"\"),\"\",IF(R40>T40,\"○\",IF(R40<T40,\"×\",IF(R40=T40,\"△\"))))","v":"△"},{"$f":"IF(AJ32=\"\",\"\",AJ32)","v":0},"－",{"$f":"IF(AH32=\"\",\"\",AH32)","v":0},{"$f":"IF(OR(V40=\"\",X40=\"\"),\"\",IF(V40>X40,\"○\",IF(V40<X40,\"×\",IF(V40=X40,\"△\"))))","v":"×"},{"$f":"IF(AJ34=\"\",\"\",AJ34)","v":1},"－",{"$f":"IF(AH34=\"\",\"\",AH34)","v":5},{"$f":"IF(OR(Z40=\"\",AB40=\"\"),\"\",IF(Z40>AB40,\"○\",IF(Z40<AB40,\"×\",IF(Z40=AB40,\"△\"))))","v":"×"},{"$f":"IF(AJ36=\"\",\"\",AJ36)","v":1},"－",{"$f":"IF(AH36=\"\",\"\",AH36)","v":3},{"$f":"IF(OR(AD40=\"\",AF40=\"\"),\"\",IF(AD40>AF40,\"○\",IF(AD40<AF40,\"×\",IF(AD40=AF40,\"△\"))))","v":"×"},{"$f":"IF(AJ38=\"\",\"\",AJ38)","v":0},"－",{"$f":"IF(AH38=\"\",\"\",AH38)","v":6},null,null,null,null,{"$f":"IF(OR(AL40=\"\",AN40=\"\"),\"\",IF(AL40>AN40,\"○\",IF(AL40<AN40,\"×\",IF(AL40=AN40,\"△\"))))","v":"×"},0,"－",5,null,null,null,null,{"$f":"COUNTIF(E40:AN41,\"○\")+COUNTIF(E40:AN41,\"×\")+COUNTIF(E40:AN41,\"△\")","v":8},{"$f":"COUNTIF(E40:AN41,\"○\")*3+COUNTIF(E40:AN41,\"△\")","v":4},{"$f":"IF(AS40=0,0,AT40/(AS40*3))","v":0.16666666666666666},{"$f":"SUM(F40,J40,N40,R40,V40,Z40,AD40,AH40,AL40,AP40)-SUM(H40,L40,P40,T40,X40,AB40,AF40,AJ40,AN40,AR40)","v":-22},{"$f":"SUM(F40,J40,N40,R40,V40,Z40,AD40,AH40,AL40,AP40)","v":3},{"$f":"AU40+AV40*0.001+AW40*0.00001","v":0.14469666666666667},{"$f":"RANK(AX40,$AX$26:$AX$43)","v":8},{"$f":"RANK(AX40,$AX$4:$AX$85)","v":30}]
[{"$f":"INDIRECT(\"U12組合せ!f\"&(ROW()-1)/2-3)","v":"富士見ＳＳＳ"}]
["B09",null,null,null,{"$f":"IF(OR(F42=\"\",H42=\"\"),\"\",IF(F42>H42,\"○\",IF(F42<H42,\"×\",IF(F42=H42,\"△\"))))","v":"○"},{"$f":"IF(AN26=\"\",\"\",AN26)","v":5},"－",{"$f":"IF(AL26=\"\",\"\",AL26)","v":0},{"$f":"IF(OR(J42=\"\",L42=\"\"),\"\",IF(J42>L42,\"○\",IF(J42<L42,\"×\",IF(J42=L42,\"△\"))))","v":"○"},{"$f":"IF(AN28=\"\",\"\",AN28)","v":9},"－",{"$f":"IF(AL28=\"\",\"\",AL28)","v":1},{"$f":"IF(OR(N42=\"\",P42=\"\"),\"\",IF(N42>P42,\"○\",IF(N42<P42,\"×\",IF(N42=P42,\"△\"))))","v":"○"},{"$f":"IF(AN30=\"\",\"\",AN30)","v":2},"－",{"$f":"IF(AL30=\"\",\"\",AL30)","v":0},{"$f":"IF(OR(R42=\"\",T42=\"\"),\"\",IF(R42>T42,\"○\",IF(R42<T42,\"×\",IF(R42=T42,\"△\"))))","v":"○"},{"$f":"IF(AN32=\"\",\"\",AN32)","v":4},"－",{"$f":"IF(AL32=\"\",\"\",AL32)","v":0},{"$f":"IF(OR(V42=\"\",X42=\"\"),\"\",IF(V42>X42,\"○\",IF(V42<X42,\"×\",IF(V42=X42,\"△\"))))","v":"○"},{"$f":"IF(AN34=\"\",\"\",AN34)","v":4},"－",{"$f":"IF(AL34=\"\",\"\",AL34)","v":0},{"$f":"IF(OR(Z42=\"\",AB42=\"\"),\"\",IF(Z42>AB42,\"○\",IF(Z42<AB42,\"×\",IF(Z42=AB42,\"△\"))))","v":"△"},{"$f":"IF(AN36=\"\",\"\",AN36)","v":0},"－",{"$f":"IF(AL36=\"\",\"\",AL36)","v":0},{"$f":"IF(OR(AD42=\"\",AF42=\"\"),\"\",IF(AD42>AF42,\"○\",IF(AD42<AF42,\"×\",IF(AD42=AF42,\"△\"))))","v":"○"},{"$f":"IF(AN38=\"\",\"\",AN38)","v":2},"－",{"$f":"IF(AL38=\"\",\"\",AL38)","v":0},{"$f":"IF(OR(AH42=\"\",AJ42=\"\"),\"\",IF(AH42>AJ42,\"○\",IF(AH42<AJ42,\"×\",IF(AH42=AJ42,\"△\"))))","v":"○"},{"$f":"IF(AN40=\"\",\"\",AN40)","v":5},"－",{"$f":"IF(AL40=\"\",\"\",AL40)","v":0},null,null,null,null,null,null,null,null,{"$f":"COUNTIF(E42:AN43,\"○\")+COUNTIF(E42:AN43,\"×\")+COUNTIF(E42:AN43,\"△\")","v":8},{"$f":"COUNTIF(E42:AN43,\"○\")*3+COUNTIF(E42:AN43,\"△\")","v":22},{"$f":"IF(AS42=0,0,AT42/(AS42*3))","v":0.91666666666666663},{"$f":"SUM(F42,J42,N42,R42,V42,Z42,AD42,AH42,AL42,AP42)-SUM(H42,L42,P42,T42,X42,AB42,AF42,AJ42,AN42,AR42)","v":30},{"$f":"SUM(F42,J42,N42,R42,V42,Z42,AD42,AH42,AL42,AP42)","v":31},{"$f":"AU42+AV42*0.001+AW42*0.00001","v":0.94697666666666669},{"$f":"RANK(AX42,$AX$26:$AX$43)","v":1},{"$f":"RANK(AX42,$AX$4:$AX$85)","v":2}]
[{"$f":"INDIRECT(\"U12組合せ!f\"&(ROW()-1)/2-3)","v":"豊郷ＪＦＣ宇都宮"}]
[]
[{"$f":"A1","v":"ＪＦＡ　U-12サッカーリーグ2018（in栃木） 宇河地域リーグ戦（後期）　星取表"}]
[]
["Ｃブロック",null,null,null,{"$f":"A49","v":"清原ＳＳＳ"},null,null,null,{"$f":"A51","v":"ＦＣみらい Ｐ"},null,null,null,{"$f":"A53","v":"雀宮ＦＣ"},null,null,null,{"$f":"A55","v":"ＳＵＧＡＯ ＳＣ"},null,null,null,{"$f":"A57","v":"Ｓ４スペランツァ"},null,null,null,{"$f":"A59","v":"宇都宮北部ＦＣトレ"},null,null,null,{"$f":"A61","v":"上三川ＦＣ"},null,null,null,{"$f":"A63","v":"クラブチェルビアット"},null,null,null,{"$f":"A65","v":"ＦＣブロケード"},null,null,null,null,null,null,null,"試合数","勝ち点","勝ち点率","得失差","得点",null,"ブロック\n順位","総合\n順位"]
["C01",null,null,null,null,null,null,null,{"$f":"IF(OR(J48=\"\",L48=\"\"),\"\",IF(J48>L48,\"○\",IF(J48<L48,\"×\",IF(J48=L48,\"△\"))))","v":"○"},2,"－",1,{"$f":"IF(OR(N48=\"\",P48=\"\"),\"\",IF(N48>P48,\"○\",IF(N48<P48,\"×\",IF(N48=P48,\"△\"))))","v":"○"},1,"－",0,{"$f":"IF(OR(R48=\"\",T48=\"\"),\"\",IF(R48>T48,\"○\",IF(R48<T48,\"×\",IF(R48=T48,\"△\"))))","v":"○"},2,"－",1,{"$f":"IF(OR(V48=\"\",X48=\"\"),\"\",IF(V48>X48,\"○\",IF(V48<X48,\"×\",IF(V48=X48,\"△\"))))","v":"△"},4,"－",4,{"$f":"IF(OR(Z48=\"\",AB48=\"\"),\"\",IF(Z48>AB48,\"○\",IF(Z48<AB48,\"×\",IF(Z48=AB48,\"△\"))))","v":"○"},3,"－",0,{"$f":"IF(OR(AD48=\"\",AF48=\"\"),\"\",IF(AD48>AF48,\"○\",IF(AD48<AF48,\"×\",IF(AD48=AF48,\"△\"))))","v":"○"},6,"－",2,{"$f":"IF(OR(AH48=\"\",AJ48=\"\"),\"\",IF(AH48>AJ48,\"○\",IF(AH48<AJ48,\"×\",IF(AH48=AJ48,\"△\"))))","v":"△"},2,"－",2,{"$f":"IF(OR(AL48=\"\",AN48=\"\"),\"\",IF(AL48>AN48,\"○\",IF(AL48<AN48,\"×\",IF(AL48=AN48,\"△\"))))","v":"○"},9,"－",0,null,null,null,null,{"$f":"COUNTIF(E48:AN49,\"○\")+COUNTIF(E48:AN49,\"×\")+COUNTIF(E48:AN49,\"△\")","v":8},{"$f":"COUNTIF(E48:AN49,\"○\")*3+COUNTIF(E48:AN49,\"△\")","v":20},{"$f":"IF(AS48=0,0,AT48/(AS48*3))","v":0.83333333333333337},{"$f":"SUM(F48,J48,N48,R48,V48,Z48,AD48,AH48,AL48,AP48)-SUM(H48,L48,P48,T48,X48,AB48,AF48,AJ48,AN48,AR48)","v":19},{"$f":"SUM(F48,J48,N48,R48,V48,Z48,AD48,AH48,AL48,AP48)","v":29},{"$f":"AU48+AV48*0.001+AW48*0.00001","v":0.8526233333333334},{"$f":"RANK(AX48,$AX$48:$AX$65)","v":2},{"$f":"RANK(AX48,$AX$4:$AX$85)","v":6}]
[{"$f":"INDIRECT(\"U12組合せ!h\"&(ROW()-1)/2-14)","v":"清原ＳＳＳ"}]
["C02",null,null,null,{"$f":"IF(OR(F50=\"\",H50=\"\"),\"\",IF(F50>H50,\"○\",IF(F50<H50,\"×\",IF(F50=H50,\"△\"))))","v":"×"},{"$f":"IF(L48=\"\",\"\",L48)","v":1},"－",{"$f":"IF(J48=\"\",\"\",J48)","v":2},null,null,null,null,{"$f":"IF(OR(N50=\"\",P50=\"\"),\"\",IF(N50>P50,\"○\",IF(N50<P50,\"×\",IF(N50=P50,\"△\"))))","v":"○"},2,"－",1,{"$f":"IF(OR(R50=\"\",T50=\"\"),\"\",IF(R50>T50,\"○\",IF(R50<T50,\"×\",IF(R50=T50,\"△\"))))","v":"○"},2,"－",1,{"$f":"IF(OR(V50=\"\",X50=\"\"),\"\",IF(V50>X50,\"○\",IF(V50<X50,\"×\",IF(V50=X50,\"△\"))))","v":"○"},3,"－",0,{"$f":"IF(OR(Z50=\"\",AB50=\"\"),\"\",IF(Z50>AB50,\"○\",IF(Z50<AB50,\"×\",IF(Z50=AB50,\"△\"))))","v":"○"},5,"－",1,{"$f":"IF(OR(AD50=\"\",AF50=\"\"),\"\",IF(AD50>AF50,\"○\",IF(AD50<AF50,\"×\",IF(AD50=AF50,\"△\"))))","v":"○"},5,"－",0,{"$f":"IF(OR(AH50=\"\",AJ50=\"\"),\"\",IF(AH50>AJ50,\"○\",IF(AH50<AJ50,\"×\",IF(AH50=AJ50,\"△\"))))","v":"×"},1,"－",3,{"$f":"IF(OR(AL50=\"\",AN50=\"\"),\"\",IF(AL50>AN50,\"○\",IF(AL50<AN50,\"×\",IF(AL50=AN50,\"△\"))))","v":"○"},9,"－",0,null,null,null,null,{"$f":"COUNTIF(E50:AN51,\"○\")+COUNTIF(E50:AN51,\"×\")+COUNTIF(E50:AN51,\"△\")","v":8},{"$f":"COUNTIF(E50:AN51,\"○\")*3+COUNTIF(E50:AN51,\"△\")","v":18},{"$f":"IF(AS50=0,0,AT50/(AS50*3))","v":0.75},{"$f":"SUM(F50,J50,N50,R50,V50,Z50,AD50,AH50,AL50,AP50)-SUM(H50,L50,P50,T50,X50,AB50,AF50,AJ50,AN50,AR50)","v":20},{"$f":"SUM(F50,J50,N50,R50,V50,Z50,AD50,AH50,AL50,AP50)","v":28},{"$f":"AU50+AV50*0.001+AW50*0.00001","v":0.77027999999999996},{"$f":"RANK(AX50,$AX$48:$AX$65)","v":3},{"$f":"RANK(AX50,$AX$4:$AX$85)","v":11}]
[{"$f":"INDIRECT(\"U12組合せ!h\"&(ROW()-1)/2-14)","v":"ＦＣみらい Ｐ"}]
["C03",null,null,null,{"$f":"IF(OR(F52=\"\",H52=\"\"),\"\",IF(F52>H52,\"○\",IF(F52<H52,\"×\",IF(F52=H52,\"△\"))))","v":"×"},{"$f":"IF(P48=\"\",\"\",P48)","v":0},"－",{"$f":"IF(N48=\"\",\"\",N48)","v":1},{"$f":"IF(OR(J52=\"\",L52=\"\"),\"\",IF(J52>L52,\"○\",IF(J52<L52,\"×\",IF(J52=L52,\"△\"))))","v":"×"},{"$f":"IF(P50=\"\",\"\",P50)","v":1},"－",{"$f":"IF(N50=\"\",\"\",N50)","v":2},null,null,null,null,{"$f":"IF(OR(R52=\"\",T52=\"\"),\"\",IF(R52>T52,\"○\",IF(R52<T52,\"×\",IF(R52=T52,\"△\"))))","v":"×"},1,"－",2,{"$f":"IF(OR(V52=\"\",X52=\"\"),\"\",IF(V52>X52,\"○\",IF(V52<X52,\"×\",IF(V52=X52,\"△\"))))","v":"×"},0,"－",5,{"$f":"IF(OR(Z52=\"\",AB52=\"\"),\"\",IF(Z52>AB52,\"○\",IF(Z52<AB52,\"×\",IF(Z52=AB52,\"△\"))))","v":"×"},1,"－",2,{"$f":"IF(OR(AD52=\"\",AF52=\"\"),\"\",IF(AD52>AF52,\"○\",IF(AD52<AF52,\"×\",IF(AD52=AF52,\"△\"))))","v":"○"},4,"－",1,{"$f":"IF(OR(AH52=\"\",AJ52=\"\"),\"\",IF(AH52>AJ52,\"○\",IF(AH52<AJ52,\"×\",IF(AH52=AJ52,\"△\"))))","v":"×"},0,"－",5,{"$f":"IF(OR(AL52=\"\",AN52=\"\"),\"\",IF(AL52>AN52,\"○\",IF(AL52<AN52,\"×\",IF(AL52=AN52,\"△\"))))","v":"○"},3,"－",0,null,null,null,null,{"$f":"COUNTIF(E52:AN53,\"○\")+COUNTIF(E52:AN53,\"×\")+COUNTIF(E52:AN53,\"△\")","v":8},{"$f":"COUNTIF(E52:AN53,\"○\")*3+COUNTIF(E52:AN53,\"△\")","v":6},{"$f":"IF(AS52=0,0,AT52/(AS52*3))","v":0.25},{"$f":"SUM(F52,J52,N52,R52,V52,Z52,AD52,AH52,AL52,AP52)-SUM(H52,L52,P52,T52,X52,AB52,AF52,AJ52,AN52,AR52)","v":-8},{"$f":"SUM(F52,J52,N52,R52,V52,Z52,AD52,AH52,AL52,AP52)","v":10},{"$f":"AU52+AV52*0.001+AW52*0.00001","v":0.24209999999999998},{"$f":"RANK(AX52,$AX$48:$AX$65)","v":7},{"$f":"RANK(AX52,$AX$4:$AX$85)","v":27}]
[{"$f":"INDIRECT(\"U12組合せ!h\"&(ROW()-1)/2-14)","v":"雀宮ＦＣ"}]
["C04",null,null,null,{"$f":"IF(OR(F54=\"\",H54=\"\"),\"\",IF(F54>H54,\"○\",IF(F54<H54,\"×\",IF(F54=H54,\"△\"))))","v":"×"},{"$f":"IF(T48=\"\",\"\",T48)","v":1},"－",{"$f":"IF(R48=\"\",\"\",R48)","v":2},{"$f":"IF(OR(J54=\"\",L54=\"\"),\"\",IF(J54>L54,\"○\",IF(J54<L54,\"×\",IF(J54=L54,\"△\"))))","v":"×"},{"$f":"IF(T50=\"\",\"\",T50)","v":1},"－",{"$f":"IF(R50=\"\",\"\",R50)","v":2},{"$f":"IF(OR(N54=\"\",P54=\"\"),\"\",IF(N54>P54,\"○\",IF(N54<P54,\"×\",IF(N54=P54,\"△\"))))","v":"○"},{"$f":"IF(T52=\"\",\"\",T52)","v":2},"－",{"$f":"IF(R52=\"\",\"\",R52)","v":1},null,null,null,null,{"$f":"IF(OR(V54=\"\",X54=\"\"),\"\",IF(V54>X54,\"○\",IF(V54<X54,\"×\",IF(V54=X54,\"△\"))))","v":"○"},4,"－",2,{"$f":"IF(OR(Z54=\"\",AB54=\"\"),\"\",IF(Z54>AB54,\"○\",IF(Z54<AB54,\"×\",IF(Z54=AB54,\"△\"))))","v":"△"},2,"－",2,{"$f":"IF(OR(AD54=\"\",AF54=\"\"),\"\",IF(AD54>AF54,\"○\",IF(AD54<AF54,\"×\",IF(AD54=AF54,\"△\"))))","v":"○"},5,"－",0,{"$f":"IF(OR(AH54=\"\",AJ54=\"\"),\"\",IF(AH54>AJ54,\"○\",IF(AH54<AJ54,\"×\",IF(AH54=AJ54,\"△\"))))","v":"×"},0,"－",3,{"$f":"IF(OR(AL54=\"\",AN54=\"\"),\"\",IF(AL54>AN54,\"○\",IF(AL54<AN54,\"×\",IF(AL54=AN54,\"△\"))))","v":"○"},3,"－",0,null,null,null,null,{"$f":"COUNTIF(E54:AN55,\"○\")+COUNTIF(E54:AN55,\"×\")+COUNTIF(E54:AN55,\"△\")","v":8},{"$f":"COUNTIF(E54:AN55,\"○\")*3+COUNTIF(E54:AN55,\"△\")","v":13},{"$f":"IF(AS54=0,0,AT54/(AS54*3))","v":0.54166666666666663},{"$f":"SUM(F54,J54,N54,R54,V54,Z54,AD54,AH54,AL54,AP54)-SUM(H54,L54,P54,T54,X54,AB54,AF54,AJ54,AN54,AR54)","v":6},{"$f":"SUM(F54,J54,N54,R54,V54,Z54,AD54,AH54,AL54,AP54)","v":18},{"$f":"AU54+AV54*0.001+AW54*0.00001","v":0.54784666666666659},{"$f":"RANK(AX54,$AX$48:$AX$65)","v":5},{"$f":"RANK(AX54,$AX$4:$AX$85)","v":19}]
[{"$f":"INDIRECT(\"U12組合せ!h\"&(ROW()-1)/2-14)","v":"ＳＵＧＡＯ ＳＣ"}]
["C05",null,null,null,{"$f":"IF(OR(F56=\"\",H56=\"\"),\"\",IF(F56>H56,\"○\",IF(F56<H56,\"×\",IF(F56=H56,\"△\"))))","v":"△"},{"$f":"IF(X48=\"\",\"\",X48)","v":4},"－",{"$f":"IF(V48=\"\",\"\",V48)","v":4},{"$f":"IF(OR(J56=\"\",L56=\"\"),\"\",IF(J56>L56,\"○\",IF(J56<L56,\"×\",IF(J56=L56,\"△\"))))","v":"×"},{"$f":"IF(X50=\"\",\"\",X50)","v":0},"－",{"$f":"IF(V50=\"\",\"\",V50)","v":3},{"$f":"IF(OR(N56=\"\",P56=\"\"),\"\",IF(N56>P56,\"○\",IF(N56<P56,\"×\",IF(N56=P56,\"△\"))))","v":"○"},{"$f":"IF(X52=\"\",\"\",X52)","v":5},"－",{"$f":"IF(V52=\"\",\"\",V52)","v":0},{"$f":"IF(OR(R56=\"\",T56=\"\"),\"\",IF(R56>T56,\"○\",IF(R56<T56,\"×\",IF(R56=T56,\"△\"))))","v":"×"},{"$f":"IF(X54=\"\",\"\",X54)","v":2},"－",{"$f":"IF(V54=\"\",\"\",V54)","v":4},null,null,null,null,{"$f":"IF(OR(Z56=\"\",AB56=\"\"),\"\",IF(Z56>AB56,\"○\",IF(Z56<AB56,\"×\",IF(Z56=AB56,\"△\"))))","v":"○"},2,"－",0,{"$f":"IF(OR(AD56=\"\",AF56=\"\"),\"\",IF(AD56>AF56,\"○\",IF(AD56<AF56,\"×\",IF(AD56=AF56,\"△\"))))","v":"○"},3,"－",1,{"$f":"IF(OR(AH56=\"\",AJ56=\"\"),\"\",IF(AH56>AJ56,\"○\",IF(AH56<AJ56,\"×\",IF(AH56=AJ56,\"△\"))))","v":"×"},1,"－",3,{"$f":"IF(OR(AL56=\"\",AN56=\"\"),\"\",IF(AL56>AN56,\"○\",IF(AL56<AN56,\"×\",IF(AL56=AN56,\"△\"))))","v":"○"},7,"－",0,null,null,null,null,{"$f":"COUNTIF(E56:AN57,\"○\")+COUNTIF(E56:AN57,\"×\")+COUNTIF(E56:AN57,\"△\")","v":8},{"$f":"COUNTIF(E56:AN57,\"○\")*3+COUNTIF(E56:AN57,\"△\")","v":13},{"$f":"IF(AS56=0,0,AT56/(AS56*3))","v":0.54166666666666663},{"$f":"SUM(F56,J56,N56,R56,V56,Z56,AD56,AH56,AL56,AP56)-SUM(H56,L56,P56,T56,X56,AB56,AF56,AJ56,AN56,AR56)","v":9},{"$f":"SUM(F56,J56,N56,R56,V56,Z56,AD56,AH56,AL56,AP56)","v":24},{"$f":"AU56+AV56*0.001+AW56*0.00001","v":0.55090666666666666},{"$f":"RANK(AX56,$AX$48:$AX$65)","v":4},{"$f":"RANK(AX56,$AX$4:$AX$85)","v":17}]
[{"$f":"INDIRECT(\"U12組合せ!h\"&(ROW()-1)/2-14)","v":"Ｓ４スペランツァ"}]
["C06",null,null,null,{"$f":"IF(OR(F58=\"\",H58=\"\"),\"\",IF(F58>H58,\"○\",IF(F58<H58,\"×\",IF(F58=H58,\"△\"))))","v":"×"},{"$f":"IF(AB48=\"\",\"\",AB48)","v":0},"－",{"$f":"IF(Z48=\"\",\"\",Z48)","v":3},{"$f":"IF(OR(J58=\"\",L58=\"\"),\"\",IF(J58>L58,\"○\",IF(J58<L58,\"×\",IF(J58=L58,\"△\"))))","v":"×"},{"$f":"IF(AB50=\"\",\"\",AB50)","v":1},"－",{"$f":"IF(Z50=\"\",\"\",Z50)","v":5},{"$f":"IF(OR(N58=\"\",P58=\"\"),\"\",IF(N58>P58,\"○\",IF(N58<P58,\"×\",IF(N58=P58,\"△\"))))","v":"○"},{"$f":"IF(AB52=\"\",\"\",AB52)","v":2},"－",{"$f":"IF(Z52=\"\",\"\",Z52)","v":1},{"$f":"IF(OR(R58=\"\",T58=\"\"),\"\",IF(R58>T58,\"○\",IF(R58<T58,\"×\",IF(R58=T58,\"△\"))))","v":"△"},{"$f":"IF(AB54=\"\",\"\",AB54)","v":2},"－",{"$f":"IF(Z54=\"\",\"\",Z54)","v":2},{"$f":"IF(OR(V58=\"\",X58=\"\"),\"\",IF(V58>X58,\"○\",IF(V58<X58,\"×\",IF(V58=X58,\"△\"))))","v":"×"},{"$f":"IF(AB56=\"\",\"\",AB56)","v":0},"－",{"$f":"IF(Z56=\"\",\"\",Z56)","v":2},null,null,null,null,{"$f":"IF(OR(AD58=\"\",AF58=\"\"),\"\",IF(AD58>AF58,\"○\",IF(AD58<AF58,\"×\",IF(AD58=AF58,\"△\"))))","v":"○"},4,"－",2,{"$f":"IF(OR(AH58=\"\",AJ58=\"\"),\"\",IF(AH58>AJ58,\"○\",IF(AH58<AJ58,\"×\",IF(AH58=AJ58,\"△\"))))","v":"×"},0,"－",4,{"$f":"IF(OR(AL58=\"\",AN58=\"\"),\"\",IF(AL58>AN58,\"○\",IF(AL58<AN58,\"×\",IF(AL58=AN58,\"△\"))))","v":"○"},7,"－",1,null,null,null,null,{"$f":"COUNTIF(E58:AN59,\"○\")+COUNTIF(E58:AN59,\"×\")+COUNTIF(E58:AN59,\"△\")","v":8},{"$f":"COUNTIF(E58:AN59,\"○\")*3+COUNTIF(E58:AN59,\"△\")","v":10},{"$f":"IF(AS58=0,0,AT58/(AS58*3))","v":0.41666666666666669},{"$f":"SUM(F58,J58,N58,R58,V58,Z58,AD58,AH58,AL58,AP58)-SUM(H58,L58,P58,T58,X58,AB58,AF58,AJ58,AN58,AR58)","v":-4},{"$f":"SUM(F58,J58,N58,R58,V58,Z58,AD58,AH58,AL58,AP58)","v":16},{"$f":"AU58+AV58*0.001+AW58*0.00001","v":0.41282666666666668},{"$f":"RANK(AX58,$AX$48:$AX$65)","v":6},{"$f":"RANK(AX58,$AX$4:$AX$85)","v":23}]
[{"$f":"INDIRECT(\"U12組合せ!h\"&(ROW()-1)/2-14)","v":"宇都宮北部ＦＣトレ"}]
["C07",null,null,null,{"$f":"IF(OR(F60=\"\",H60=\"\"),\"\",IF(F60>H60,\"○\",IF(F60<H60,\"×\",IF(F60=H60,\"△\"))))","v":"×"},{"$f":"IF(AF48=\"\",\"\",AF48)","v":2},"－",{"$f":"IF(AD48=\"\",\"\",AD48)","v":6},{"$f":"IF(OR(J60=\"\",L60=\"\"),\"\",IF(J60>L60,\"○\",IF(J60<L60,\"×\",IF(J60=L60,\"△\"))))","v":"×"},{"$f":"IF(AF50=\"\",\"\",AF50)","v":0},"－",{"$f":"IF(AD50=\"\",\"\",AD50)","v":5},{"$f":"IF(OR(N60=\"\",P60=\"\"),\"\",IF(N60>P60,\"○\",IF(N60<P60,\"×\",IF(N60=P60,\"△\"))))","v":"×"},{"$f":"IF(AF52=\"\",\"\",AF52)","v":1},"－",{"$f":"IF(AD52=\"\",\"\",AD52)","v":4},{"$f":"IF(OR(R60=\"\",T60=\"\"),\"\",IF(R60>T60,\"○\",IF(R60<T60,\"×\",IF(R60=T60,\"△\"))))","v":"×"},{"$f":"IF(AF54=\"\",\"\",AF54)","v":0},"－",{"$f":"IF(AD54=\"\",\"\",AD54)","v":5},{"$f":"IF(OR(V60=\"\",X60=\"\"),\"\",IF(V60>X60,\"○\",IF(V60<X60,\"×\",IF(V60=X60,\"△\"))))","v":"×"},{"$f":"IF(AF56=\"\",\"\",AF56)","v":1},"－",{"$f":"IF(AD56=\"\",\"\",AD56)","v":3},{"$f":"IF(OR(Z60=\"\",AB60=\"\"),\"\",IF(Z60>AB60,\"○\",IF(Z60<AB60,\"×\",IF(Z60=AB60,\"△\"))))","v":"×"},{"$f":"IF(AF58=\"\",\"\",AF58)","v":2},"－",{"$f":"IF(AD58=\"\",\"\",AD58)","v":4},null,null,null,null,{"$f":"IF(OR(AH60=\"\",AJ60=\"\"),\"\",IF(AH60>AJ60,\"○\",IF(AH60<AJ60,\"×\",IF(AH60=AJ60,\"△\"))))","v":"×"},0,"－",7,{"$f":"IF(OR(AL60=\"\",AN60=\"\"),\"\",IF(AL60>AN60,\"○\",IF(AL60<AN60,\"×\",IF(AL60=AN60,\"△\"))))","v":"○"},4,"－",0,null,null,null,null,{"$f":"COUNTIF(E60:AN61,\"○\")+COUNTIF(E60:AN61,\"×\")+COUNTIF(E60:AN61,\"△\")","v":8},{"$f":"COUNTIF(E60:AN61,\"○\")*3+COUNTIF(E60:AN61,\"△\")","v":3},{"$f":"IF(AS60=0,0,AT60/(AS60*3))","v":0.125},{"$f":"SUM(F60,J60,N60,R60,V60,Z60,AD60,AH60,AL60,AP60)-SUM(H60,L60,P60,T60,X60,AB60,AF60,AJ60,AN60,AR60)","v":-24},{"$f":"SUM(F60,J60,N60,R60,V60,Z60,AD60,AH60,AL60,AP60)","v":10},{"$f":"AU60+AV60*0.001+AW60*0.00001","v":0.10110000000000001},{"$f":"RANK(AX60,$AX$48:$AX$65)","v":8},{"$f":"RANK(AX60,$AX$4:$AX$85)","v":32}]
[{"$f":"INDIRECT(\"U12組合せ!h\"&(ROW()-1)/2-14)","v":"上三川ＦＣ"}]
["C08",null,null,null,{"$f":"IF(OR(F62=\"\",H62=\"\"),\"\",IF(F62>H62,\"○\",IF(F62<H62,\"×\",IF(F62=H62,\"△\"))))","v":"△"},{"$f":"IF(AJ48=\"\",\"\",AJ48)","v":2},"－",{"$f":"IF(AH48=\"\",\"\",AH48)","v":2},{"$f":"IF(OR(J62=\"\",L62=\"\"),\"\",IF(J62>L62,\"○\",IF(J62<L62,\"×\",IF(J62=L62,\"△\"))))","v":"○"},{"$f":"IF(AJ50=\"\",\"\",AJ50)","v":3},"－",{"$f":"IF(AH50=\"\",\"\",AH50)","v":1},{"$f":"IF(OR(N62=\"\",P62=\"\"),\"\",IF(N62>P62,\"○\",IF(N62<P62,\"×\",IF(N62=P62,\"△\"))))","v":"○"},{"$f":"IF(AJ52=\"\",\"\",AJ52)","v":5},"－",{"$f":"IF(AH52=\"\",\"\",AH52)","v":0},{"$f":"IF(OR(R62=\"\",T62=\"\"),\"\",IF(R62>T62,\"○\",IF(R62<T62,\"×\",IF(R62=T62,\"△\"))))","v":"○"},{"$f":"IF(AJ54=\"\",\"\",AJ54)","v":3},"－",{"$f":"IF(AH54=\"\",\"\",AH54)","v":0},{"$f":"IF(OR(V62=\"\",X62=\"\"),\"\",IF(V62>X62,\"○\",IF(V62<X62,\"×\",IF(V62=X62,\"△\"))))","v":"○"},{"$f":"IF(AJ56=\"\",\"\",AJ56)","v":3},"－",{"$f":"IF(AH56=\"\",\"\",AH56)","v":1},{"$f":"IF(OR(Z62=\"\",AB62=\"\"),\"\",IF(Z62>AB62,\"○\",IF(Z62<AB62,\"×\",IF(Z62=AB62,\"△\"))))","v":"○"},{"$f":"IF(AJ58=\"\",\"\",AJ58)","v":4},"－",{"$f":"IF(AH58=\"\",\"\",AH58)","v":0},{"$f":"IF(OR(AD62=\"\",AF62=\"\"),\"\",IF(AD62>AF62,\"○\",IF(AD62<AF62,\"×\",IF(AD62=AF62,\"△\"))))","v":"○"},{"$f":"IF(AJ60=\"\",\"\",AJ60)","v":7},"－",{"$f":"IF(AH60=\"\",\"\",AH60)","v":0},null,null,null,null,{"$f":"IF(OR(AL62=\"\",AN62=\"\"),\"\",IF(AL62>AN62,\"○\",IF(AL62<AN62,\"×\",IF(AL62=AN62,\"△\"))))","v":"○"},7,"－",0,null,null,null,null,{"$f":"COUNTIF(E62:AN63,\"○\")+COUNTIF(E62:AN63,\"×\")+COUNTIF(E62:AN63,\"△\")","v":8},{"$f":"COUNTIF(E62:AN63,\"○\")*3+COUNTIF(E62:AN63,\"△\")","v":22},{"$f":"IF(AS62=0,0,AT62/(AS62*3))","v":0.91666666666666663},{"$f":"SUM(F62,J62,N62,R62,V62,Z62,AD62,AH62,AL62,AP62)-SUM(H62,L62,P62,T62,X62,AB62,AF62,AJ62,AN62,AR62)","v":30},{"$f":"SUM(F62,J62,N62,R62,V62,Z62,AD62,AH62,AL62,AP62)","v":34},{"$f":"AU62+AV62*0.001+AW62*0.00001","v":0.94700666666666666},{"$f":"RANK(AX62,$AX$48:$AX$65)","v":1},{"$f":"RANK(AX62,$AX$4:$AX$85)","v":1}]
[{"$f":"INDIRECT(\"U12組合せ!h\"&(ROW()-1)/2-14)","v":"クラブチェルビアット"}]
["C09",null,null,null,{"$f":"IF(OR(F64=\"\",H64=\"\"),\"\",IF(F64>H64,\"○\",IF(F64<H64,\"×\",IF(F64=H64,\"△\"))))","v":"×"},{"$f":"IF(AN48=\"\",\"\",AN48)","v":0},"－",{"$f":"IF(AL48=\"\",\"\",AL48)","v":9},{"$f":"IF(OR(J64=\"\",L64=\"\"),\"\",IF(J64>L64,\"○\",IF(J64<L64,\"×\",IF(J64=L64,\"△\"))))","v":"×"},{"$f":"IF(AN50=\"\",\"\",AN50)","v":0},"－",{"$f":"IF(AL50=\"\",\"\",AL50)","v":9},{"$f":"IF(OR(N64=\"\",P64=\"\"),\"\",IF(N64>P64,\"○\",IF(N64<P64,\"×\",IF(N64=P64,\"△\"))))","v":"×"},{"$f":"IF(AN52=\"\",\"\",AN52)","v":0},"－",{"$f":"IF(AL52=\"\",\"\",AL52)","v":3},{"$f":"IF(OR(R64=\"\",T64=\"\"),\"\",IF(R64>T64,\"○\",IF(R64<T64,\"×\",IF(R64=T64,\"△\"))))","v":"×"},{"$f":"IF(AN54=\"\",\"\",AN54)","v":0},"－",{"$f":"IF(AL54=\"\",\"\",AL54)","v":3},{"$f":"IF(OR(V64=\"\",X64=\"\"),\"\",IF(V64>X64,\"○\",IF(V64<X64,\"×\",IF(V64=X64,\"△\"))))","v":"×"},{"$f":"IF(AN56=\"\",\"\",AN56)","v":0},"－",{"$f":"IF(AL56=\"\",\"\",AL56)","v":7},{"$f":"IF(OR(Z64=\"\",AB64=\"\"),\"\",IF(Z64>AB64,\"○\",IF(Z64<AB64,\"×\",IF(Z64=AB64,\"△\"))))","v":"×"},{"$f":"IF(AN58=\"\",\"\",AN58)","v":1},"－",{"$f":"IF(AL58=\"\",\"\",AL58)","v":7},{"$f":"IF(OR(AD64=\"\",AF64=\"\"),\"\",IF(AD64>AF64,\"○\",IF(AD64<AF64,\"×\",IF(AD64=AF64,\"△\"))))","v":"×"},{"$f":"IF(AN60=\"\",\"\",AN60)","v":0},"－",{"$f":"IF(AL60=\"\",\"\",AL60)","v":4},{"$f":"IF(OR(AH64=\"\",AJ64=\"\"),\"\",IF(AH64>AJ64,\"○\",IF(AH64<AJ64,\"×\",IF(AH64=AJ64,\"△\"))))","v":"×"},{"$f":"IF(AN62=\"\",\"\",AN62)","v":0},"－",{"$f":"IF(AL62=\"\",\"\",AL62)","v":7},null,null,null,null,null,null,null,null,{"$f":"COUNTIF(E64:AN65,\"○\")+COUNTIF(E64:AN65,\"×\")+COUNTIF(E64:AN65,\"△\")","v":8},{"$f":"COUNTIF(E64:AN65,\"○\")*3+COUNTIF(E64:AN65,\"△\")","v":0},{"$f":"IF(AS64=0,0,AT64/(AS64*3))","v":0},{"$f":"SUM(F64,J64,N64,R64,V64,Z64,AD64,AH64,AL64,AP64)-SUM(H64,L64,P64,T64,X64,AB64,AF64,AJ64,AN64,AR64)","v":-48},{"$f":"SUM(F64,J64,N64,R64,V64,Z64,AD64,AH64,AL64,AP64)","v":1},{"$f":"AU64+AV64*0.001+AW64*0.00001","v":-4.7989999999999998E-2},{"$f":"RANK(AX64,$AX$48:$AX$65)","v":9},{"$f":"RANK(AX64,$AX$4:$AX$85)","v":37}]
[{"$f":"INDIRECT(\"U12組合せ!h\"&(ROW()-1)/2-14)","v":"ＦＣブロケード"}]
[]
["Ｄブロック",null,null,null,{"$f":"A69","v":"上河内ＪＳＣ"},null,null,null,{"$f":"A71","v":"上三川ＳＣ"},null,null,null,{"$f":"A73","v":"緑が丘ＹＦＣ"},null,null,null,{"$f":"A75","v":"泉ＦＣ宇都宮"},null,null,null,{"$f":"A77","v":"国本ＪＳＣ"},null,null,null,{"$f":"A79","v":"本郷北ＦＣ"},null,null,null,{"$f":"A81","v":"ＦＣペンサーレ"},null,null,null,{"$f":"A83","v":"ブラッドレスＳＳ"},null,null,null,{"$f":"A85","v":"ともぞうＳＣ・Ｂ"},null,null,null,null,null,null,null,"試合数","勝ち点","勝ち点率","得失差","得点",null,"ブロック\n順位","総合\n順位"]
["D01",null,null,null,null,null,null,null,{"$f":"IF(OR(J68=\"\",L68=\"\"),\"\",IF(J68>L68,\"○\",IF(J68<L68,\"×\",IF(J68=L68,\"△\"))))","v":"○"},5,"－",0,{"$f":"IF(OR(N68=\"\",P68=\"\"),\"\",IF(N68>P68,\"○\",IF(N68<P68,\"×\",IF(N68=P68,\"△\"))))","v":"○"},7,"－",1,{"$f":"IF(OR(R68=\"\",T68=\"\"),\"\",IF(R68>T68,\"○\",IF(R68<T68,\"×\",IF(R68=T68,\"△\"))))","v":"○"},5,"－",0,{"$f":"IF(OR(V68=\"\",X68=\"\"),\"\",IF(V68>X68,\"○\",IF(V68<X68,\"×\",IF(V68=X68,\"△\"))))","v":"○"},2,"－",1,{"$f":"IF(OR(Z68=\"\",AB68=\"\"),\"\",IF(Z68>AB68,\"○\",IF(Z68<AB68,\"×\",IF(Z68=AB68,\"△\"))))","v":"○"},5,"－",0,{"$f":"IF(OR(AD68=\"\",AF68=\"\"),\"\",IF(AD68>AF68,\"○\",IF(AD68<AF68,\"×\",IF(AD68=AF68,\"△\"))))","v":"△"},1,"－",1,{"$f":"IF(OR(AH68=\"\",AJ68=\"\"),\"\",IF(AH68>AJ68,\"○\",IF(AH68<AJ68,\"×\",IF(AH68=AJ68,\"△\"))))","v":"×"},0,"－",1,{"$f":"IF(OR(AL68=\"\",AN68=\"\"),\"\",IF(AL68>AN68,\"○\",IF(AL68<AN68,\"×\",IF(AL68=AN68,\"△\"))))","v":"○"},1,"－",0,null,null,null,null,{"$f":"COUNTIF(E68:AN69,\"○\")+COUNTIF(E68:AN69,\"×\")+COUNTIF(E68:AN69,\"△\")","v":8},{"$f":"COUNTIF(E68:AN69,\"○\")*3+COUNTIF(E68:AN69,\"△\")","v":19},{"$f":"IF(AS68=0,0,AT68/(AS68*3))","v":0.79166666666666663},{"$f":"SUM(F68,J68,N68,R68,V68,Z68,AD68,AH68,AL68,AP68)-SUM(H68,L68,P68,T68,X68,AB68,AF68,AJ68,AN68,AR68)","v":22},{"$f":"SUM(F68,J68,N68,R68,V68,Z68,AD68,AH68,AL68,AP68)","v":26},{"$f":"AU68+AV68*0.001+AW68*0.00001","v":0.81392666666666669},{"$f":"RANK(AX68,$AX$68:$AX$85)","v":1},{"$f":"RANK(AX68,$AX$4:$AX$85)","v":8}]
[{"$f":"INDIRECT(\"U12組合せ!j\"&(ROW()-1)/2-24)","v":"上河内ＪＳＣ"}]
["D02",null,null,null,{"$f":"IF(OR(F70=\"\",H70=\"\"),\"\",IF(F70>H70,\"○\",IF(F70<H70,\"×\",IF(F70=H70,\"△\"))))","v":"×"},{"$f":"IF(L68=\"\",\"\",L68)","v":0},"－",{"$f":"IF(J68=\"\",\"\",J68)","v":5},null,null,null,null,{"$f":"IF(OR(N70=\"\",P70=\"\"),\"\",IF(N70>P70,\"○\",IF(N70<P70,\"×\",IF(N70=P70,\"△\"))))","v":"×"},0,"－",3,{"$f":"IF(OR(R70=\"\",T70=\"\"),\"\",IF(R70>T70,\"○\",IF(R70<T70,\"×\",IF(R70=T70,\"△\"))))","v":"○"},4,"－",0,{"$f":"IF(OR(V70=\"\",X70=\"\"),\"\",IF(V70>X70,\"○\",IF(V70<X70,\"×\",IF(V70=X70,\"△\"))))","v":"△"},4,"－",4,{"$f":"IF(OR(Z70=\"\",AB70=\"\"),\"\",IF(Z70>AB70,\"○\",IF(Z70<AB70,\"×\",IF(Z70=AB70,\"△\"))))","v":"×"},0,"－",1,{"$f":"IF(OR(AD70=\"\",AF70=\"\"),\"\",IF(AD70>AF70,\"○\",IF(AD70<AF70,\"×\",IF(AD70=AF70,\"△\"))))","v":"×"},0,"－",6,{"$f":"IF(OR(AH70=\"\",AJ70=\"\"),\"\",IF(AH70>AJ70,\"○\",IF(AH70<AJ70,\"×\",IF(AH70=AJ70,\"△\"))))","v":"×"},1,"－",4,{"$f":"IF(OR(AL70=\"\",AN70=\"\"),\"\",IF(AL70>AN70,\"○\",IF(AL70<AN70,\"×\",IF(AL70=AN70,\"△\"))))","v":"×"},0,"－",4,null,null,null,null,{"$f":"COUNTIF(E70:AN71,\"○\")+COUNTIF(E70:AN71,\"×\")+COUNTIF(E70:AN71,\"△\")","v":8},{"$f":"COUNTIF(E70:AN71,\"○\")*3+COUNTIF(E70:AN71,\"△\")","v":4},{"$f":"IF(AS70=0,0,AT70/(AS70*3))","v":0.16666666666666666},{"$f":"SUM(F70,J70,N70,R70,V70,Z70,AD70,AH70,AL70,AP70)-SUM(H70,L70,P70,T70,X70,AB70,AF70,AJ70,AN70,AR70)","v":-18},{"$f":"SUM(F70,J70,N70,R70,V70,Z70,AD70,AH70,AL70,AP70)","v":9},{"$f":"AU70+AV70*0.001+AW70*0.00001","v":0.14875666666666668},{"$f":"RANK(AX70,$AX$68:$AX$85)","v":8},{"$f":"RANK(AX70,$AX$4:$AX$85)","v":29}]
[{"$f":"INDIRECT(\"U12組合せ!j\"&(ROW()-1)/2-24)","v":"上三川ＳＣ"}]
["D03",null,null,null,{"$f":"IF(OR(F72=\"\",H72=\"\"),\"\",IF(F72>H72,\"○\",IF(F72<H72,\"×\",IF(F72=H72,\"△\"))))","v":"×"},{"$f":"IF(P68=\"\",\"\",P68)","v":1},"－",{"$f":"IF(N68=\"\",\"\",N68)","v":7},{"$f":"IF(OR(J72=\"\",L72=\"\"),\"\",IF(J72>L72,\"○\",IF(J72<L72,\"×\",IF(J72=L72,\"△\"))))","v":"○"},{"$f":"IF(P70=\"\",\"\",P70)","v":3},"－",{"$f":"IF(N70=\"\",\"\",N70)","v":0},null,null,null,null,{"$f":"IF(OR(R72=\"\",T72=\"\"),\"\",IF(R72>T72,\"○\",IF(R72<T72,\"×\",IF(R72=T72,\"△\"))))","v":"○"},5,"－",0,{"$f":"IF(OR(V72=\"\",X72=\"\"),\"\",IF(V72>X72,\"○\",IF(V72<X72,\"×\",IF(V72=X72,\"△\"))))","v":"○"},1,"－",0,{"$f":"IF(OR(Z72=\"\",AB72=\"\"),\"\",IF(Z72>AB72,\"○\",IF(Z72<AB72,\"×\",IF(Z72=AB72,\"△\"))))","v":"△"},1,"－",1,{"$f":"IF(OR(AD72=\"\",AF72=\"\"),\"\",IF(AD72>AF72,\"○\",IF(AD72<AF72,\"×\",IF(AD72=AF72,\"△\"))))","v":"○"},3,"－",0,{"$f":"IF(OR(AH72=\"\",AJ72=\"\"),\"\",IF(AH72>AJ72,\"○\",IF(AH72<AJ72,\"×\",IF(AH72=AJ72,\"△\"))))","v":"○"},3,"－",2,{"$f":"IF(OR(AL72=\"\",AN72=\"\"),\"\",IF(AL72>AN72,\"○\",IF(AL72<AN72,\"×\",IF(AL72=AN72,\"△\"))))","v":"○"},1,"－",0,null,null,null,null,{"$f":"COUNTIF(E72:AN73,\"○\")+COUNTIF(E72:AN73,\"×\")+COUNTIF(E72:AN73,\"△\")","v":8},{"$f":"COUNTIF(E72:AN73,\"○\")*3+COUNTIF(E72:AN73,\"△\")","v":19},{"$f":"IF(AS72=0,0,AT72/(AS72*3))","v":0.79166666666666663},{"$f":"SUM(F72,J72,N72,R72,V72,Z72,AD72,AH72,AL72,AP72)-SUM(H72,L72,P72,T72,X72,AB72,AF72,AJ72,AN72,AR72)","v":8},{"$f":"SUM(F72,J72,N72,R72,V72,Z72,AD72,AH72,AL72,AP72)","v":18},{"$f":"AU72+AV72*0.001+AW72*0.00001","v":0.79984666666666659},{"$f":"RANK(AX72,$AX$68:$AX$85)","v":3},{"$f":"RANK(AX72,$AX$4:$AX$85)","v":10}]
[{"$f":"INDIRECT(\"U12組合せ!j\"&(ROW()-1)/2-24)","v":"緑が丘ＹＦＣ"}]
["D04",null,null,null,{"$f":"IF(OR(F74=\"\",H74=\"\"),\"\",IF(F74>H74,\"○\",IF(F74<H74,\"×\",IF(F74=H74,\"△\"))))","v":"×"},{"$f":"IF(T68=\"\",\"\",T68)","v":0},"－",{"$f":"IF(R68=\"\",\"\",R68)","v":5},{"$f":"IF(OR(J74=\"\",L74=\"\"),\"\",IF(J74>L74,\"○\",IF(J74<L74,\"×\",IF(J74=L74,\"△\"))))","v":"×"},{"$f":"IF(T70=\"\",\"\",T70)","v":0},"－",{"$f":"IF(R70=\"\",\"\",R70)","v":4},{"$f":"IF(OR(N74=\"\",P74=\"\"),\"\",IF(N74>P74,\"○\",IF(N74<P74,\"×\",IF(N74=P74,\"△\"))))","v":"×"},{"$f":"IF(T72=\"\",\"\",T72)","v":0},"－",{"$f":"IF(R72=\"\",\"\",R72)","v":5},null,null,null,null,{"$f":"IF(OR(V74=\"\",X74=\"\"),\"\",IF(V74>X74,\"○\",IF(V74<X74,\"×\",IF(V74=X74,\"△\"))))","v":"×"},1,"－",9,{"$f":"IF(OR(Z74=\"\",AB74=\"\"),\"\",IF(Z74>AB74,\"○\",IF(Z74<AB74,\"×\",IF(Z74=AB74,\"△\"))))","v":"×"},0,"－",7,{"$f":"IF(OR(AD74=\"\",AF74=\"\"),\"\",IF(AD74>AF74,\"○\",IF(AD74<AF74,\"×\",IF(AD74=AF74,\"△\"))))","v":"×"},0,"－",5,{"$f":"IF(OR(AH74=\"\",AJ74=\"\"),\"\",IF(AH74>AJ74,\"○\",IF(AH74<AJ74,\"×\",IF(AH74=AJ74,\"△\"))))","v":"×"},0,"－",10,{"$f":"IF(OR(AL74=\"\",AN74=\"\"),\"\",IF(AL74>AN74,\"○\",IF(AL74<AN74,\"×\",IF(AL74=AN74,\"△\"))))","v":"×"},0,"－",2,null,null,null,null,{"$f":"COUNTIF(E74:AN75,\"○\")+COUNTIF(E74:AN75,\"×\")+COUNTIF(E74:AN75,\"△\")","v":8},{"$f":"COUNTIF(E74:AN75,\"○\")*3+COUNTIF(E74:AN75,\"△\")","v":0},{"$f":"IF(AS74=0,0,AT74/(AS74*3))","v":0},{"$f":"SUM(F74,J74,N74,R74,V74,Z74,AD74,AH74,AL74,AP74)-SUM(H74,L74,P74,T74,X74,AB74,AF74,AJ74,AN74,AR74)","v":-46},{"$f":"SUM(F74,J74,N74,R74,V74,Z74,AD74,AH74,AL74,AP74)","v":1},{"$f":"AU74+AV74*0.001+AW74*0.00001","v":-4.5989999999999996E-2},{"$f":"RANK(AX74,$AX$68:$AX$85)","v":9},{"$f":"RANK(AX74,$AX$4:$AX$85)","v":36}]
[{"$f":"INDIRECT(\"U12組合せ!j\"&(ROW()-1)/2-24)","v":"泉ＦＣ宇都宮"}]
["D05",null,null,null,{"$f":"IF(OR(F76=\"\",H76=\"\"),\"\",IF(F76>H76,\"○\",IF(F76<H76,\"×\",IF(F76=H76,\"△\"))))","v":"×"},{"$f":"IF(X68=\"\",\"\",X68)","v":1},"－",{"$f":"IF(V68=\"\",\"\",V68)","v":2},{"$f":"IF(OR(J76=\"\",L76=\"\"),\"\",IF(J76>L76,\"○\",IF(J76<L76,\"×\",IF(J76=L76,\"△\"))))","v":"△"},{"$f":"IF(X70=\"\",\"\",X70)","v":4},"－",{"$f":"IF(V70=\"\",\"\",V70)","v":4},{"$f":"IF(OR(N76=\"\",P76=\"\"),\"\",IF(N76>P76,\"○\",IF(N76<P76,\"×\",IF(N76=P76,\"△\"))))","v":"×"},{"$f":"IF(X72=\"\",\"\",X72)","v":0},"－",{"$f":"IF(V72=\"\",\"\",V72)","v":1},{"$f":"IF(OR(R76=\"\",T76=\"\"),\"\",IF(R76>T76,\"○\",IF(R76<T76,\"×\",IF(R76=T76,\"△\"))))","v":"○"},{"$f":"IF(X74=\"\",\"\",X74)","v":9},"－",{"$f":"IF(V74=\"\",\"\",V74)","v":1},null,null,null,null,{"$f":"IF(OR(Z76=\"\",AB76=\"\"),\"\",IF(Z76>AB76,\"○\",IF(Z76<AB76,\"×\",IF(Z76=AB76,\"△\"))))","v":"×"},1,"－",2,{"$f":"IF(OR(AD76=\"\",AF76=\"\"),\"\",IF(AD76>AF76,\"○\",IF(AD76<AF76,\"×\",IF(AD76=AF76,\"△\"))))","v":"×"},1,"－",2,{"$f":"IF(OR(AH76=\"\",AJ76=\"\"),\"\",IF(AH76>AJ76,\"○\",IF(AH76<AJ76,\"×\",IF(AH76=AJ76,\"△\"))))","v":"×"},1,"－",3,{"$f":"IF(OR(AL76=\"\",AN76=\"\"),\"\",IF(AL76>AN76,\"○\",IF(AL76<AN76,\"×\",IF(AL76=AN76,\"△\"))))","v":"×"},1,"－",3,null,null,null,null,{"$f":"COUNTIF(E76:AN77,\"○\")+COUNTIF(E76:AN77,\"×\")+COUNTIF(E76:AN77,\"△\")","v":8},{"$f":"COUNTIF(E76:AN77,\"○\")*3+COUNTIF(E76:AN77,\"△\")","v":4},{"$f":"IF(AS76=0,0,AT76/(AS76*3))","v":0.16666666666666666},{"$f":"SUM(F76,J76,N76,R76,V76,Z76,AD76,AH76,AL76,AP76)-SUM(H76,L76,P76,T76,X76,AB76,AF76,AJ76,AN76,AR76)","v":0},{"$f":"SUM(F76,J76,N76,R76,V76,Z76,AD76,AH76,AL76,AP76)","v":18},{"$f":"AU76+AV76*0.001+AW76*0.00001","v":0.16684666666666667},{"$f":"RANK(AX76,$AX$68:$AX$85)","v":7},{"$f":"RANK(AX76,$AX$4:$AX$85)","v":28}]
[{"$f":"INDIRECT(\"U12組合せ!j\"&(ROW()-1)/2-24)","v":"国本ＪＳＣ"}]
["D06",null,null,null,{"$f":"IF(OR(F78=\"\",H78=\"\"),\"\",IF(F78>H78,\"○\",IF(F78<H78,\"×\",IF(F78=H78,\"△\"))))","v":"×"},{"$f":"IF(AB68=\"\",\"\",AB68)","v":0},"－",{"$f":"IF(Z68=\"\",\"\",Z68)","v":5},{"$f":"IF(OR(J78=\"\",L78=\"\"),\"\",IF(J78>L78,\"○\",IF(J78<L78,\"×\",IF(J78=L78,\"△\"))))","v":"○"},{"$f":"IF(AB70=\"\",\"\",AB70)","v":1},"－",{"$f":"IF(Z70=\"\",\"\",Z70)","v":0},{"$f":"IF(OR(N78=\"\",P78=\"\"),\"\",IF(N78>P78,\"○\",IF(N78<P78,\"×\",IF(N78=P78,\"△\"))))","v":"△"},{"$f":"IF(AB72=\"\",\"\",AB72)","v":1},"－",{"$f":"IF(Z72=\"\",\"\",Z72)","v":1},{"$f":"IF(OR(R78=\"\",T78=\"\"),\"\",IF(R78>T78,\"○\",IF(R78<T78,\"×\",IF(R78=T78,\"△\"))))","v":"○"},{"$f":"IF(AB74=\"\",\"\",AB74)","v":7},"－",{"$f":"IF(Z74=\"\",\"\",Z74)","v":0},{"$f":"IF(OR(V78=\"\",X78=\"\"),\"\",IF(V78>X78,\"○\",IF(V78<X78,\"×\",IF(V78=X78,\"△\"))))","v":"○"},{"$f":"IF(AB76=\"\",\"\",AB76)","v":2},"－",{"$f":"IF(Z76=\"\",\"\",Z76)","v":1},null,null,null,null,{"$f":"IF(OR(AD78=\"\",AF78=\"\"),\"\",IF(AD78>AF78,\"○\",IF(AD78<AF78,\"×\",IF(AD78=AF78,\"△\"))))","v":"○"},1,"－",0,{"$f":"IF(OR(AH78=\"\",AJ78=\"\"),\"\",IF(AH78>AJ78,\"○\",IF(AH78<AJ78,\"×\",IF(AH78=AJ78,\"△\"))))","v":"×"},0,"－",2,{"$f":"IF(OR(AL78=\"\",AN78=\"\"),\"\",IF(AL78>AN78,\"○\",IF(AL78<AN78,\"×\",IF(AL78=AN78,\"△\"))))","v":"○"},1,"－",0,null,null,null,null,{"$f":"COUNTIF(E78:AN79,\"○\")+COUNTIF(E78:AN79,\"×\")+COUNTIF(E78:AN79,\"△\")","v":8},{"$f":"COUNTIF(E78:AN79,\"○\")*3+COUNTIF(E78:AN79,\"△\")","v":16},{"$f":"IF(AS78=0,0,AT78/(AS78*3))","v":0.66666666666666663},{"$f":"SUM(F78,J78,N78,R78,V78,Z78,AD78,AH78,AL78,AP78)-SUM(H78,L78,P78,T78,X78,AB78,AF78,AJ78,AN78,AR78)","v":4},{"$f":"SUM(F78,J78,N78,R78,V78,Z78,AD78,AH78,AL78,AP78)","v":13},{"$f":"AU78+AV78*0.001+AW78*0.00001","v":0.6707966666666666},{"$f":"RANK(AX78,$AX$68:$AX$85)","v":4},{"$f":"RANK(AX78,$AX$4:$AX$85)","v":13}]
[{"$f":"INDIRECT(\"U12組合せ!j\"&(ROW()-1)/2-24)","v":"本郷北ＦＣ"}]
["D07",null,null,null,{"$f":"IF(OR(F80=\"\",H80=\"\"),\"\",IF(F80>H80,\"○\",IF(F80<H80,\"×\",IF(F80=H80,\"△\"))))","v":"△"},{"$f":"IF(AF68=\"\",\"\",AF68)","v":1},"－",{"$f":"IF(AD68=\"\",\"\",AD68)","v":1},{"$f":"IF(OR(J80=\"\",L80=\"\"),\"\",IF(J80>L80,\"○\",IF(J80<L80,\"×\",IF(J80=L80,\"△\"))))","v":"○"},{"$f":"IF(AF70=\"\",\"\",AF70)","v":6},"－",{"$f":"IF(AD70=\"\",\"\",AD70)","v":0},{"$f":"IF(OR(N80=\"\",P80=\"\"),\"\",IF(N80>P80,\"○\",IF(N80<P80,\"×\",IF(N80=P80,\"△\"))))","v":"×"},{"$f":"IF(AF72=\"\",\"\",AF72)","v":0},"－",{"$f":"IF(AD72=\"\",\"\",AD72)","v":3},{"$f":"IF(OR(R80=\"\",T80=\"\"),\"\",IF(R80>T80,\"○\",IF(R80<T80,\"×\",IF(R80=T80,\"△\"))))","v":"○"},{"$f":"IF(AF74=\"\",\"\",AF74)","v":5},"－",{"$f":"IF(AD74=\"\",\"\",AD74)","v":0},{"$f":"IF(OR(V80=\"\",X80=\"\"),\"\",IF(V80>X80,\"○\",IF(V80<X80,\"×\",IF(V80=X80,\"△\"))))","v":"○"},{"$f":"IF(AF76=\"\",\"\",AF76)","v":2},"－",{"$f":"IF(AD76=\"\",\"\",AD76)","v":1},{"$f":"IF(OR(Z80=\"\",AB80=\"\"),\"\",IF(Z80>AB80,\"○\",IF(Z80<AB80,\"×\",IF(Z80=AB80,\"△\"))))","v":"×"},{"$f":"IF(AF78=\"\",\"\",AF78)","v":0},"－",{"$f":"IF(AD78=\"\",\"\",AD78)","v":1},null,null,null,null,{"$f":"IF(OR(AH80=\"\",AJ80=\"\"),\"\",IF(AH80>AJ80,\"○\",IF(AH80<AJ80,\"×\",IF(AH80=AJ80,\"△\"))))","v":"×"},1,"－",5,{"$f":"IF(OR(AL80=\"\",AN80=\"\"),\"\",IF(AL80>AN80,\"○\",IF(AL80<AN80,\"×\",IF(AL80=AN80,\"△\"))))","v":"×"},0,"－",4,null,null,null,null,{"$f":"COUNTIF(E80:AN81,\"○\")+COUNTIF(E80:AN81,\"×\")+COUNTIF(E80:AN81,\"△\")","v":8},{"$f":"COUNTIF(E80:AN81,\"○\")*3+COUNTIF(E80:AN81,\"△\")","v":10},{"$f":"IF(AS80=0,0,AT80/(AS80*3))","v":0.41666666666666669},{"$f":"SUM(F80,J80,N80,R80,V80,Z80,AD80,AH80,AL80,AP80)-SUM(H80,L80,P80,T80,X80,AB80,AF80,AJ80,AN80,AR80)","v":0},{"$f":"SUM(F80,J80,N80,R80,V80,Z80,AD80,AH80,AL80,AP80)","v":15},{"$f":"AU80+AV80*0.001+AW80*0.00001","v":0.41681666666666667},{"$f":"RANK(AX80,$AX$68:$AX$85)","v":6},{"$f":"RANK(AX80,$AX$4:$AX$85)","v":22}]
[{"$f":"INDIRECT(\"U12組合せ!j\"&(ROW()-1)/2-24)","v":"ＦＣペンサーレ"}]
["D08",null,null,null,{"$f":"IF(OR(F82=\"\",H82=\"\"),\"\",IF(F82>H82,\"○\",IF(F82<H82,\"×\",IF(F82=H82,\"△\"))))","v":"○"},{"$f":"IF(AJ68=\"\",\"\",AJ68)","v":1},"－",{"$f":"IF(AH68=\"\",\"\",AH68)","v":0},{"$f":"IF(OR(J82=\"\",L82=\"\"),\"\",IF(J82>L82,\"○\",IF(J82<L82,\"×\",IF(J82=L82,\"△\"))))","v":"○"},{"$f":"IF(AJ70=\"\",\"\",AJ70)","v":4},"－",{"$f":"IF(AH70=\"\",\"\",AH70)","v":1},{"$f":"IF(OR(N82=\"\",P82=\"\"),\"\",IF(N82>P82,\"○\",IF(N82<P82,\"×\",IF(N82=P82,\"△\"))))","v":"×"},{"$f":"IF(AJ72=\"\",\"\",AJ72)","v":2},"－",{"$f":"IF(AH72=\"\",\"\",AH72)","v":3},{"$f":"IF(OR(R82=\"\",T82=\"\"),\"\",IF(R82>T82,\"○\",IF(R82<T82,\"×\",IF(R82=T82,\"△\"))))","v":"○"},{"$f":"IF(AJ74=\"\",\"\",AJ74)","v":10},"－",{"$f":"IF(AH74=\"\",\"\",AH74)","v":0},{"$f":"IF(OR(V82=\"\",X82=\"\"),\"\",IF(V82>X82,\"○\",IF(V82<X82,\"×\",IF(V82=X82,\"△\"))))","v":"○"},{"$f":"IF(AJ76=\"\",\"\",AJ76)","v":3},"－",{"$f":"IF(AH76=\"\",\"\",AH76)","v":1},{"$f":"IF(OR(Z82=\"\",AB82=\"\"),\"\",IF(Z82>AB82,\"○\",IF(Z82<AB82,\"×\",IF(Z82=AB82,\"△\"))))","v":"○"},{"$f":"IF(AJ78=\"\",\"\",AJ78)","v":2},"－",{"$f":"IF(AH78=\"\",\"\",AH78)","v":0},{"$f":"IF(OR(AD82=\"\",AF82=\"\"),\"\",IF(AD82>AF82,\"○\",IF(AD82<AF82,\"×\",IF(AD82=AF82,\"△\"))))","v":"○"},{"$f":"IF(AJ80=\"\",\"\",AJ80)","v":5},"－",{"$f":"IF(AH80=\"\",\"\",AH80)","v":1},null,null,null,null,{"$f":"IF(OR(AL82=\"\",AN82=\"\"),\"\",IF(AL82>AN82,\"○\",IF(AL82<AN82,\"×\",IF(AL82=AN82,\"△\"))))","v":"△"},0,"－",0,null,null,null,null,{"$f":"COUNTIF(E82:AN83,\"○\")+COUNTIF(E82:AN83,\"×\")+COUNTIF(E82:AN83,\"△\")","v":8},{"$f":"COUNTIF(E82:AN83,\"○\")*3+COUNTIF(E82:AN83,\"△\")","v":19},{"$f":"IF(AS82=0,0,AT82/(AS82*3))","v":0.79166666666666663},{"$f":"SUM(F82,J82,N82,R82,V82,Z82,AD82,AH82,AL82,AP82)-SUM(H82,L82,P82,T82,X82,AB82,AF82,AJ82,AN82,AR82)","v":21},{"$f":"SUM(F82,J82,N82,R82,V82,Z82,AD82,AH82,AL82,AP82)","v":27},{"$f":"AU82+AV82*0.001+AW82*0.00001","v":0.81293666666666664},{"$f":"RANK(AX82,$AX$68:$AX$85)","v":2},{"$f":"RANK(AX82,$AX$4:$AX$85)","v":9}]
[{"$f":"INDIRECT(\"U12組合せ!j\"&(ROW()-1)/2-24)","v":"ブラッドレスＳＳ"}]
["D09",null,null,null,{"$f":"IF(OR(F84=\"\",H84=\"\"),\"\",IF(F84>H84,\"○\",IF(F84<H84,\"×\",IF(F84=H84,\"△\"))))","v":"×"},{"$f":"IF(AN68=\"\",\"\",AN68)","v":0},"－",{"$f":"IF(AL68=\"\",\"\",AL68)","v":1},{"$f":"IF(OR(J84=\"\",L84=\"\"),\"\",IF(J84>L84,\"○\",IF(J84<L84,\"×\",IF(J84=L84,\"△\"))))","v":"○"},{"$f":"IF(AN70=\"\",\"\",AN70)","v":4},"－",{"$f":"IF(AL70=\"\",\"\",AL70)","v":0},{"$f":"IF(OR(N84=\"\",P84=\"\"),\"\",IF(N84>P84,\"○\",IF(N84<P84,\"×\",IF(N84=P84,\"△\"))))","v":"×"},{"$f":"IF(AN72=\"\",\"\",AN72)","v":0},"－",{"$f":"IF(AL72=\"\",\"\",AL72)","v":1},{"$f":"IF(OR(R84=\"\",T84=\"\"),\"\",IF(R84>T84,\"○\",IF(R84<T84,\"×\",IF(R84=T84,\"△\"))))","v":"○"},{"$f":"IF(AN74=\"\",\"\",AN74)","v":2},"－",{"$f":"IF(AL74=\"\",\"\",AL74)","v":0},{"$f":"IF(OR(V84=\"\",X84=\"\"),\"\",IF(V84>X84,\"○\",IF(V84<X84,\"×\",IF(V84=X84,\"△\"))))","v":"○"},{"$f":"IF(AN76=\"\",\"\",AN76)","v":3},"－",{"$f":"IF(AL76=\"\",\"\",AL76)","v":1},{"$f":"IF(OR(Z84=\"\",AB84=\"\"),\"\",IF(Z84>AB84,\"○\",IF(Z84<AB84,\"×\",IF(Z84=AB84,\"△\"))))","v":"×"},{"$f":"IF(AN78=\"\",\"\",AN78)","v":0},"－",{"$f":"IF(AL78=\"\",\"\",AL78)","v":1},{"$f":"IF(OR(AD84=\"\",AF84=\"\"),\"\",IF(AD84>AF84,\"○\",IF(AD84<AF84,\"×\",IF(AD84=AF84,\"△\"))))","v":"○"},{"$f":"IF(AN80=\"\",\"\",AN80)","v":4},"－",{"$f":"IF(AL80=\"\",\"\",AL80)","v":0},{"$f":"IF(OR(AH84=\"\",AJ84=\"\"),\"\",IF(AH84>AJ84,\"○\",IF(AH84<AJ84,\"×\",IF(AH84=AJ84,\"△\"))))","v":"△"},{"$f":"IF(AN82=\"\",\"\",AN82)","v":0},"－",{"$f":"IF(AL82=\"\",\"\",AL82)","v":0},null,null,null,null,null,null,null,null,{"$f":"COUNTIF(E84:AN85,\"○\")+COUNTIF(E84:AN85,\"×\")+COUNTIF(E84:AN85,\"△\")","v":8},{"$f":"COUNTIF(E84:AN85,\"○\")*3+COUNTIF(E84:AN85,\"△\")","v":13},{"$f":"IF(AS84=0,0,AT84/(AS84*3))","v":0.54166666666666663},{"$f":"SUM(F84,J84,N84,R84,V84,Z84,AD84,AH84,AL84,AP84)-SUM(H84,L84,P84,T84,X84,AB84,AF84,AJ84,AN84,AR84)","v":9},{"$f":"SUM(F84,J84,N84,R84,V84,Z84,AD84,AH84,AL84,AP84)","v":13},{"$f":"AU84+AV84*0.001+AW84*0.00001","v":0.5507966666666666},{"$f":"RANK(AX84,$AX$68:$AX$85)","v":5},{"$f":"RANK(AX84,$AX$4:$AX$85)","v":18}]
[{"$f":"INDIRECT(\"U12組合せ!j\"&(ROW()-1)/2-24)","v":"ともぞうＳＣ・Ｂ"}]

{"sheet":"U１2順位 ","index":9,"n_rows":42,"n_cols":12,"rows_kept":42,"cut":false,"hidden":false,"merged":[[5,10,15,10],[0,0,0,11],[4,1,4,2],[3,0,3,11],[1,0,1,11],[2,0,2,11]]}
["ＪＦＡ　U-12サッカーリーグ2018（in栃木） 宇河地域リーグ戦（後期）"]
["順位表　（９/１７  全節終了時）"]
[]
["順位 ＝（ 勝ち点率 ＋ 得失差×0.0001 ＋ 得点×0.000001　）　の降順　　　※勝ち点率＝勝ち点÷（試合数×３）"]
[null,"チーム",null,"勝ち点","試合数","勝ち点率","得失差","得点",null,"順位",null,{"$f":"IF(J$17<>J$18,\"\",IF(J5=J$17,\"出場候補\",\"\"))","v":""}]
[1,{"$f":"■!A28","v":"C08"},{"$f":"■!B28","v":"クラブチェルビアット"},{"$f":"■!C28","v":22},{"$f":"■!D28","v":8},{"$f":"IF(E6=0,0,D6/(E6*3))","v":0.91666666666666663},{"$f":"■!F28","v":30},{"$f":"■!G28","v":34},{"$f":"F6+G6*0.0001+H6*0.000001","v":0.91970066666666661},{"$f":"RANK(I6,$I$6:$I$42,0)&\"位\"","v":"1位"},"県大会出場",{"$f":"IF(J$16<>J$17,\"\",IF(J6=J$16,\"出場候補\",\"\"))","v":""}]
[2,{"$f":"■!A20","v":"B09"},{"$f":"■!B20","v":"豊郷ＪＦＣ宇都宮"},{"$f":"■!C20","v":22},{"$f":"■!D20","v":8},0.91666666666666663,{"$f":"■!F20","v":30},{"$f":"■!G20","v":31},0.91969766666666664,"2位",null,{"$f":"IF(J$16<>J$17,\"\",IF(J7=J$16,\"出場候補\",\"\"))","v":""}]
[3,{"$f":"■!A10","v":"A09"},{"$f":"■!B10","v":"カテット白沢ＳＳ"},{"$f":"■!C10","v":24},{"$f":"■!D10","v":9},0.88888888888888884,{"$f":"■!F10","v":34},{"$f":"■!G10","v":39},0.89232788888888881,"3位",null,""]
[4,{"$f":"■!A18","v":"B07"},{"$f":"■!B18","v":"ＦＣ Ｒｉｓｏ"},{"$f":"■!C18","v":21},{"$f":"■!D18","v":8},0.875,{"$f":"■!F18","v":20},{"$f":"■!G18","v":22},0.87702199999999997,"4位",null,""]
[5,{"$f":"■!A21","v":"C01"},{"$f":"■!B21","v":"清原ＳＳＳ"},{"$f":"■!C21","v":20},{"$f":"■!D21","v":8},0.83333333333333337,{"$f":"■!F21","v":19},{"$f":"■!G21","v":29},0.83526233333333333,"5位",null,""]
[6,{"$f":"■!A3","v":"A02"},{"$f":"■!B3","v":"細谷ＳＣ"},{"$f":"■!C3","v":22},{"$f":"■!D3","v":9},0.81481481481481477,{"$f":"■!F3","v":43},{"$f":"■!G3","v":50},0.81916481481481473,"6位",null,""]
[7,{"$f":"■!A2","v":"A01"},{"$f":"■!B2","v":"石井ＦＣ"},{"$f":"■!C2","v":22},{"$f":"■!D2","v":9},0.81481481481481477,{"$f":"■!F2","v":25},{"$f":"■!G2","v":31},0.81734581481481472,"7位",null,""]
[8,{"$f":"■!A30","v":"D01"},{"$f":"■!B30","v":"上河内ＪＳＣ"},{"$f":"■!C30","v":19},{"$f":"■!D30","v":8},0.79166666666666663,{"$f":"■!F30","v":22},{"$f":"■!G30","v":26},0.79389266666666658,"8位",null,""]
[9,{"$f":"■!A37","v":"D08"},{"$f":"■!B37","v":"ブラッドレスＳＳ"},{"$f":"■!C37","v":19},{"$f":"■!D37","v":8},0.79166666666666663,{"$f":"■!F37","v":21},{"$f":"■!G37","v":27},0.79379366666666662,"9位",null,""]
[10,{"$f":"■!A32","v":"D03"},{"$f":"■!B32","v":"緑が丘ＹＦＣ"},{"$f":"■!C32","v":19},{"$f":"■!D32","v":8},0.79166666666666663,{"$f":"■!F32","v":8},{"$f":"■!G32","v":18},0.79248466666666662,"10位",null,""]
[11,{"$f":"■!A22","v":"C02"},{"$f":"■!B22","v":"ＦＣみらい Ｐ"},{"$f":"■!C22","v":18},{"$f":"■!D22","v":8},0.75,{"$f":"■!F22","v":20},{"$f":"■!G22","v":28},0.75202800000000003,"11位",null,""]
[12,{"$f":"■!A7","v":"A06"},{"$f":"■!B7","v":"ＦＣグラシアス"},{"$f":"■!C7","v":18},{"$f":"■!D7","v":9},0.66666666666666663,{"$f":"■!F7","v":16},{"$f":"■!G7","v":33},0.66829966666666663,"12位",null,""]
[13,{"$f":"■!A35","v":"D06"},{"$f":"■!B35","v":"本郷北ＦＣ"},{"$f":"■!C35","v":16},{"$f":"■!D35","v":8},0.66666666666666663,{"$f":"■!F35","v":4},{"$f":"■!G35","v":13},0.66707966666666663,"13位",null,""]
[14,{"$f":"■!A14","v":"B03"},{"$f":"■!B14","v":"ｕｎｉｏｎ ｓｃ"},{"$f":"■!C14","v":15},{"$f":"■!D14","v":8},0.625,{"$f":"■!F14","v":6},{"$f":"■!G14","v":16},0.62561600000000006,"14位",null,""]
[15,{"$f":"■!A11","v":"A10"},{"$f":"■!B11","v":"ＦＣアリーバ"},{"$f":"■!C11","v":16},{"$f":"■!D11","v":9},0.59259259259259256,{"$f":"■!F11","v":17},{"$f":"■!G11","v":27},0.59431959259259259,"15位",null,""]
[16,{"$f":"■!A16","v":"B05"},{"$f":"■!B16","v":"昭和・戸祭ＳＣ"},{"$f":"■!C16","v":14},{"$f":"■!D16","v":8},0.58333333333333337,{"$f":"■!F16","v":1},{"$f":"■!G16","v":11},0.58344433333333334,"16位",null,""]
[17,{"$f":"■!A25","v":"C05"},{"$f":"■!B25","v":"Ｓ４スペランツァ"},{"$f":"■!C25","v":13},{"$f":"■!D25","v":8},0.54166666666666663,{"$f":"■!F25","v":9},{"$f":"■!G25","v":24},0.54259066666666667,"17位",null,""]
[18,{"$f":"■!A38","v":"D09"},{"$f":"■!B38","v":"ともぞうＳＣ・Ｂ"},{"$f":"■!C38","v":13},{"$f":"■!D38","v":8},0.54166666666666663,{"$f":"■!F38","v":9},{"$f":"■!G38","v":13},0.54257966666666668,"18位",null,""]
[19,{"$f":"■!A24","v":"C04"},{"$f":"■!B24","v":"ＳＵＧＡＯ ＳＣ"},{"$f":"■!C24","v":13},{"$f":"■!D24","v":8},0.54166666666666663,{"$f":"■!F24","v":6},{"$f":"■!G24","v":18},0.54228466666666664,"19位",null,""]
[20,{"$f":"■!A6","v":"A05"},{"$f":"■!B6","v":"ＦＣグランディール宇都宮"},{"$f":"■!C6","v":13},{"$f":"■!D6","v":9},0.48148148148148145,{"$f":"■!F6","v":1},{"$f":"■!G6","v":19},0.48160048148148143,"20位",null,""]
[21,{"$f":"■!A17","v":"B06"},{"$f":"■!B17","v":"サウス宇都宮ＳＣ"},{"$f":"■!C17","v":10},{"$f":"■!D17","v":8},0.41666666666666669,{"$f":"■!F17","v":1},{"$f":"■!G17","v":12},0.41677866666666669,"21位",null,""]
[22,{"$f":"■!A36","v":"D07"},{"$f":"■!B36","v":"ＦＣペンサーレ"},{"$f":"■!C36","v":10},{"$f":"■!D36","v":8},0.41666666666666669,{"$f":"■!F36","v":0},{"$f":"■!G36","v":15},0.41668166666666667,"22位",null,""]
[23,{"$f":"■!A26","v":"C06"},{"$f":"■!B26","v":"宇都宮北部ＦＣトレ"},{"$f":"■!C26","v":10},{"$f":"■!D26","v":8},0.41666666666666669,{"$f":"■!F26","v":-4},{"$f":"■!G26","v":16},0.41628266666666669,"23位",null,""]
[24,{"$f":"■!A13","v":"B02"},{"$f":"■!B13","v":"宝木キッカーズ"},{"$f":"■!C13","v":10},{"$f":"■!D13","v":8},0.41666666666666669,{"$f":"■!F13","v":-7},{"$f":"■!G13","v":10},0.41597666666666672,"24位",null,""]
[25,{"$f":"■!A9","v":"A08"},{"$f":"■!B9","v":"シャルムグランツＳＣ"},{"$f":"■!C9","v":9},{"$f":"■!D9","v":9},0.33333333333333331,{"$f":"■!F9","v":-18},{"$f":"■!G9","v":14},0.33154733333333331,"25位",null,""]
[26,{"$f":"■!A12","v":"B01"},{"$f":"■!B12","v":"姿川第一ＦＣ"},{"$f":"■!C12","v":7},{"$f":"■!D12","v":8},0.29166666666666669,{"$f":"■!F12","v":-7},{"$f":"■!G12","v":5},0.29097166666666668,"26位",null,""]
[27,{"$f":"■!A23","v":"C03"},{"$f":"■!B23","v":"雀宮ＦＣ"},{"$f":"■!C23","v":6},{"$f":"■!D23","v":8},0.25,{"$f":"■!F23","v":-8},{"$f":"■!G23","v":10},0.24921000000000001,"27位",null,""]
[28,{"$f":"■!A34","v":"D05"},{"$f":"■!B34","v":"国本ＪＳＣ"},{"$f":"■!C34","v":4},{"$f":"■!D34","v":8},0.16666666666666666,{"$f":"■!F34","v":0},{"$f":"■!G34","v":18},0.16668466666666665,"28位",null,""]
[29,{"$f":"■!A31","v":"D02"},{"$f":"■!B31","v":"上三川ＳＣ"},{"$f":"■!C31","v":4},{"$f":"■!D31","v":8},0.16666666666666666,{"$f":"■!F31","v":-18},{"$f":"■!G31","v":9},0.16487566666666667,"29位",null,""]
[30,{"$f":"■!A19","v":"B08"},{"$f":"■!B19","v":"富士見ＳＳＳ"},{"$f":"■!C19","v":4},{"$f":"■!D19","v":8},0.16666666666666666,{"$f":"■!F19","v":-22},{"$f":"■!G19","v":3},0.16446966666666665,"30位",null,""]
[31,{"$f":"■!A8","v":"A07"},{"$f":"■!B8","v":"岡本ＦＣ"},{"$f":"■!C8","v":4},{"$f":"■!D8","v":9},0.14814814814814814,{"$f":"■!F8","v":-22},{"$f":"■!G8","v":7},0.14595514814814814,"31位",null,""]
[32,{"$f":"■!A5","v":"A04"},{"$f":"■!B5","v":"岡西ＦＣ"},{"$f":"■!C5","v":4},{"$f":"■!D5","v":9},0.14814814814814814,{"$f":"■!F5","v":-53},{"$f":"■!G5","v":9},0.14285714814814815,"32位",null,""]
[33,{"$f":"■!A27","v":"C07"},{"$f":"■!B27","v":"上三川ＦＣ"},{"$f":"■!C27","v":3},{"$f":"■!D27","v":8},0.125,{"$f":"■!F27","v":-24},{"$f":"■!G27","v":10},0.12261,"33位",null,""]
[34,{"$f":"■!A15","v":"B04"},{"$f":"■!B15","v":"河内ＳＣジュベニール"},{"$f":"■!C15","v":1},{"$f":"■!D15","v":8},4.1666666666666664E-2,{"$f":"■!F15","v":-18},{"$f":"■!G15","v":1},3.9867666666666662E-2,"34位",null,""]
[35,{"$f":"■!A4","v":"A03"},{"$f":"■!B4","v":"ＦＣみらい Ｖ"},{"$f":"■!C4","v":0},{"$f":"■!D4","v":9},0,{"$f":"■!F4","v":-43},{"$f":"■!G4","v":2},-4.2979999999999997E-3,"35位",null,""]
[36,{"$f":"■!A33","v":"D04"},{"$f":"■!B33","v":"泉ＦＣ宇都宮"},{"$f":"■!C33","v":0},{"$f":"■!D33","v":8},0,{"$f":"■!F33","v":-46},{"$f":"■!G33","v":1},-4.5989999999999998E-3,"36位",null,""]
[37,{"$f":"■!A29","v":"C09"},{"$f":"■!B29","v":"ＦＣブロケード"},{"$f":"■!C29","v":0},{"$f":"■!D29","v":8},0,{"$f":"■!F29","v":-48},{"$f":"■!G29","v":1},-4.7990000000000003E-3,"37位",null,""]